BEGIN:VCALENDAR
VERSION:2.0
PRODID:-//Eastern Competitive Trail Ride Association - ECPv6.15.20//NONSGML v1.0//EN
CALSCALE:GREGORIAN
METHOD:PUBLISH
X-WR-CALNAME:Eastern Competitive Trail Ride Association
X-ORIGINAL-URL:https://www.ectra.org
X-WR-CALDESC:Events for Eastern Competitive Trail Ride Association
REFRESH-INTERVAL;VALUE=DURATION:PT1H
X-Robots-Tag:noindex
X-PUBLISHED-TTL:PT1H
BEGIN:VTIMEZONE
TZID:America/New_York
BEGIN:DAYLIGHT
TZOFFSETFROM:-0500
TZOFFSETTO:-0400
TZNAME:EDT
DTSTART:20210314T070000
END:DAYLIGHT
BEGIN:STANDARD
TZOFFSETFROM:-0400
TZOFFSETTO:-0500
TZNAME:EST
DTSTART:20211107T060000
END:STANDARD
BEGIN:DAYLIGHT
TZOFFSETFROM:-0500
TZOFFSETTO:-0400
TZNAME:EDT
DTSTART:20220313T070000
END:DAYLIGHT
BEGIN:STANDARD
TZOFFSETFROM:-0400
TZOFFSETTO:-0500
TZNAME:EST
DTSTART:20221106T060000
END:STANDARD
BEGIN:DAYLIGHT
TZOFFSETFROM:-0500
TZOFFSETTO:-0400
TZNAME:EDT
DTSTART:20230312T070000
END:DAYLIGHT
BEGIN:STANDARD
TZOFFSETFROM:-0400
TZOFFSETTO:-0500
TZNAME:EST
DTSTART:20231105T060000
END:STANDARD
END:VTIMEZONE
BEGIN:VEVENT
DTSTART;TZID=America/New_York:20220913T190000
DTEND;TZID=America/New_York:20220913T210000
DTSTAMP:20260425T233914
CREATED:20220523T014816Z
LAST-MODIFIED:20220523T175805Z
UID:9382-1663095600-1663102800@www.ectra.org
SUMMARY:Board Meeting
DESCRIPTION:If you’d like to attend the board meeting via Zoom please contact Carolyn Blocker \nJoin Zoom Meeting\nhttps://us02web.zoom.us/j/89486699170?pwd=Q2w0eW91VGV1cHVCYUlOTVNGM3k5QT09 
URL:https://www.ectra.org/event/board-meeting-6/
LOCATION:Zoom
CATEGORIES:Meeting
ORGANIZER;CN="Carolyn Blocker":MAILTO:Eagleonvineyard@msn.com
END:VEVENT
END:VCALENDAR