BEGIN:VCALENDAR
VERSION:2.0
PRODID:-//Eastern Competitive Trail Ride Association - ECPv6.15.20//NONSGML v1.0//EN
CALSCALE:GREGORIAN
METHOD:PUBLISH
X-ORIGINAL-URL:https://www.ectra.org
X-WR-CALDESC:Events for Eastern Competitive Trail Ride Association
REFRESH-INTERVAL;VALUE=DURATION:PT1H
X-Robots-Tag:noindex
X-PUBLISHED-TTL:PT1H
BEGIN:VTIMEZONE
TZID:America/New_York
BEGIN:DAYLIGHT
TZOFFSETFROM:-0500
TZOFFSETTO:-0400
TZNAME:EDT
DTSTART:20190310T070000
END:DAYLIGHT
BEGIN:STANDARD
TZOFFSETFROM:-0400
TZOFFSETTO:-0500
TZNAME:EST
DTSTART:20191103T060000
END:STANDARD
BEGIN:DAYLIGHT
TZOFFSETFROM:-0500
TZOFFSETTO:-0400
TZNAME:EDT
DTSTART:20200308T070000
END:DAYLIGHT
BEGIN:STANDARD
TZOFFSETFROM:-0400
TZOFFSETTO:-0500
TZNAME:EST
DTSTART:20201101T060000
END:STANDARD
BEGIN:DAYLIGHT
TZOFFSETFROM:-0500
TZOFFSETTO:-0400
TZNAME:EDT
DTSTART:20210314T070000
END:DAYLIGHT
BEGIN:STANDARD
TZOFFSETFROM:-0400
TZOFFSETTO:-0500
TZNAME:EST
DTSTART:20211107T060000
END:STANDARD
BEGIN:DAYLIGHT
TZOFFSETFROM:-0500
TZOFFSETTO:-0400
TZNAME:EDT
DTSTART:20220313T070000
END:DAYLIGHT
BEGIN:STANDARD
TZOFFSETFROM:-0400
TZOFFSETTO:-0500
TZNAME:EST
DTSTART:20221106T060000
END:STANDARD
END:VTIMEZONE
BEGIN:VTIMEZONE
TZID:UTC
BEGIN:STANDARD
TZOFFSETFROM:+0000
TZOFFSETTO:+0000
TZNAME:UTC
DTSTART:20190101T000000
END:STANDARD
END:VTIMEZONE
BEGIN:VEVENT
DTSTART;TZID=America/New_York:20210921T190000
DTEND;TZID=America/New_York:20210921T210000
DTSTAMP:20260423T072917
CREATED:20210726T175409Z
LAST-MODIFIED:20210726T175823Z
UID:7494-1632250800-1632258000@www.ectra.org
SUMMARY:BOD Meeting via Zoom
DESCRIPTION:For more information contact Carolyn Blocker.
URL:https://www.ectra.org/event/bod-meeting-via-zoom/
CATEGORIES:Meeting
ORGANIZER;CN="Carolyn Blocker":MAILTO:Eagleonvineyard@msn.com
END:VEVENT
BEGIN:VEVENT
DTSTART;TZID=America/New_York:20210220T160000
DTEND;TZID=America/New_York:20210220T190000
DTSTAMP:20260423T072917
CREATED:20210102T224805Z
LAST-MODIFIED:20210102T224957Z
UID:6760-1613836800-1613847600@www.ectra.org
SUMMARY:Annual Membership Meeting via Zoom
DESCRIPTION:Contact Rebecca Wachtel for information on joining.
URL:https://www.ectra.org/event/annual-membership-meeting-via-zoom/
CATEGORIES:Meeting
ORGANIZER;CN="Rebecca Wachtel":MAILTO:rebeccawachtel370@gmail.com
END:VEVENT
BEGIN:VEVENT
DTSTART;TZID=America/New_York:20210216T183000
DTEND;TZID=America/New_York:20210216T203000
DTSTAMP:20260423T072917
CREATED:20210102T224520Z
LAST-MODIFIED:20210102T224927Z
UID:6759-1613500200-1613507400@www.ectra.org
SUMMARY:Board of Directors Meeting via Zoom
DESCRIPTION:Contact Rebecca Wachtel for information on joining the meeting.
URL:https://www.ectra.org/event/board-of-directors-meeting-via-zoom-2021-02-16/
CATEGORIES:Meeting
ORGANIZER;CN="Rebecca Wachtel":MAILTO:rebeccawachtel370@gmail.com
END:VEVENT
BEGIN:VEVENT
DTSTART;TZID=America/New_York:20210119T190000
DTEND;TZID=America/New_York:20210119T210000
DTSTAMP:20260423T072917
CREATED:20210102T224520Z
LAST-MODIFIED:20210102T225039Z
UID:6757-1611082800-1611090000@www.ectra.org
SUMMARY:Board of Directors Meeting via Zoom
DESCRIPTION:Contact Rebecca Wachtel for information on joining the meeting.
URL:https://www.ectra.org/event/board-of-directors-meeting-via-zoom/
CATEGORIES:Meeting
ORGANIZER;CN="Rebecca Wachtel":MAILTO:rebeccawachtel370@gmail.com
END:VEVENT
BEGIN:VEVENT
DTSTART;TZID=America/New_York:20201022T190000
DTEND;TZID=America/New_York:20201022T210000
DTSTAMP:20260423T072917
CREATED:20200926T015219Z
LAST-MODIFIED:20200926T015219Z
UID:6390-1603393200-1603400400@www.ectra.org
SUMMARY:Board Meeting
DESCRIPTION:Members can attend via Skype or telephone. Contact Rebecca Wachtel if interested.
URL:https://www.ectra.org/event/board-meeting-4/
CATEGORIES:Meeting
ORGANIZER;CN="Rebecca Wachtel":MAILTO:rebeccawachtel370@gmail.com
END:VEVENT
BEGIN:VEVENT
DTSTART;TZID=UTC:20200528T190000
DTEND;TZID=UTC:20200528T210000
DTSTAMP:20260423T072917
CREATED:20200228T020602Z
LAST-MODIFIED:20200228T020621Z
UID:5603-1590692400-1590699600@www.ectra.org
SUMMARY:Board Meeting
DESCRIPTION:
URL:https://www.ectra.org/event/board-meeting-3/
CATEGORIES:Meeting
ORGANIZER;CN="Rebecca Wachtel":MAILTO:rebeccawachtel370@gmail.com
END:VEVENT
BEGIN:VEVENT
DTSTART;TZID=UTC:20200423T190000
DTEND;TZID=UTC:20200423T210000
DTSTAMP:20260423T072917
CREATED:20200228T020525Z
LAST-MODIFIED:20200228T020747Z
UID:5601-1587668400-1587675600@www.ectra.org
SUMMARY:Board Meeting
DESCRIPTION:
URL:https://www.ectra.org/event/board-meeting-2/
CATEGORIES:Meeting
ORGANIZER;CN="Rebecca Wachtel":MAILTO:rebeccawachtel370@gmail.com
END:VEVENT
BEGIN:VEVENT
DTSTART;TZID=UTC:20200319T190000
DTEND;TZID=UTC:20200319T210000
DTSTAMP:20260423T072917
CREATED:20200228T020445Z
LAST-MODIFIED:20200228T020659Z
UID:5599-1584644400-1584651600@www.ectra.org
SUMMARY:Board Meeting
DESCRIPTION:
URL:https://www.ectra.org/event/board-meeting/
CATEGORIES:Meeting
ORGANIZER;CN="Rebecca Wachtel":MAILTO:rebeccawachtel370@gmail.com
END:VEVENT
BEGIN:VEVENT
DTSTART;VALUE=DATE:20200221
DTEND;VALUE=DATE:20200224
DTSTAMP:20260423T072917
CREATED:20191126T222941Z
LAST-MODIFIED:20200111T075810Z
UID:4756-1582243200-1582502399@www.ectra.org
SUMMARY:ECTRA Winter Getaway
DESCRIPTION:See December 2019 Newsletter for information and registration form or click HERE!
URL:https://www.ectra.org/event/ectra-winter-getaway/
LOCATION:Holiday Inn Harrisburg-Grantville\, 604 Station Road\, Grantville\, PA\, 17028\, United States
CATEGORIES:Meeting
ORGANIZER;CN="Char Jewell":MAILTO:ban_zus@yahoo.com
END:VEVENT
BEGIN:VEVENT
DTSTART;TZID=UTC:20200120T190000
DTEND;TZID=UTC:20200120T210000
DTSTAMP:20260423T072917
CREATED:20191207T203906Z
LAST-MODIFIED:20191207T203906Z
UID:4824-1579546800-1579554000@www.ectra.org
SUMMARY:BOD Skype Meeting
DESCRIPTION:Upcoming Meeting- January 13th\, 2020 at 7pm via Skype. Members are encouraged and welcome to join. Contact Rebecca Wachtel for information on how to do so.
URL:https://www.ectra.org/event/bod-skype-meeting/
CATEGORIES:Meeting
ORGANIZER;CN="Rebecca Wachtel":MAILTO:rebeccawachtel370@gmail.com
END:VEVENT
END:VCALENDAR