BEGIN:VCALENDAR
VERSION:2.0
PRODID:-//Eastern Competitive Trail Ride Association - ECPv6.15.20//NONSGML v1.0//EN
CALSCALE:GREGORIAN
METHOD:PUBLISH
X-WR-CALNAME:Eastern Competitive Trail Ride Association
X-ORIGINAL-URL:https://www.ectra.org
X-WR-CALDESC:Events for Eastern Competitive Trail Ride Association
REFRESH-INTERVAL;VALUE=DURATION:PT1H
X-Robots-Tag:noindex
X-PUBLISHED-TTL:PT1H
BEGIN:VTIMEZONE
TZID:America/New_York
BEGIN:DAYLIGHT
TZOFFSETFROM:-0500
TZOFFSETTO:-0400
TZNAME:EDT
DTSTART:20220313T070000
END:DAYLIGHT
BEGIN:STANDARD
TZOFFSETFROM:-0400
TZOFFSETTO:-0500
TZNAME:EST
DTSTART:20221106T060000
END:STANDARD
BEGIN:DAYLIGHT
TZOFFSETFROM:-0500
TZOFFSETTO:-0400
TZNAME:EDT
DTSTART:20230312T070000
END:DAYLIGHT
BEGIN:STANDARD
TZOFFSETFROM:-0400
TZOFFSETTO:-0500
TZNAME:EST
DTSTART:20231105T060000
END:STANDARD
BEGIN:DAYLIGHT
TZOFFSETFROM:-0500
TZOFFSETTO:-0400
TZNAME:EDT
DTSTART:20240310T070000
END:DAYLIGHT
BEGIN:STANDARD
TZOFFSETFROM:-0400
TZOFFSETTO:-0500
TZNAME:EST
DTSTART:20241103T060000
END:STANDARD
END:VTIMEZONE
BEGIN:VEVENT
DTSTART;VALUE=DATE:20231104
DTEND;VALUE=DATE:20231106
DTSTAMP:20260419T190725
CREATED:20221211T000757Z
LAST-MODIFIED:20231005T172406Z
UID:9706-1699056000-1699228799@www.ectra.org
SUMMARY:NJ Devil
DESCRIPTION:Offering 25 mile CTR and Drive both days as well as a 2 day 50 CTR/Drive.  Will also offer conditioning distance rides and have a Pass/Fail option.  More information and entry HERE!
URL:https://www.ectra.org/event/nj-devil-2/
LOCATION:VT
CATEGORIES:CTR
ORGANIZER;CN="Lucha Malato":MAILTO:Luchamalato@gmail.com
END:VEVENT
BEGIN:VEVENT
DTSTART;VALUE=DATE:20231029
DTEND;VALUE=DATE:20231030
DTSTAMP:20260419T190725
CREATED:20230201T211240Z
LAST-MODIFIED:20230920T132423Z
UID:9895-1698537600-1698623999@www.ectra.org
SUMMARY:Kedron Fall Foliage Ride
DESCRIPTION:Offering a 25 mile CTR and drive as well as a 15 mile CDR & CDD and 10 mile CDR & CDD. More information and entry HERE!
URL:https://www.ectra.org/event/kedron-fall-foliage-ride/
LOCATION:VT
CATEGORIES:CTR
ORGANIZER;CN="Jenny Kimberly":MAILTO:jennykimberly@comcast.net
END:VEVENT
BEGIN:VEVENT
DTSTART;VALUE=DATE:20231020
DTEND;VALUE=DATE:20231022
DTSTAMP:20260419T190725
CREATED:20221211T000923Z
LAST-MODIFIED:20230312T135550Z
UID:9708-1697760000-1697932799@www.ectra.org
SUMMARY:Fort Valley
DESCRIPTION:Offering a 30 mile LD and 50 mile endurance ride each day.  More information available HERE!
URL:https://www.ectra.org/event/fort-valley-4/
LOCATION:VT
CATEGORIES:Endurance
ORGANIZER;CN="Diane Connolly":MAILTO:DCConnolly24@gmail.com
END:VEVENT
BEGIN:VEVENT
DTSTART;VALUE=DATE:20231014
DTEND;VALUE=DATE:20231015
DTSTAMP:20260419T190725
CREATED:20230201T211514Z
LAST-MODIFIED:20230201T211529Z
UID:9898-1697241600-1697327999@www.ectra.org
SUMMARY:GMHA Fall Endurance
DESCRIPTION:Offering a 50 mile endurance ride and a 30 mile LD.  More information and entry available HERE!
URL:https://www.ectra.org/event/gmha-fall-endurance-4/
LOCATION:GMHA\, 5491 South Rd\,\, South Woodstock\, VT\, 05071\, United States
CATEGORIES:Endurance
ORGANIZER;CN="Ally LaFlair":MAILTO:ally@gmhainc.org
END:VEVENT
BEGIN:VEVENT
DTSTART;VALUE=DATE:20231007
DTEND;VALUE=DATE:20231008
DTSTAMP:20260419T190725
CREATED:20230405T125037Z
LAST-MODIFIED:20230405T125037Z
UID:10052-1696636800-1696723199@www.ectra.org
SUMMARY:Mustang Memorial
DESCRIPTION:Offering a 100 mile\, 75 mile\, 60 mile and 50 mile endurance ride as well as a 30 mile LD.  More information and entry will be posted HERE!
URL:https://www.ectra.org/event/mustang-memorial-4/
LOCATION:VT
CATEGORIES:Endurance
ORGANIZER;CN="Maile Irion":MAILTO:endurancenj@gmail.com
END:VEVENT
BEGIN:VEVENT
DTSTART;VALUE=DATE:20230923
DTEND;VALUE=DATE:20230924
DTSTAMP:20260419T190725
CREATED:20230404T140534Z
LAST-MODIFIED:20230404T140534Z
UID:10046-1695427200-1695513599@www.ectra.org
SUMMARY:VERDA Ride at Silver Hill
DESCRIPTION:Offering a 25 mile CTR with a pass/fail option and a 15 mile CDR.  More information available HERE!
URL:https://www.ectra.org/event/verda-ride-at-silver-hill/
LOCATION:Silver Hill Field\, 1851 Silver Hill Road\, West Windsor\, VT\, 05089\, United States
CATEGORIES:CTR
ORGANIZER;CN="Kathy Hall":MAILTO:kathy.stormybrook@gmail.com
END:VEVENT
BEGIN:VEVENT
DTSTART;VALUE=DATE:20230916
DTEND;VALUE=DATE:20230918
DTSTAMP:20260419T190725
CREATED:20230201T211012Z
LAST-MODIFIED:20230703T150810Z
UID:9893-1694822400-1694995199@www.ectra.org
SUMMARY:Chesapeake Fall
DESCRIPTION:Offering 2 days of 25 mile CTRs\, a 2 day 50 mile CTR and 10 and 15 mile CDRs each day.  Will have pass/fail option.  More information and entry available HERE!
URL:https://www.ectra.org/event/chesapeake-fall-3/
LOCATION:Fair Hill NRMA\, 300 Tawes Dr.\, Elkton\, MD\, 21921\, United States
CATEGORIES:CTR
ORGANIZER;CN="Cate Peloquin":MAILTO:cpenguin57@aol.com
END:VEVENT
BEGIN:VEVENT
DTSTART;VALUE=DATE:20230909
DTEND;VALUE=DATE:20230910
DTSTAMP:20260419T190725
CREATED:20221211T001041Z
LAST-MODIFIED:20230822T012947Z
UID:9710-1694217600-1694303999@www.ectra.org
SUMMARY:Hector Half Hundred
DESCRIPTION:Offering a 50 mile endurance ride and a 30 mile LD.  More information available HERE! Entry available HERE!
URL:https://www.ectra.org/event/hector-half-hundred-4/
LOCATION:VT
CATEGORIES:Endurance
END:VEVENT
BEGIN:VEVENT
DTSTART;VALUE=DATE:20230901
DTEND;VALUE=DATE:20230904
DTSTAMP:20260419T190725
CREATED:20230201T210842Z
LAST-MODIFIED:20230807T174024Z
UID:9891-1693526400-1693785599@www.ectra.org
SUMMARY:GMHA Distance Days
DESCRIPTION:Updated distances are as follows: 100 mile CTR 9/1 – 9/3.  60 mile CTR 9/2 – 9/3.  25 mile CTRs 9/1 & 9/2.  15 mile CDRs also available on 9/1 & 9/2.  More information and entry HERE!
URL:https://www.ectra.org/event/gmha-distance-days-2/
LOCATION:GMHA\, 5491 South Rd\,\, South Woodstock\, VT\, 05071\, United States
CATEGORIES:CTR
ORGANIZER;CN="Ally LaFlair":MAILTO:ally@gmhainc.org
END:VEVENT
BEGIN:VEVENT
DTSTART;VALUE=DATE:20230825
DTEND;VALUE=DATE:20230827
DTSTAMP:20260419T190725
CREATED:20230201T211656Z
LAST-MODIFIED:20230201T211656Z
UID:9900-1692921600-1693094399@www.ectra.org
SUMMARY:Iron Mountain Jubilee
DESCRIPTION:Offering a 50 mile endurance ride both days\, a 100 mile endurance ride and 2 days of 25 mile LDs.  More information and entry available HERE!
URL:https://www.ectra.org/event/iron-mountain-jubilee-3/
LOCATION:VT
CATEGORIES:Endurance
ORGANIZER;CN="Eric Rueter":MAILTO:eric@fleetfootfarm.com
END:VEVENT
BEGIN:VEVENT
DTSTART;VALUE=DATE:20230820
DTEND;VALUE=DATE:20230821
DTSTAMP:20260419T190725
CREATED:20230131T162408Z
LAST-MODIFIED:20230714T141448Z
UID:9860-1692489600-1692575999@www.ectra.org
SUMMARY:Wellwood Orchard Ride - CANCELLED!
DESCRIPTION:Offering a 30 CTR + 30 P/F + 15 CDR + 15 P/F. Information and entry available HERE!
URL:https://www.ectra.org/event/wellwood-orchard-ride/
LOCATION:Wellwood orchards\, 529 Wellwood Orchard Rd\,\, Springfield\, VT\, 05156\, United States
CATEGORIES:CTR
ORGANIZER;CN="Sara Lareau":MAILTO:smlareau99@gmail.com
END:VEVENT
BEGIN:VEVENT
DTSTART;VALUE=DATE:20230819
DTEND;VALUE=DATE:20230820
DTSTAMP:20260419T190725
CREATED:20230713T161201Z
LAST-MODIFIED:20230713T161223Z
UID:10612-1692403200-1692489599@www.ectra.org
SUMMARY:Horseshoe Bend Boogie
DESCRIPTION:Offering a 50 mile endurance ride and a 25 mile LD.  More information available HERE!
URL:https://www.ectra.org/event/horseshoe-bend-boogie/
LOCATION:Horseshoe Bend Park\, 178 Horseshoe Bend Road\, Frenchtown\, NJ\, 08825\, United States
CATEGORIES:Endurance
ORGANIZER;CN="Meg Sleeper":MAILTO:margaretmsleeper@ufl.edu
END:VEVENT
BEGIN:VEVENT
DTSTART;VALUE=DATE:20230808
DTEND;VALUE=DATE:20230812
DTSTAMP:20260419T190725
CREATED:20230312T135449Z
LAST-MODIFIED:20230520T021657Z
UID:9739-1691452800-1691798399@www.ectra.org
SUMMARY:Pine Tree Pioneer Endurance Ride & Tie
DESCRIPTION:Offering a one day 50 mile endurance\, a 3 day Pioneer ride and LDs each day as well as a Ride and Tie.  More information available HERE!
URL:https://www.ectra.org/event/pine-tree-pioneer-endurance-ride-tie/
LOCATION:Fryeburg Fairgrounds\, Fryeburg\, ME\, United States
CATEGORIES:Endurance
ORGANIZER;CN="Louise Lester":MAILTO:louise1@maine.rr.com
END:VEVENT
BEGIN:VEVENT
DTSTART;VALUE=DATE:20230805
DTEND;VALUE=DATE:20230807
DTSTAMP:20260419T190725
CREATED:20230201T210608Z
LAST-MODIFIED:20230724T170413Z
UID:9888-1691193600-1691366399@www.ectra.org
SUMMARY:GMHA August - CANCELLED!
DESCRIPTION:Offering a 25 mile CTR each day as well as a 15 mile CDR/CDD each day. More information and entry available HERE! 
URL:https://www.ectra.org/event/gmha-august/
LOCATION:GMHA\, 5491 South Rd\,\, South Woodstock\, VT\, 05071\, United States
CATEGORIES:CTR
ORGANIZER;CN="Ally LaFlair":MAILTO:ally@gmhainc.org
END:VEVENT
BEGIN:VEVENT
DTSTART;VALUE=DATE:20230729
DTEND;VALUE=DATE:20230731
DTSTAMP:20260419T190725
CREATED:20230312T140700Z
LAST-MODIFIED:20230523T163054Z
UID:10003-1690588800-1690761599@www.ectra.org
SUMMARY:Muckleratz Run CTR
DESCRIPTION:Offering a 25 mile CTR and 12.5 mile CDR each day as well as a 2 day 50.  Will have a pass/fail option.  More information and entry HERE.
URL:https://www.ectra.org/event/muckleratz-run-ctr/
LOCATION:Weiser State Forest\, White Oak Road\, Halifax\, PA\, 17032\, United States
CATEGORIES:CTR
ORGANIZER;CN="Carolyn Blocker":MAILTO:Eagleonvineyard@msn.com
END:VEVENT
BEGIN:VEVENT
DTSTART;VALUE=DATE:20230729
DTEND;VALUE=DATE:20230730
DTSTAMP:20260419T190725
CREATED:20230705T191537Z
LAST-MODIFIED:20230705T191537Z
UID:10581-1690588800-1690675199@www.ectra.org
SUMMARY:Muckleratz Run CTR Clinic
DESCRIPTION:Information and entry form for the Muckleratz clinic can be found HERE!  (Note: clinic is unmounted!)
URL:https://www.ectra.org/event/muckleratz-run-ctr-clinic/
LOCATION:Weiser State Forest\, White Oak Road\, Halifax\, PA\, 17032\, United States
CATEGORIES:CTR Clinic
ORGANIZER;CN="Carolyn Blocker":MAILTO:Eagleonvineyard@msn.com
END:VEVENT
BEGIN:VEVENT
DTSTART;VALUE=DATE:20230715
DTEND;VALUE=DATE:20230716
DTSTAMP:20260419T190725
CREATED:20221211T001420Z
LAST-MODIFIED:20221211T001420Z
UID:9716-1689379200-1689465599@www.ectra.org
SUMMARY:Vermont 100/Moonlight in Vermont/Daylight in Vermont
DESCRIPTION:Offering a 50\, 75 and 100 mile endurance ride and a 25 mile LD.  More information and entries available HERE!
URL:https://www.ectra.org/event/vermont-100-moonlight-in-vermont-daylight-in-vermont/
LOCATION:VT
CATEGORIES:Endurance
END:VEVENT
BEGIN:VEVENT
DTSTART;VALUE=DATE:20230701
DTEND;VALUE=DATE:20230703
DTSTAMP:20260419T190725
CREATED:20230312T135811Z
LAST-MODIFIED:20230530T151703Z
UID:9746-1688169600-1688342399@www.ectra.org
SUMMARY:Muckleratz Endurance
DESCRIPTION:Offering a 50 mile endurance ride on July 2nd and 2 days of 30 mile LDs.  Information and entry HERE!
URL:https://www.ectra.org/event/muckleratz-endurance-3/
LOCATION:Weiser State Forest\, White Oak Road\, Halifax\, PA\, 17032\, United States
CATEGORIES:Endurance
ORGANIZER;CN="Christine Roberts":MAILTO:ceroberts11@gmail.com
END:VEVENT
BEGIN:VEVENT
DTSTART;VALUE=DATE:20230701
DTEND;VALUE=DATE:20230703
DTSTAMP:20260419T190725
CREATED:20230201T211327Z
LAST-MODIFIED:20230201T211336Z
UID:9737-1688169600-1688342399@www.ectra.org
SUMMARY:HAM Firecracker
DESCRIPTION:Offering 50 mile endurance rides and 30 mile LDs both days as well as an Intro Ride both days.  More information and entry coming soon!
URL:https://www.ectra.org/event/horses-across-maine-4/
LOCATION:VT
CATEGORIES:Endurance
END:VEVENT
BEGIN:VEVENT
DTSTART;VALUE=DATE:20230624
DTEND;VALUE=DATE:20230626
DTSTAMP:20260419T190725
CREATED:20230201T210234Z
LAST-MODIFIED:20230214T010724Z
UID:9884-1687564800-1687737599@www.ectra.org
SUMMARY:Brookfield Comp. Ride
DESCRIPTION:Featuring a 25 mile CTR each day as well as a 2 day 50 mile CTR and a 15 mile CDR each day. More information HERE!
URL:https://www.ectra.org/event/brookfield-comp-ride/
LOCATION:Pure Country Campground\, 176 Kelly Road\, New Berlin\, NY\, 13411\, United States
CATEGORIES:CTR
ATTACH;FMTTYPE=application/pdf:https://www.ectra.org/wp-content/uploads/2023/02/2023-Poster-for-Brookfield-Ride-1.pdf
ORGANIZER;CN="Lynn Dunn":MAILTO:Lynn@eminencehighpastures.com Lynn@eminencehighpastures.com
END:VEVENT
BEGIN:VEVENT
DTSTART;VALUE=DATE:20230617
DTEND;VALUE=DATE:20230618
DTSTAMP:20260419T190725
CREATED:20230404T140405Z
LAST-MODIFIED:20230412T125209Z
UID:10044-1686960000-1687046399@www.ectra.org
SUMMARY:Balla Machree Ride & Drive
DESCRIPTION:Offering a 30 mile Pass/Fail CTR and competitive drive as well as a 10 and 15 mile CDR. More information HERE!
URL:https://www.ectra.org/event/bella-machree-ride-drive/
LOCATION:Balla Machree Farm\, Broad Brook Road\, South Royalton\, VT\, 05068\, United States
CATEGORIES:CTR
ORGANIZER;CN="Carrie Maynard":MAILTO:Carriemaynard3472@gmail.com
END:VEVENT
BEGIN:VEVENT
DTSTART;VALUE=DATE:20230611
DTEND;VALUE=DATE:20230612
DTSTAMP:20260419T190725
CREATED:20230201T173538Z
LAST-MODIFIED:20230201T173545Z
UID:9870-1686441600-1686527999@www.ectra.org
SUMMARY:GMHA Spring Endurance
DESCRIPTION:Offering a 50 mile endurance ride and a 30 mile LD. More information and entry available HERE! 
URL:https://www.ectra.org/event/gmha-spring-endurance-3/
LOCATION:GMHA\, 5491 South Rd\,\, South Woodstock\, VT\, 05071\, United States
CATEGORIES:Endurance
ORGANIZER;CN="Ally LaFlair":MAILTO:ally@gmhainc.org
END:VEVENT
BEGIN:VEVENT
DTSTART;VALUE=DATE:20230610
DTEND;VALUE=DATE:20230611
DTSTAMP:20260419T190725
CREATED:20230201T185421Z
LAST-MODIFIED:20230201T210034Z
UID:9878-1686355200-1686441599@www.ectra.org
SUMMARY:GMHA Spring
DESCRIPTION:Offering a 25 mile CTR and drive and a 15 mile CDR/CDD.  More information and entry HERE!
URL:https://www.ectra.org/event/gmha-spring/
LOCATION:GMHA\, 5491 South Rd\,\, South Woodstock\, VT\, 05071\, United States
CATEGORIES:CTR
ORGANIZER;CN="Ally LaFlair":MAILTO:ally@gmhainc.org
END:VEVENT
BEGIN:VEVENT
DTSTART;VALUE=DATE:20230609
DTEND;VALUE=DATE:20230611
DTSTAMP:20260419T190725
CREATED:20221211T001135Z
LAST-MODIFIED:20230429T002457Z
UID:9712-1686268800-1686441599@www.ectra.org
SUMMARY:Old Dominion
DESCRIPTION:Offering a 55 mile endurance ride as well as a 25 mile LD on the 9th and the OD 100 on the 10th.  More information and entries available HERE! \n  \n 
URL:https://www.ectra.org/event/old-dominion-3/
LOCATION:VT
CATEGORIES:Endurance
ORGANIZER;CN="Diane Connolly":MAILTO:DCConnolly24@gmail.com
END:VEVENT
BEGIN:VEVENT
DTSTART;VALUE=DATE:20230528
DTEND;VALUE=DATE:20230529
DTSTAMP:20260419T190725
CREATED:20230201T173046Z
LAST-MODIFIED:20230201T173046Z
UID:9744-1685232000-1685318399@www.ectra.org
SUMMARY:New York Adventure
DESCRIPTION:Offering a 30/50/75 mile ride and an Intro Ride.  More info HERE!
URL:https://www.ectra.org/event/new-york-adventure-2/
LOCATION:Pure Country Campground\, 176 Kelly Road\, New Berlin\, NY\, 13411\, United States
CATEGORIES:Endurance
ORGANIZER;CN="Eva Norris":MAILTO:eva83919@aol.com
END:VEVENT
BEGIN:VEVENT
DTSTART;VALUE=DATE:20230527
DTEND;VALUE=DATE:20230529
DTSTAMP:20260419T190725
CREATED:20230201T205942Z
LAST-MODIFIED:20230307T012719Z
UID:9880-1685145600-1685318399@www.ectra.org
SUMMARY:Maine Rides
DESCRIPTION:Offering a 25 mile CTR each day as well as a 2 day 50 CTR and a 10 mile CDR each day.  More information and entry available HERE!
URL:https://www.ectra.org/event/maine-rides/
LOCATION:VT
CATEGORIES:CTR
ORGANIZER;CN="Ruth Broene":MAILTO:rbitherbroene@yahool.com
END:VEVENT
BEGIN:VEVENT
DTSTART;VALUE=DATE:20230526
DTEND;VALUE=DATE:20230527
DTSTAMP:20260419T190725
CREATED:20230312T140505Z
LAST-MODIFIED:20230404T172311Z
UID:10001-1685059200-1685145599@www.ectra.org
SUMMARY:Maine Rides Clinic
DESCRIPTION:More information available from Louise Lester
URL:https://www.ectra.org/event/maine-rides-clinic/
LOCATION:VT
CATEGORIES:CTR Clinic
ORGANIZER;CN="Louise Lester":MAILTO:louise1@maine.rr.com
END:VEVENT
BEGIN:VEVENT
DTSTART;VALUE=DATE:20230514
DTEND;VALUE=DATE:20230515
DTSTAMP:20260419T190725
CREATED:20230312T140218Z
LAST-MODIFIED:20230312T140218Z
UID:9997-1684022400-1684108799@www.ectra.org
SUMMARY:VERDA Bare Bones
DESCRIPTION:Offering a 50 mile endurance ride and a 30 mile LD.  More information and entry available HERE!
URL:https://www.ectra.org/event/verda-bare-bones-2/
LOCATION:Cornish NH Fairgrounds\, 294 Town House Rd\, Cornish\, NH\, 03745\, United States
CATEGORIES:Endurance
ORGANIZER;CN="Erin Grogan":MAILTO:erinlgrogan@gmail.com
END:VEVENT
BEGIN:VEVENT
DTSTART;VALUE=DATE:20230513
DTEND;VALUE=DATE:20230515
DTSTAMP:20260419T190725
CREATED:20221210T235918Z
LAST-MODIFIED:20230214T011712Z
UID:9703-1683936000-1684108799@www.ectra.org
SUMMARY:Seven Mountains Trail Ride
DESCRIPTION:Offering a 30 mile CTR each day as well as a 60 mile 2 day CTR.  Will also offer a 15 mile CDR each day.  Will offer a Pass/Fail division. More information and entry available HERE!
URL:https://www.ectra.org/event/seven-mountains-trail-ride/
LOCATION:VT
CATEGORIES:CTR
ORGANIZER;CN="Diana Murphy":MAILTO:hawkmeadow@gmail.com
END:VEVENT
BEGIN:VEVENT
DTSTART;VALUE=DATE:20230513
DTEND;VALUE=DATE:20230514
DTSTAMP:20260419T190725
CREATED:20230214T011954Z
LAST-MODIFIED:20230214T012016Z
UID:9942-1683936000-1684022399@www.ectra.org
SUMMARY:VERDA Brown Bag
DESCRIPTION:Offering a 25 mile CTR and a 15 mile CDR. Information and Entry available HERE!
URL:https://www.ectra.org/event/verda-brown-bag-2/
LOCATION:Cornish NH Fairgrounds\, 294 Town House Rd\, Cornish\, NH\, 03745\, United States
CATEGORIES:CTR
ORGANIZER;CN="Kathy Callen-Rondeau":MAILTO:kcrvt@icloud.com
END:VEVENT
END:VCALENDAR