BEGIN:VCALENDAR
VERSION:2.0
PRODID:-//Eastern Competitive Trail Ride Association - ECPv6.15.20//NONSGML v1.0//EN
CALSCALE:GREGORIAN
METHOD:PUBLISH
X-WR-CALNAME:Eastern Competitive Trail Ride Association
X-ORIGINAL-URL:https://www.ectra.org
X-WR-CALDESC:Events for Eastern Competitive Trail Ride Association
REFRESH-INTERVAL;VALUE=DURATION:PT1H
X-Robots-Tag:noindex
X-PUBLISHED-TTL:PT1H
BEGIN:VTIMEZONE
TZID:America/New_York
BEGIN:DAYLIGHT
TZOFFSETFROM:-0500
TZOFFSETTO:-0400
TZNAME:EDT
DTSTART:20210314T070000
END:DAYLIGHT
BEGIN:STANDARD
TZOFFSETFROM:-0400
TZOFFSETTO:-0500
TZNAME:EST
DTSTART:20211107T060000
END:STANDARD
BEGIN:DAYLIGHT
TZOFFSETFROM:-0500
TZOFFSETTO:-0400
TZNAME:EDT
DTSTART:20220313T070000
END:DAYLIGHT
BEGIN:STANDARD
TZOFFSETFROM:-0400
TZOFFSETTO:-0500
TZNAME:EST
DTSTART:20221106T060000
END:STANDARD
BEGIN:DAYLIGHT
TZOFFSETFROM:-0500
TZOFFSETTO:-0400
TZNAME:EDT
DTSTART:20230312T070000
END:DAYLIGHT
BEGIN:STANDARD
TZOFFSETFROM:-0400
TZOFFSETTO:-0500
TZNAME:EST
DTSTART:20231105T060000
END:STANDARD
BEGIN:DAYLIGHT
TZOFFSETFROM:-0500
TZOFFSETTO:-0400
TZNAME:EDT
DTSTART:20240310T070000
END:DAYLIGHT
BEGIN:STANDARD
TZOFFSETFROM:-0400
TZOFFSETTO:-0500
TZNAME:EST
DTSTART:20241103T060000
END:STANDARD
END:VTIMEZONE
BEGIN:VEVENT
DTSTART;TZID=America/New_York:20230201T080000
DTEND;TZID=America/New_York:20230201T170000
DTSTAMP:20260420T020535
CREATED:20230201T184548Z
LAST-MODIFIED:20230201T184548Z
UID:9876-1675238400-1675270800@www.ectra.org
SUMMARY:Chesapeake Fall
DESCRIPTION:Offering a 25 mile CTR both days  as well as a 2 day 50 mile CTR and a 1o and 15 mile CDR both days.  Pass/fail option.   More information and entry coming soon.
URL:https://www.ectra.org/event/chesapeake-fall-2/
LOCATION:Fair Hill NRMA\, 300 Tawes Dr.\, Elkton\, MD\, 21921\, United States
CATEGORIES:CTR
ORGANIZER;CN="Cate Peloquin":MAILTO:cpenguin57@aol.com
END:VEVENT
BEGIN:VEVENT
DTSTART;TZID=America/New_York:20230109T190000
DTEND;TZID=America/New_York:20230109T210000
DTSTAMP:20260420T020535
CREATED:20230103T023733Z
LAST-MODIFIED:20230103T023733Z
UID:9760-1673290800-1673298000@www.ectra.org
SUMMARY:ECTRA Board Meeting
DESCRIPTION:Join Zoom Meeting\nhttps://us02web.zoom.us/j/89486699170?pwd=Q2w0eW91VGV1cHVCYUlOTVNGM3k5QT09 \nMeeting ID: 894 8669 9170\nPasscode: 417471\nOne tap mobile\n+13017158592\,\,89486699170#\,\,\,\,*417471# US (Washington DC)\n+13052241968\,\,89486699170#\,\,\,\,*417471# US \nDial by your location\n+1 301 715 8592 US (Washington DC)\n+1 305 224 1968 US\n+1 309 205 3325 US\n+1 312 626 6799 US (Chicago)\n+1 646 558 8656 US (New York)\n+1 646 931 3860 US\n+1 253 205 0468 US\n+1 253 215 8782 US (Tacoma)\n+1 346 248 7799 US (Houston)\n+1 360 209 5623 US\n+1 386 347 5053 US\n+1 507 473 4847 US\n+1 564 217 2000 US\n+1 669 444 9171 US\n+1 669 900 9128 US (San Jose)\n+1 689 278 1000 US\n+1 719 359 4580 US\nMeeting ID: 894 8669 9170\nPasscode: 417471\nFind your local number: https://us02web.zoom.us/u/kUaj6LrZr\nJoin our Cloud HD Video Meeting
URL:https://www.ectra.org/event/ectra-board-meeting/
LOCATION:Zoom
CATEGORIES:Meeting
ORGANIZER;CN="Carolyn Blocker":MAILTO:Eagleonvineyard@msn.com
END:VEVENT
BEGIN:VEVENT
DTSTART;TZID=America/New_York:20221115T190000
DTEND;TZID=America/New_York:20221115T210000
DTSTAMP:20260420T020535
CREATED:20220523T014934Z
LAST-MODIFIED:20220523T175647Z
UID:9384-1668538800-1668546000@www.ectra.org
SUMMARY:Board Meeting
DESCRIPTION:If you’d like to attend the board meeting via Zoom please contact Carolyn Blocker \nJoin Zoom Meeting\nhttps://us02web.zoom.us/j/89486699170?pwd=Q2w0eW91VGV1cHVCYUlOTVNGM3k5QT09 
URL:https://www.ectra.org/event/board-meeting-7/
LOCATION:Zoom
CATEGORIES:Meeting
ORGANIZER;CN="Carolyn Blocker":MAILTO:Eagleonvineyard@msn.com
END:VEVENT
BEGIN:VEVENT
DTSTART;VALUE=DATE:20221105
DTEND;VALUE=DATE:20221106
DTSTAMP:20260420T020535
CREATED:20220119T173314Z
LAST-MODIFIED:20220929T004527Z
UID:8631-1667606400-1667692799@www.ectra.org
SUMMARY:Jersey Devil
DESCRIPTION:Offering 25 mile CTR and Drive both days as well as a 2 day 50 CTR/Drive.  Will also offer conditioning distance rides and have a Pass/Fail option.  More information and entry HERE!
URL:https://www.ectra.org/event/nj-devil-3/
LOCATION:BBB Gun Club\, 180 City Line Rd.\, Browns Mills\, NJ\, 08015\, United States
CATEGORIES:CTR
ORGANIZER;CN="Lucha Malato":MAILTO:Luchamalato@gmail.com
END:VEVENT
BEGIN:VEVENT
DTSTART;VALUE=DATE:20221030
DTEND;VALUE=DATE:20221031
DTSTAMP:20260420T020535
CREATED:20220328T144306Z
LAST-MODIFIED:20220329T155716Z
UID:9074-1667088000-1667174399@www.ectra.org
SUMMARY:Kedron Fall Foliage
DESCRIPTION:Offering a 25 mile CTR and Competitive Drive.  Will have a 10 and 15 mile CDR and drive as well as a pass/fail option.  More information and entry available HERE!
URL:https://www.ectra.org/event/kedron-fall-foliage/
LOCATION:Kedron Valley Stables\, 4342 South Rd.\, South Woodstock\, VT\, 05071\, United States
CATEGORIES:CTR
ORGANIZER;CN="Jenny Kimberly":MAILTO:jennykimberly@comcast.net
END:VEVENT
BEGIN:VEVENT
DTSTART;VALUE=DATE:20221015
DTEND;VALUE=DATE:20221016
DTSTAMP:20260420T020535
CREATED:20220119T184106Z
LAST-MODIFIED:20220204T191214Z
UID:8654-1665792000-1665878399@www.ectra.org
SUMMARY:GMHA Fall Endurance
DESCRIPTION:Offering a 50 mile endurance ride and a 30 mile LD. More information and entry available HERE!
URL:https://www.ectra.org/event/gmha-fall-endurance-3/
LOCATION:GMHA\, 5491 South Rd\,\, South Woodstock\, VT\, 05071\, United States
CATEGORIES:Endurance
ORGANIZER;CN="Ally LaFlair":MAILTO:ally@gmhainc.org
END:VEVENT
BEGIN:VEVENT
DTSTART;VALUE=DATE:20221014
DTEND;VALUE=DATE:20221016
DTSTAMP:20260420T020535
CREATED:20211129T211437Z
LAST-MODIFIED:20211129T211437Z
UID:8211-1665705600-1665878399@www.ectra.org
SUMMARY:Fort Valley
DESCRIPTION:Offering a 30 mile LD and 50 mile endurance ride each day.  More information available HERE!
URL:https://www.ectra.org/event/fort-valley-3/
CATEGORIES:Endurance
ORGANIZER;CN="Emily Carrico":MAILTO:mzstumpy@gmail.com
END:VEVENT
BEGIN:VEVENT
DTSTART;VALUE=DATE:20221009
DTEND;VALUE=DATE:20221010
DTSTAMP:20260420T020535
CREATED:20220119T193103Z
LAST-MODIFIED:20220422T012719Z
UID:8667-1665273600-1665359999@www.ectra.org
SUMMARY:Bonny Brook Oktoberfest - CANCELLED!
DESCRIPTION:Offering a 25 mile CTR and a 12.5 mile CDR. Will offer a pass/fail option.  More information coming soon.
URL:https://www.ectra.org/event/bonny-brook-oktoberfest/
LOCATION:Bonny Brook Riding Club\, 533 Mountain Rd.\, Boiling Spring\, PA\, 17007\, United States
CATEGORIES:CTR
ORGANIZER;CN="Helen Stacy":MAILTO:badponyontrail@gmail.com
END:VEVENT
BEGIN:VEVENT
DTSTART;VALUE=DATE:20221008
DTEND;VALUE=DATE:20221010
DTSTAMP:20260420T020535
CREATED:20220119T192529Z
LAST-MODIFIED:20220426T172411Z
UID:8665-1665187200-1665359999@www.ectra.org
SUMMARY:Brookfield Competitive Trail Ride/Drive
DESCRIPTION:Offering a 25 mile CTR and drive each day as well as a 2 day 50 CTR and Conditioning Distance Rides and Drives. Will offer a Pass/Fail option. More information and entry available HERE!
URL:https://www.ectra.org/event/brookfield-competitive-trail-ride-drive/
LOCATION:Pure Country Campground\, 176 Kelly Road\, New Berlin\, NY\, 13411\, United States
CATEGORIES:CTR
ORGANIZER;CN="Lynn Dunn":MAILTO:Lynn@eminencehighpastures.com Lynn@eminencehighpastures.com
END:VEVENT
BEGIN:VEVENT
DTSTART;VALUE=DATE:20221001
DTEND;VALUE=DATE:20221002
DTSTAMP:20260420T020535
CREATED:20220119T174352Z
LAST-MODIFIED:20220907T151148Z
UID:8634-1664582400-1664668799@www.ectra.org
SUMMARY:Mustang Memorial
DESCRIPTION:Offering a 50 and 75 mile endurance ride as well as a 30 mile LD.  More information can be found HERE!
URL:https://www.ectra.org/event/mustang-memorial-3/
CATEGORIES:Endurance
ORGANIZER;CN="Maile Irion":MAILTO:endurancenj@gmail.com
END:VEVENT
BEGIN:VEVENT
DTSTART;VALUE=DATE:20220925
DTEND;VALUE=DATE:20220926
DTSTAMP:20260420T020535
CREATED:20220328T144046Z
LAST-MODIFIED:20220801T173501Z
UID:9071-1664064000-1664150399@www.ectra.org
SUMMARY:VA Wine Ride - Fall
DESCRIPTION:Will offer a 25 mile CTR and a pass fail option.  More information and entry available HERE!
URL:https://www.ectra.org/event/va-wine-ride-fall/
CATEGORIES:CTR
ORGANIZER;CN="Katie Tarasevich":MAILTO:vawineride@gmail.com
END:VEVENT
BEGIN:VEVENT
DTSTART;VALUE=DATE:20220924
DTEND;VALUE=DATE:20220925
DTSTAMP:20260420T020535
CREATED:20220425T155504Z
LAST-MODIFIED:20220807T212257Z
UID:9226-1663977600-1664063999@www.ectra.org
SUMMARY:NEATO Escoheag - CANCELLED!
DESCRIPTION:Offering a 25 mile LD and a 50 mile endurance ride.  More information HERE!
URL:https://www.ectra.org/event/neato-escoheag/
LOCATION:Legrande Reynold’s Horseman’s Area\, Eschoeag Hill Rd.\, Exeter\, RI\, 02822\, United States
CATEGORIES:Endurance
ORGANIZER;CN="Lucha Malato":MAILTO:Luchamalato@gmail.com
END:VEVENT
BEGIN:VEVENT
DTSTART;VALUE=DATE:20220924
DTEND;VALUE=DATE:20220925
DTSTAMP:20260420T020535
CREATED:20220304T171820Z
LAST-MODIFIED:20220314T191135Z
UID:8929-1663977600-1664063999@www.ectra.org
SUMMARY:VERDA Silver Hill
DESCRIPTION:Offering a 25 mile CTR with a pass/fail option as well as a 15 mile CDR.  More information and entry HERE!
URL:https://www.ectra.org/event/verda-silver-hill/
CATEGORIES:CTR
ORGANIZER;CN="Kathy Hall":MAILTO:kathy.stormybrook@gmail.com
END:VEVENT
BEGIN:VEVENT
DTSTART;VALUE=DATE:20220918
DTEND;VALUE=DATE:20220919
DTSTAMP:20260420T020535
CREATED:20220129T230121Z
LAST-MODIFIED:20220519T162022Z
UID:8747-1663459200-1663545599@www.ectra.org
SUMMARY:Horses Across Maine Fall Finale CTR - CANCELLED!
DESCRIPTION:Offering a 30 mile CTR and a 12.5 mile CDR.  Pass/fail option to be offered.  More information coming soon!
URL:https://www.ectra.org/event/horses-across-maine-fall-finale-ctr/
CATEGORIES:CTR
ORGANIZER;CN="Linda Jack":MAILTO:daffyjoe52@gmail.com
END:VEVENT
BEGIN:VEVENT
DTSTART;VALUE=DATE:20220917
DTEND;VALUE=DATE:20220918
DTSTAMP:20260420T020535
CREATED:20220119T175051Z
LAST-MODIFIED:20220707T203544Z
UID:8637-1663372800-1663459199@www.ectra.org
SUMMARY:Horses Across Maine Fall Finale - CANCELLED!
DESCRIPTION:Offering a 50 mile endurance ride as well as a 30 mile LD. More information available COMING SOON!
URL:https://www.ectra.org/event/horses-across-maine-fall-finale/
CATEGORIES:Endurance
ORGANIZER;CN="Linda Jack":MAILTO:daffyjoe52@gmail.com
END:VEVENT
BEGIN:VEVENT
DTSTART;VALUE=DATE:20220916
DTEND;VALUE=DATE:20220919
DTSTAMP:20260420T020535
CREATED:20220211T212045Z
LAST-MODIFIED:20220823T174055Z
UID:8679-1663286400-1663545599@www.ectra.org
SUMMARY:Fall Chesapeake
DESCRIPTION:Offering TWO days of 25 mile CTRs\, 2 days of 10 and 15 mile CDRs\, and a 2 day 50.  Pass/Fail division to be offered.  More information and entry HERE!
URL:https://www.ectra.org/event/fall-chesapeake-2/
LOCATION:Fair Hill NRMA\, 300 Tawes Dr.\, Elkton\, MD\, 21921\, United States
CATEGORIES:CTR
ORGANIZER;CN="Cate Peloquin":MAILTO:cpenguin57@aol.com
END:VEVENT
BEGIN:VEVENT
DTSTART;TZID=America/New_York:20220913T190000
DTEND;TZID=America/New_York:20220913T210000
DTSTAMP:20260420T020535
CREATED:20220523T014816Z
LAST-MODIFIED:20220523T175805Z
UID:9382-1663095600-1663102800@www.ectra.org
SUMMARY:Board Meeting
DESCRIPTION:If you’d like to attend the board meeting via Zoom please contact Carolyn Blocker \nJoin Zoom Meeting\nhttps://us02web.zoom.us/j/89486699170?pwd=Q2w0eW91VGV1cHVCYUlOTVNGM3k5QT09 
URL:https://www.ectra.org/event/board-meeting-6/
LOCATION:Zoom
CATEGORIES:Meeting
ORGANIZER;CN="Carolyn Blocker":MAILTO:Eagleonvineyard@msn.com
END:VEVENT
BEGIN:VEVENT
DTSTART;VALUE=DATE:20220910
DTEND;VALUE=DATE:20220911
DTSTAMP:20260420T020535
CREATED:20220119T175849Z
LAST-MODIFIED:20220820T021939Z
UID:8639-1662768000-1662854399@www.ectra.org
SUMMARY:Hector Half Hundred
DESCRIPTION:Offering a 50 mile endurance ride and a 30 mile LD.  More information and entry available HERE!
URL:https://www.ectra.org/event/hector-half-hundred-3/
LOCATION:Valois Logan Fire Station\, 5736 NY-414\, Hector\, NY\, 14841\, United States
CATEGORIES:Endurance
ORGANIZER;CN="Pamela Karner":MAILTO:drpamkarner@gmail.com
END:VEVENT
BEGIN:VEVENT
DTSTART;VALUE=DATE:20220902
DTEND;VALUE=DATE:20220905
DTSTAMP:20260420T020535
CREATED:20211129T210406Z
LAST-MODIFIED:20220212T020914Z
UID:8203-1662076800-1662335999@www.ectra.org
SUMMARY:GMHA Distance Days
DESCRIPTION:A Three Day Celebration of Competitive & Pleasure Riding\nFeaturing the 86th Annual 100-Mile Competitive Trail Ride. Will offer a Pass/Fail division.\nMore information available HERE!
URL:https://www.ectra.org/event/8203/
LOCATION:GMHA\, 5491 South Rd\,\, South Woodstock\, VT\, 05071\, United States
CATEGORIES:CTR
ORGANIZER;CN="Ally LaFlair":MAILTO:ally@gmhainc.org
END:VEVENT
BEGIN:VEVENT
DTSTART;VALUE=DATE:20220826
DTEND;VALUE=DATE:20220828
DTSTAMP:20260420T020535
CREATED:20220211T213823Z
LAST-MODIFIED:20220211T213823Z
UID:8834-1661472000-1661644799@www.ectra.org
SUMMARY:Iron Mountain Jubilee
DESCRIPTION:Offering a 55 mile endurance ride on the 26th and a 50 mile endurance ride on the 27th with 25 mile LDs offered both days.  More information and entry HERE!
URL:https://www.ectra.org/event/iron-mountain-jubilee-2/
LOCATION:Triple C Horse Camp\, 4104 Cripple Creek Road\, Cripple Creek\, VA\, 24322\, United States
CATEGORIES:Endurance
ORGANIZER;CN="Eric Rueter":MAILTO:eric@fleetfootfarm.com
END:VEVENT
BEGIN:VEVENT
DTSTART;VALUE=DATE:20220821
DTEND;VALUE=DATE:20220822
DTSTAMP:20260420T020535
CREATED:20220328T143632Z
LAST-MODIFIED:20220328T143632Z
UID:8823-1661040000-1661126399@www.ectra.org
SUMMARY:Wellwood Orchards Ride
DESCRIPTION:Offering a 30 mile CTR and a 15 mile CDR.  More information available HERE!
URL:https://www.ectra.org/event/wellwood-orchards-ride/
LOCATION:Wellwood orchards\, 529 Wellwood Orchard Rd\,\, Springfield\, VT\, 05156\, United States
CATEGORIES:CTR
ORGANIZER;CN="Karin Lewis":MAILTO:lovemyhorsetaz@aol.com
END:VEVENT
BEGIN:VEVENT
DTSTART;VALUE=DATE:20220810
DTEND;VALUE=DATE:20220814
DTSTAMP:20260420T020535
CREATED:20211129T211638Z
LAST-MODIFIED:20220607T165836Z
UID:8213-1660089600-1660435199@www.ectra.org
SUMMARY:Pine Tree Pioneer
DESCRIPTION:Offering a 50 mile endurance ride (except for Aug 11th which will be a 55 mile endurance ride) and 25 mile LD each day as well as a 3 day pioneer ride.  More information available HERE! Information and Entry Form HERE!
URL:https://www.ectra.org/event/pine-tree-pioneer/
CATEGORIES:Endurance
ORGANIZER;CN="Susan Niedoroda":MAILTO:sniedoroda@yahoo.com
END:VEVENT
BEGIN:VEVENT
DTSTART;TZID=America/New_York:20220806T080000
DTEND;TZID=America/New_York:20220807T170000
DTSTAMP:20260420T020535
CREATED:20211129T210143Z
LAST-MODIFIED:20220712T142735Z
UID:8200-1659772800-1659891600@www.ectra.org
SUMMARY:GMHA Aug 25/25/50 PF
DESCRIPTION:Choose a single day 25-mile or a 2-day 50-mile. You may also do 25-miles each day with 2 different horses. Also offering a 15 mile CDR/Drive each day. Will offer a pass/fail option. More information available HERE!
URL:https://www.ectra.org/event/gmha-aug/
LOCATION:GMHA\, 5491 South Rd\,\, South Woodstock\, VT\, 05071\, United States
CATEGORIES:CTR
ORGANIZER;CN="Ally LaFlair":MAILTO:ally@gmhainc.org
END:VEVENT
BEGIN:VEVENT
DTSTART;VALUE=DATE:20220806
DTEND;VALUE=DATE:20220807
DTSTAMP:20260420T020535
CREATED:20220712T143243Z
LAST-MODIFIED:20220712T191857Z
UID:9498-1659744000-1659830399@www.ectra.org
SUMMARY:Ride Between the Rivers
DESCRIPTION:Offering a 50 mile endurance ride and a 30 mile LD.  More information available HERE!
URL:https://www.ectra.org/event/ride-between-the-rivers-2/
LOCATION:Ellamore WV\, Ellamore\, West Viriginia\, United States
CATEGORIES:Endurance
ORGANIZER;CN="Kelsie Lewis":MAILTO:kelsielewis963@gmail.com
END:VEVENT
BEGIN:VEVENT
DTSTART;TZID=America/New_York:20220730T100000
DTEND;TZID=America/New_York:20220730T140000
DTSTAMP:20260420T020535
CREATED:20220623T171306Z
LAST-MODIFIED:20220623T171329Z
UID:9479-1659175200-1659189600@www.ectra.org
SUMMARY:Muckleratz Run Clinic
DESCRIPTION:Click HERE for information and entry!
URL:https://www.ectra.org/event/muckleratz-run-clinic-2/
LOCATION:Weiser State Forest\, White Oak Road\, Halifax\, PA\, 17032\, United States
CATEGORIES:CTR Clinic
ORGANIZER;CN="Carolyn Blocker":MAILTO:Eagleonvineyard@msn.com
END:VEVENT
BEGIN:VEVENT
DTSTART;VALUE=DATE:20220730
DTEND;VALUE=DATE:20220801
DTSTAMP:20260420T020535
CREATED:20220211T213508Z
LAST-MODIFIED:20220523T181715Z
UID:8685-1659139200-1659311999@www.ectra.org
SUMMARY:Muckleratz Run CTR/CDR
DESCRIPTION:Offering a 25 mile CTR each day and a 12.5 mile CDR each day.  Pass/Fail division will be offered.  More information and entry available HERE!
URL:https://www.ectra.org/event/muckleratz-ctr/
LOCATION:Weiser State Forest\, White Oak Road\, Halifax\, PA\, 17032\, United States
CATEGORIES:CTR
ORGANIZER;CN="Carolyn Blocker":MAILTO:Eagleonvineyard@msn.com
END:VEVENT
BEGIN:VEVENT
DTSTART;VALUE=DATE:20220716
DTEND;VALUE=DATE:20220717
DTSTAMP:20260420T020535
CREATED:20220119T180345Z
LAST-MODIFIED:20220614T160123Z
UID:8643-1657929600-1658015999@www.ectra.org
SUMMARY:Vermont 100/Moonlight in VT
DESCRIPTION:Offering a 50\, 75 and 100 mile endurance ride and a 25 mile LD.  More information and entries available HERE!
URL:https://www.ectra.org/event/vermont-100-moonlight-in-vt/
LOCATION:Silver Hill Field\, 1851 Silver Hill Road\, West Windsor\, VT\, 05089\, United States
CATEGORIES:Endurance
ORGANIZER;CN="Pamela Karner":MAILTO:drpamkarner@gmail.com
END:VEVENT
BEGIN:VEVENT
DTSTART;VALUE=DATE:20220709
DTEND;VALUE=DATE:20220710
DTSTAMP:20260420T020535
CREATED:20220328T143847Z
LAST-MODIFIED:20220912T180544Z
UID:9068-1657324800-1657411199@www.ectra.org
SUMMARY:Ride and Drive Along - Cancelled
DESCRIPTION:Offering a 30 mile CTR and Drive as well as a 15 and 10 mile CDR and Drive.  More information and entry available HERE!  Will have a pass/fail option.
URL:https://www.ectra.org/event/ride-and-drive-along/
LOCATION:Balla Machree Farm\, Broad Brook Road\, South Royalton\, VT\, 05068\, United States
CATEGORIES:CTR
ORGANIZER;CN="Carrie Maynard":MAILTO:Carriemaynard3472@gmail.com
END:VEVENT
BEGIN:VEVENT
DTSTART;VALUE=DATE:20220702
DTEND;VALUE=DATE:20220704
DTSTAMP:20260420T020535
CREATED:20220304T172933Z
LAST-MODIFIED:20220607T165924Z
UID:8681-1656720000-1656892799@www.ectra.org
SUMMARY:Muckleratz Endurance
DESCRIPTION:Offering a 50 mile endurance ride on July 2nd and 2 days of 30 mile LDs.  Information and entry HERE!
URL:https://www.ectra.org/event/muckleratz-endurance-2/
LOCATION:Weiser State Forest\, White Oak Road\, Halifax\, PA\, 17032\, United States
CATEGORIES:Endurance
ORGANIZER;CN="Holly Corcoran":MAILTO:hrc1963@ptd.net
END:VEVENT
BEGIN:VEVENT
DTSTART;VALUE=DATE:20220702
DTEND;VALUE=DATE:20220704
DTSTAMP:20260420T020535
CREATED:20220119T180521Z
LAST-MODIFIED:20220516T192015Z
UID:8645-1656720000-1656892799@www.ectra.org
SUMMARY:Horses Across Maine Firecracker
DESCRIPTION:Offering 50 mile endurance rides and 30 mile LDs both days.  More information and entry can be found HERE!
URL:https://www.ectra.org/event/horses-across-maine-firecracker-2/
CATEGORIES:Endurance
ORGANIZER;CN="Linda Jack":MAILTO:daffyjoe52@gmail.com
END:VEVENT
END:VCALENDAR