BEGIN:VCALENDAR
VERSION:2.0
PRODID:-//Eastern Competitive Trail Ride Association - ECPv6.15.20//NONSGML v1.0//EN
CALSCALE:GREGORIAN
METHOD:PUBLISH
X-WR-CALNAME:Eastern Competitive Trail Ride Association
X-ORIGINAL-URL:https://www.ectra.org
X-WR-CALDESC:Events for Eastern Competitive Trail Ride Association
REFRESH-INTERVAL;VALUE=DURATION:PT1H
X-Robots-Tag:noindex
X-PUBLISHED-TTL:PT1H
BEGIN:VTIMEZONE
TZID:America/New_York
BEGIN:DAYLIGHT
TZOFFSETFROM:-0500
TZOFFSETTO:-0400
TZNAME:EDT
DTSTART:20200308T070000
END:DAYLIGHT
BEGIN:STANDARD
TZOFFSETFROM:-0400
TZOFFSETTO:-0500
TZNAME:EST
DTSTART:20201101T060000
END:STANDARD
BEGIN:DAYLIGHT
TZOFFSETFROM:-0500
TZOFFSETTO:-0400
TZNAME:EDT
DTSTART:20210314T070000
END:DAYLIGHT
BEGIN:STANDARD
TZOFFSETFROM:-0400
TZOFFSETTO:-0500
TZNAME:EST
DTSTART:20211107T060000
END:STANDARD
BEGIN:DAYLIGHT
TZOFFSETFROM:-0500
TZOFFSETTO:-0400
TZNAME:EDT
DTSTART:20220313T070000
END:DAYLIGHT
BEGIN:STANDARD
TZOFFSETFROM:-0400
TZOFFSETTO:-0500
TZNAME:EST
DTSTART:20221106T060000
END:STANDARD
END:VTIMEZONE
BEGIN:VEVENT
DTSTART;VALUE=DATE:20211002
DTEND;VALUE=DATE:20211003
DTSTAMP:20260422T040747
CREATED:20210301T182154Z
LAST-MODIFIED:20210912T132805Z
UID:6915-1633132800-1633219199@www.ectra.org
SUMMARY:Mustang Memorial
DESCRIPTION:Offering  50\, 65\, 75 and 100 mile endurance rides as well as a 30 mile LD.  Information and entry available HERE! \n  \n 
URL:https://www.ectra.org/event/mustang-memorial-2/
LOCATION:NJ
CATEGORIES:Endurance
ORGANIZER;CN="Maile Irion":MAILTO:endurancenj@gmail.com
END:VEVENT
BEGIN:VEVENT
DTSTART;VALUE=DATE:20210925
DTEND;VALUE=DATE:20210926
DTSTAMP:20260422T040747
CREATED:20210623T144312Z
LAST-MODIFIED:20210701T124818Z
UID:7364-1632528000-1632614399@www.ectra.org
SUMMARY:VERDA Ride at Silver Hill
DESCRIPTION:Offering a 25 mile CTR and a 15 mile CDR.  More information and entry available HERE!
URL:https://www.ectra.org/event/7364/
LOCATION:Smoke Rise Farm\, 1851 Silver Hill Road\, West Windsor\, VT\, United States
CATEGORIES:CTR
ORGANIZER;CN="Kathy Hall":MAILTO:kathy.stormybrook@gmail.com
END:VEVENT
BEGIN:VEVENT
DTSTART;TZID=America/New_York:20210921T190000
DTEND;TZID=America/New_York:20210921T210000
DTSTAMP:20260422T040747
CREATED:20210726T175409Z
LAST-MODIFIED:20210726T175823Z
UID:7494-1632250800-1632258000@www.ectra.org
SUMMARY:BOD Meeting via Zoom
DESCRIPTION:For more information contact Carolyn Blocker.
URL:https://www.ectra.org/event/bod-meeting-via-zoom/
LOCATION:NJ
CATEGORIES:Meeting
ORGANIZER;CN="Carolyn Blocker":MAILTO:Eagleonvineyard@msn.com
END:VEVENT
BEGIN:VEVENT
DTSTART;VALUE=DATE:20210917
DTEND;VALUE=DATE:20210920
DTSTAMP:20260422T040747
CREATED:20210301T181201Z
LAST-MODIFIED:20210912T131603Z
UID:6908-1631836800-1632095999@www.ectra.org
SUMMARY:Fall Chesapeake
DESCRIPTION:Offering 3 days of 25 and 30 mile CTRs and a 10 or 15 mile CDR each day. More information and entry HERE!
URL:https://www.ectra.org/event/fall-chesapeake/
LOCATION:Fair Hill NRMA\, 300 Tawes Dr.\, Elkton\, MD\, 21921\, United States
CATEGORIES:CTR
ORGANIZER;CN="Cate Peloquin":MAILTO:cpenguin57@aol.com
END:VEVENT
BEGIN:VEVENT
DTSTART;VALUE=DATE:20210911
DTEND;VALUE=DATE:20210912
DTSTAMP:20260422T040747
CREATED:20210301T182400Z
LAST-MODIFIED:20210301T182400Z
UID:6917-1631318400-1631404799@www.ectra.org
SUMMARY:Hector Half Hundred
DESCRIPTION:Offering a 50 mile endurance ride and a 30 mile LD.  More information available HERE!
URL:https://www.ectra.org/event/hector-half-hundred-2/
LOCATION:NJ
CATEGORIES:Endurance
ORGANIZER;CN="Eva Norris":MAILTO:eva83919@aol.com
END:VEVENT
BEGIN:VEVENT
DTSTART;VALUE=DATE:20210903
DTEND;VALUE=DATE:20210907
DTSTAMP:20260422T040747
CREATED:20210107T170718Z
LAST-MODIFIED:20210107T170718Z
UID:6781-1630627200-1630972799@www.ectra.org
SUMMARY:GMHA Distance Days CTR
DESCRIPTION:Offering a 40 mile CTR on 9/3/3021\, a 35 mile CTR on 9/4/2021 and a 25 mile CTR on 9/5/2021 in addition to a 2 day 75 mile CTR 9/3 – 9/4\, a 60 mile CTR 9/4 and 9/5 and the 100 mile CTR 9/4 – 9/6!  Also offering a 15 mile CDR on 9/5/2021.  More information available HERE!
URL:https://www.ectra.org/event/gmha-distance-days-ctr/
LOCATION:GMHA\, 5491 South Rd\,\, South Woodstock\, VT\, 05071\, United States
CATEGORIES:CTR
ORGANIZER;CN="Ally LaFlair":MAILTO:ally@gmhainc.org
END:VEVENT
BEGIN:VEVENT
DTSTART;VALUE=DATE:20210827
DTEND;VALUE=DATE:20210829
DTSTAMP:20260422T040747
CREATED:20210427T180025Z
LAST-MODIFIED:20210427T180025Z
UID:7190-1630022400-1630195199@www.ectra.org
SUMMARY:Iron Mountain Jubilee
DESCRIPTION:Offering a 50 mile endurance ride and 25 mile LD each day.  More information and entry form HERE!
URL:https://www.ectra.org/event/iron-mountain-jubilee/
LOCATION:Triple C Horse Camp\, 4104 Cripple Creek Road\, Cripple Creek\, VA\, 24322\, United States
CATEGORIES:Endurance
ORGANIZER;CN="Eric Rueter":MAILTO:eric@fleetfootfarm.com
END:VEVENT
BEGIN:VEVENT
DTSTART;VALUE=DATE:20210822
DTEND;VALUE=DATE:20210823
DTSTAMP:20260422T040747
CREATED:20210623T143642Z
LAST-MODIFIED:20210623T143734Z
UID:7359-1629590400-1629676799@www.ectra.org
SUMMARY:Muckleratz Run CTR PF
DESCRIPTION:Offering a 25 mile CTR and a 12.5 mile CDR.  More information and entry available HERE!
URL:https://www.ectra.org/event/muckleratz-run-ctr-pf/
LOCATION:Weiser State Forest\, White Oak Road\, Halifax\, PA\, 17032\, United States
CATEGORIES:CTR
ORGANIZER;CN="Carolyn Blocker":MAILTO:Eagleonvineyard@msn.com
END:VEVENT
BEGIN:VEVENT
DTSTART;VALUE=DATE:20210821
DTEND;VALUE=DATE:20210822
DTSTAMP:20260422T040747
CREATED:20210623T143857Z
LAST-MODIFIED:20210623T143857Z
UID:7362-1629504000-1629590399@www.ectra.org
SUMMARY:Muckleratz Run Clinic
DESCRIPTION:Offering a clinic the day before the Muckleratz Run CTR.  Discount entry to CTR available for clinic riders.  More information and entry available HERE!
URL:https://www.ectra.org/event/muckleratz-run-clinic/
LOCATION:Weiser State Forest\, White Oak Road\, Halifax\, PA\, 17032\, United States
CATEGORIES:CTR Clinic
ORGANIZER;CN="Carolyn Blocker":MAILTO:Eagleonvineyard@msn.com
END:VEVENT
BEGIN:VEVENT
DTSTART;VALUE=DATE:20210821
DTEND;VALUE=DATE:20210822
DTSTAMP:20260422T040747
CREATED:20210301T180558Z
LAST-MODIFIED:20210701T133257Z
UID:6902-1629504000-1629590399@www.ectra.org
SUMMARY:Wellwood Orchards
DESCRIPTION:Offering a 30 mile CTR and a 15 mile CDR.  Information and entry available HERE!
URL:https://www.ectra.org/event/wellwood-orchards/
LOCATION:Wellwood orchards\, 529 Wellwood Orchard Rd\,\, Springfield\, VT\, 05156\, United States
CATEGORIES:CTR
ORGANIZER;CN="Karin Lewis":MAILTO:lovemyhorsetaz@aol.com
END:VEVENT
BEGIN:VEVENT
DTSTART;VALUE=DATE:20210810
DTEND;VALUE=DATE:20210815
DTSTAMP:20260422T040747
CREATED:20200709T195159Z
LAST-MODIFIED:20210712T170956Z
UID:6182-1628553600-1628985599@www.ectra.org
SUMMARY:Pine Tree Endurance
DESCRIPTION:Offering a 25 mile LD each day and a 50 mile endurance ride each day (except for August 12 when the endurance ride will be 55 miles).  More information available HERE!  Ride Entry and Info HERE!
URL:https://www.ectra.org/event/pine-tree-endurance-2/
LOCATION:Fryeburg Fairgrounds\, Fryeburg\, ME\, United States
CATEGORIES:Endurance
ORGANIZER;CN="Lucha Malato":MAILTO:Luchamalato@gmail.com
END:VEVENT
BEGIN:VEVENT
DTSTART;VALUE=DATE:20210807
DTEND;VALUE=DATE:20210809
DTSTAMP:20260422T040747
CREATED:20210107T170419Z
LAST-MODIFIED:20210107T170419Z
UID:6779-1628294400-1628467199@www.ectra.org
SUMMARY:GMHA 25/25/50
DESCRIPTION:Offering a 25 mile CTR and drive both days and a 2 day 50 mile CTR and drive. More information available HERE!
URL:https://www.ectra.org/event/gmha-25-25-50/
LOCATION:GMHA\, 5491 South Rd\,\, South Woodstock\, VT\, 05071\, United States
CATEGORIES:CTR
ORGANIZER;CN="Ally LaFlair":MAILTO:ally@gmhainc.org
END:VEVENT
BEGIN:VEVENT
DTSTART;VALUE=DATE:20210807
DTEND;VALUE=DATE:20210808
DTSTAMP:20260422T040747
CREATED:20210723T000935Z
LAST-MODIFIED:20210723T000935Z
UID:7479-1628294400-1628380799@www.ectra.org
SUMMARY:Ride Between the Rivers
DESCRIPTION:Offering a 25 mile LD\, a 50 mile endurance ride and an Intro ride.  More info and entry HERE!
URL:https://www.ectra.org/event/ride-between-the-rivers/
LOCATION:Ride Between the Rivers Basecamp\, Rt. 1\, Ellamore\, WV\, 26267\, United States
CATEGORIES:Endurance
ORGANIZER;CN="Kelsie Lewis":MAILTO:kelsielewis963@gmail.com
END:VEVENT
BEGIN:VEVENT
DTSTART;VALUE=DATE:20210717
DTEND;VALUE=DATE:20210718
DTSTAMP:20260422T040747
CREATED:20210301T181814Z
LAST-MODIFIED:20210519T201008Z
UID:6913-1626480000-1626566399@www.ectra.org
SUMMARY:Daylight in Vermont: The COVID Edition
DESCRIPTION:Offering a 50 mile endurance ride and a 25 mile LD.  More information and entry available HERE!
URL:https://www.ectra.org/event/moonlight-in-vermont-2/
LOCATION:West Windsor\, Vermont\, 1302 Silver Hill Rd.\, West Windsor\, VT\, 05089\, United States
CATEGORIES:Endurance
ORGANIZER;CN="Jo Steele":MAILTO:snowgoosevt@gmail.com
END:VEVENT
BEGIN:VEVENT
DTSTART;VALUE=DATE:20210710
DTEND;VALUE=DATE:20210711
DTSTAMP:20260422T040747
CREATED:20210519T181346Z
LAST-MODIFIED:20210701T124932Z
UID:7271-1625875200-1625961599@www.ectra.org
SUMMARY:VERDA Ride & Drive Along at Balla Machree PF - CANCELLED!
DESCRIPTION:Offering both a 30 mile CTR and competitive drive and a 15 mile CDR.  More information HERE! \n 
URL:https://www.ectra.org/event/verda-ride-drive-along-at-balla-machree-pf/
LOCATION:Balla Machree Farm\, Broad Brook Road\, South Royalton\, VT\, 05068\, United States
CATEGORIES:CTR
ORGANIZER;CN="Carrie Maynard":MAILTO:Carriemaynard3472@gmail.com
END:VEVENT
BEGIN:VEVENT
DTSTART;VALUE=DATE:20210703
DTEND;VALUE=DATE:20210705
DTSTAMP:20260422T040747
CREATED:20210331T001309Z
LAST-MODIFIED:20210412T194131Z
UID:7080-1625270400-1625443199@www.ectra.org
SUMMARY:Rock n Roll at Muckleratz
DESCRIPTION:Offering a 50 mile endurance ride as well as a 30 mile LD each day. More information and entry form HERE!
URL:https://www.ectra.org/event/muckleratz-endurance/
LOCATION:Weiser State Forest\, White Oak Road\, Halifax\, PA\, 17032\, United States
CATEGORIES:Endurance
ORGANIZER;CN="Lucha Malato":MAILTO:Luchamalato@gmail.com
END:VEVENT
BEGIN:VEVENT
DTSTART;VALUE=DATE:20210703
DTEND;VALUE=DATE:20210704
DTSTAMP:20260422T040747
CREATED:20210205T173316Z
LAST-MODIFIED:20210205T173316Z
UID:6851-1625270400-1625356799@www.ectra.org
SUMMARY:Horses Across Maine Firecracker
DESCRIPTION:Offering a 50 mile endurance ride and 30 mile LD.
URL:https://www.ectra.org/event/horses-across-maine-firecracker/
LOCATION:NJ
CATEGORIES:Endurance
ORGANIZER;CN="Linda Jack":MAILTO:daffyjoe52@gmail.com
END:VEVENT
BEGIN:VEVENT
DTSTART;VALUE=DATE:20210619
DTEND;VALUE=DATE:20210621
DTSTAMP:20260422T040747
CREATED:20210205T172548Z
LAST-MODIFIED:20210205T172605Z
UID:6838-1624060800-1624233599@www.ectra.org
SUMMARY:Brookfield Ride PF
DESCRIPTION:Ride information and entry form available HERE!
URL:https://www.ectra.org/event/6838/
LOCATION:Pure Country Campground\, 176 Kelly Road\, New Berlin\, NY\, 13411\, United States
CATEGORIES:CTR
ORGANIZER;CN="Lynn Dunn":MAILTO:Lynn@eminencehighpastures.com Lynn@eminencehighpastures.com
END:VEVENT
BEGIN:VEVENT
DTSTART;VALUE=DATE:20210613
DTEND;VALUE=DATE:20210614
DTSTAMP:20260422T040747
CREATED:20210107T165747Z
LAST-MODIFIED:20210301T194654Z
UID:6773-1623542400-1623628799@www.ectra.org
SUMMARY:GMHA Spring Endurance
DESCRIPTION:Offering a 50 mile endurance ride and a 25 mile LD.  More information HERE!
URL:https://www.ectra.org/event/gmha-spring-endurance-2/
LOCATION:GMHA\, 5491 South Rd\,\, South Woodstock\, VT\, 05071\, United States
CATEGORIES:Endurance
ORGANIZER;CN="Ally LaFlair":MAILTO:ally@gmhainc.org
END:VEVENT
BEGIN:VEVENT
DTSTART;VALUE=DATE:20210612
DTEND;VALUE=DATE:20210613
DTSTAMP:20260422T040747
CREATED:20210107T170227Z
LAST-MODIFIED:20210107T170227Z
UID:6777-1623456000-1623542399@www.ectra.org
SUMMARY:GMHA Spring CTR
DESCRIPTION:Offering a 25 mile CTR and Drive as well as a 15 mile CDR.  More information HERE!
URL:https://www.ectra.org/event/gmha-spring-ctr/
LOCATION:GMHA\, 5491 South Rd\,\, South Woodstock\, VT\, 05071\, United States
CATEGORIES:CTR
ORGANIZER;CN="Ally LaFlair":MAILTO:ally@gmhainc.org
END:VEVENT
BEGIN:VEVENT
DTSTART;VALUE=DATE:20210611
DTEND;VALUE=DATE:20210613
DTSTAMP:20260422T040747
CREATED:20210205T173118Z
LAST-MODIFIED:20210205T173118Z
UID:6847-1623369600-1623542399@www.ectra.org
SUMMARY:Old Dominion
DESCRIPTION:Offering a 55 mile endurance ride and a 25 mile LD on June 11 and the 100 mile endurance ride on June 12.  More information and entry available HERE!
URL:https://www.ectra.org/event/old-dominion-2/
LOCATION:NJ
CATEGORIES:Endurance
ORGANIZER;CN="Emily Carrico":MAILTO:mzstumpy@gmail.com
END:VEVENT
BEGIN:VEVENT
DTSTART;VALUE=DATE:20210530
DTEND;VALUE=DATE:20210531
DTSTAMP:20260422T040747
CREATED:20210331T001029Z
LAST-MODIFIED:20210409T134858Z
UID:7076-1622332800-1622419199@www.ectra.org
SUMMARY:Maine Rides CDR
DESCRIPTION:Offering a 25 mile CTR and a 10 mile CDR.  Information and entry HERE!
URL:https://www.ectra.org/event/maine-rides-cdr/
LOCATION:NJ
CATEGORIES:CTR
ORGANIZER;CN="Louise Lester":MAILTO:louise1@maine.rr.com
END:VEVENT
BEGIN:VEVENT
DTSTART;VALUE=DATE:20210530
DTEND;VALUE=DATE:20210531
DTSTAMP:20260422T040747
CREATED:20210102T223950Z
LAST-MODIFIED:20210301T182534Z
UID:6755-1622332800-1622419199@www.ectra.org
SUMMARY:New York Adventure
DESCRIPTION:Will have 30 mile LD as well as 50/75/100 mile endurance rides.  There will also be a  a 12 mile and 30 mile Ride-n-Tie. More information HERE!
URL:https://www.ectra.org/event/new-york-adventure/
LOCATION:Pure Country Campground\, 176 Kelly Road\, New Berlin\, NY\, 13411\, United States
CATEGORIES:Endurance
ORGANIZER;CN="Dodie Sable":MAILTO:dodie@newpromisefarms.com
END:VEVENT
BEGIN:VEVENT
DTSTART;VALUE=DATE:20210529
DTEND;VALUE=DATE:20210530
DTSTAMP:20260422T040747
CREATED:20210331T001134Z
LAST-MODIFIED:20210409T135055Z
UID:7078-1622246400-1622332799@www.ectra.org
SUMMARY:Maine Rides CTR Clinic
DESCRIPTION:Offering a 5 mile clinic the day before the Maine Rides CDR.  Information and Entry HERE!
URL:https://www.ectra.org/event/maine-rides-ctr-clinic/
LOCATION:NJ
CATEGORIES:CTR Clinic
ORGANIZER;CN="Louise Lester":MAILTO:louise1@maine.rr.com
END:VEVENT
BEGIN:VEVENT
DTSTART;VALUE=DATE:20210515
DTEND;VALUE=DATE:20210517
DTSTAMP:20260422T040747
CREATED:20210324T181741Z
LAST-MODIFIED:20210412T194317Z
UID:6997-1621036800-1621209599@www.ectra.org
SUMMARY:Seven Mountains CTR
DESCRIPTION:Offering a 15 mile CDR and 30 mile CTR each day. More information and entry available HERE!  If you printed an entry form prior to 4/12/2021 please complete the Seven Mountain COVID Registration Form\, available HERE and send to Millie!
URL:https://www.ectra.org/event/seven-mountains-ctr/
LOCATION:Seven Mountains Boy Scout Camp\, 227 Sand Mountain Rd.\, Spring Mills\, PA\, 16875\, United States
CATEGORIES:CTR
ORGANIZER;CN="Jessica Hermann":MAILTO:contemplatedrisk@gmail.com
END:VEVENT
BEGIN:VEVENT
DTSTART;VALUE=DATE:20210509
DTEND;VALUE=DATE:20210510
DTSTAMP:20260422T040747
CREATED:20210301T181450Z
LAST-MODIFIED:20210301T181450Z
UID:6910-1620518400-1620604799@www.ectra.org
SUMMARY:Bare Bones Endurance
DESCRIPTION:Offering a 50 mile endurance ride and a 30 mile LD.  More information and entry available HERE!
URL:https://www.ectra.org/event/bare-bones-endurance/
LOCATION:Cornish NH Fairgrounds\, 294 Town House Rd\, Cornish\, NH\, 03745\, United States
CATEGORIES:Endurance
ORGANIZER;CN="Laura Farrell":MAILTO:JLFarrell0@gmail.com
END:VEVENT
BEGIN:VEVENT
DTSTART;VALUE=DATE:20210508
DTEND;VALUE=DATE:20210509
DTSTAMP:20260422T040747
CREATED:20210302T142505Z
LAST-MODIFIED:20210302T142505Z
UID:6920-1620432000-1620518399@www.ectra.org
SUMMARY:Brown Bag CTR
DESCRIPTION:Offering a 25 mile CTR and a 15 mile CDR.  More information and entry available HERE!
URL:https://www.ectra.org/event/brown-bag-ctr/
LOCATION:Cornish NH Fairgrounds\, 294 Town House Rd\, Cornish\, NH\, 03745\, United States
CATEGORIES:CTR
ORGANIZER;CN="Kathy Callen-Rondeau":MAILTO:kcrvt@icloud.com
END:VEVENT
BEGIN:VEVENT
DTSTART;VALUE=DATE:20210507
DTEND;VALUE=DATE:20210510
DTSTAMP:20260422T040747
CREATED:20201215T140254Z
LAST-MODIFIED:20210324T181921Z
UID:6737-1620345600-1620604799@www.ectra.org
SUMMARY:NJ 100+ CANCELLED!
DESCRIPTION:Offering a 25\, 35 and 40 mile one day CTR\, a 2 day 60 and 75 mile CTR as well as a 3 day 100 mile CTR and several CDR rides each day.  More information and entry available HERE!
URL:https://www.ectra.org/event/nj-100/
LOCATION:NJ
CATEGORIES:CTR
ORGANIZER;CN="Rebecca Wachtel":MAILTO:rebeccawachtel370@gmail.com
END:VEVENT
BEGIN:VEVENT
DTSTART;VALUE=DATE:20210501
DTEND;VALUE=DATE:20210502
DTSTAMP:20260422T040747
CREATED:20210331T000802Z
LAST-MODIFIED:20210331T000836Z
UID:7069-1619827200-1619913599@www.ectra.org
SUMMARY:Blackhorse Stomp
DESCRIPTION:Offering a 50 mile endurance ride.  Ride information and entry available HERE!
URL:https://www.ectra.org/event/blackhorse-stomp/
LOCATION:Camp Bethel\, 328 Bethel Road\, Fincastle\, VA\, United States
CATEGORIES:Endurance
ORGANIZER;CN="Sarah Schick":MAILTO:schicksa5184@gmail.com
END:VEVENT
BEGIN:VEVENT
DTSTART;VALUE=DATE:20210424
DTEND;VALUE=DATE:20210425
DTSTAMP:20260422T040747
CREATED:20210301T180142Z
LAST-MODIFIED:20210301T180142Z
UID:6899-1619222400-1619308799@www.ectra.org
SUMMARY:VERDA Mud Ride PF
DESCRIPTION:Offering a 25 mile CTR and a 15 mile CDR.  For more information and entry click HERE!
URL:https://www.ectra.org/event/verda-mud-ride-pf/
LOCATION:Heyday Morgans\, 1065 Eureka Road \, VT\, Springfield\, VT\, 05156
CATEGORIES:CTR
ORGANIZER;CN="Sara Lareau":MAILTO:smlareau99@gmail.com
END:VEVENT
END:VCALENDAR