BEGIN:VCALENDAR
VERSION:2.0
PRODID:-//Eastern Competitive Trail Ride Association - ECPv6.15.20//NONSGML v1.0//EN
CALSCALE:GREGORIAN
METHOD:PUBLISH
X-WR-CALNAME:Eastern Competitive Trail Ride Association
X-ORIGINAL-URL:https://www.ectra.org
X-WR-CALDESC:Events for Eastern Competitive Trail Ride Association
REFRESH-INTERVAL;VALUE=DURATION:PT1H
X-Robots-Tag:noindex
X-PUBLISHED-TTL:PT1H
BEGIN:VTIMEZONE
TZID:America/New_York
BEGIN:DAYLIGHT
TZOFFSETFROM:-0500
TZOFFSETTO:-0400
TZNAME:EDT
DTSTART:20190310T070000
END:DAYLIGHT
BEGIN:STANDARD
TZOFFSETFROM:-0400
TZOFFSETTO:-0500
TZNAME:EST
DTSTART:20191103T060000
END:STANDARD
BEGIN:DAYLIGHT
TZOFFSETFROM:-0500
TZOFFSETTO:-0400
TZNAME:EDT
DTSTART:20200308T070000
END:DAYLIGHT
BEGIN:STANDARD
TZOFFSETFROM:-0400
TZOFFSETTO:-0500
TZNAME:EST
DTSTART:20201101T060000
END:STANDARD
BEGIN:DAYLIGHT
TZOFFSETFROM:-0500
TZOFFSETTO:-0400
TZNAME:EDT
DTSTART:20210314T070000
END:DAYLIGHT
BEGIN:STANDARD
TZOFFSETFROM:-0400
TZOFFSETTO:-0500
TZNAME:EST
DTSTART:20211107T060000
END:STANDARD
END:VTIMEZONE
BEGIN:VTIMEZONE
TZID:UTC
BEGIN:STANDARD
TZOFFSETFROM:+0000
TZOFFSETTO:+0000
TZNAME:UTC
DTSTART:20190101T000000
END:STANDARD
END:VTIMEZONE
BEGIN:VEVENT
DTSTART;TZID=America/New_York:20201022T190000
DTEND;TZID=America/New_York:20201022T210000
DTSTAMP:20260422T102319
CREATED:20200926T015219Z
LAST-MODIFIED:20200926T015219Z
UID:6390-1603393200-1603400400@www.ectra.org
SUMMARY:Board Meeting
DESCRIPTION:Members can attend via Skype or telephone. Contact Rebecca Wachtel if interested.
URL:https://www.ectra.org/event/board-meeting-4/
LOCATION:MD
CATEGORIES:Meeting
ORGANIZER;CN="Rebecca Wachtel":MAILTO:rebeccawachtel370@gmail.com
END:VEVENT
BEGIN:VEVENT
DTSTART;VALUE=DATE:20201011
DTEND;VALUE=DATE:20201012
DTSTAMP:20260422T102319
CREATED:20191112T203907Z
LAST-MODIFIED:20200727T233311Z
UID:4668-1602374400-1602460799@www.ectra.org
SUMMARY:Blackwater Swamp Stomp - CANCELLED!
DESCRIPTION:Offering a  50 mile endurance ride and a 30 mile LD.
URL:https://www.ectra.org/event/4668/
LOCATION:MD
CATEGORIES:Endurance
ORGANIZER;CN="Sarah Schick":MAILTO:schicksa5184@gmail.com
END:VEVENT
BEGIN:VEVENT
DTSTART;VALUE=DATE:20201010
DTEND;VALUE=DATE:20201011
DTSTAMP:20260422T102319
CREATED:20200203T223656Z
LAST-MODIFIED:20200827T173735Z
UID:5427-1602288000-1602374399@www.ectra.org
SUMMARY:Foxcatcher Endurance
DESCRIPTION:Offering 50\, 65\, 75 and 100 mile endurance rides and a 25 mile LD. More information available HERE!
URL:https://www.ectra.org/event/foxcatcher-endurance/
LOCATION:Fair Hill NRMA\, 300 Tawes Dr.\, Elkton\, MD\, 21921\, United States
CATEGORIES:Endurance
ORGANIZER;CN="Cheryl Banks":MAILTO:clbanks08@verizon.net
END:VEVENT
BEGIN:VEVENT
DTSTART;VALUE=DATE:20201010
DTEND;VALUE=DATE:20201011
DTSTAMP:20260422T102319
CREATED:20191114T220752Z
LAST-MODIFIED:20200203T222310Z
UID:4699-1602288000-1602374399@www.ectra.org
SUMMARY:GMHA Fall Endurance
DESCRIPTION:Offering a 50 mile endurance ride and a  30 mile LD. More information available HERE!
URL:https://www.ectra.org/event/gmha-fall-endurance/
LOCATION:GMHA\, 5491 South Rd\,\, South Woodstock\, VT\, 05071\, United States
CATEGORIES:Endurance
ORGANIZER;CN="Ally LaFlair":MAILTO:ally@gmhainc.org
END:VEVENT
BEGIN:VEVENT
DTSTART;VALUE=DATE:20201003
DTEND;VALUE=DATE:20201006
DTSTAMP:20260422T102319
CREATED:20191112T193814Z
LAST-MODIFIED:20200811T020102Z
UID:4655-1601683200-1601942399@www.ectra.org
SUMMARY:Horses Across Maine - CANCELLED!
DESCRIPTION:Offering a 30 mile CTR On October 3 and a 25 mile CTR on both October 4 & 5.  Also offering a 55 mile CTR on October 3 & 4 as well as a 50 mile CTR October 4 & 5 and a 3 day 80 (October 3 – 5).  There will also be 12.5 mile CDRs each day.
URL:https://www.ectra.org/event/horses-across-maine/
LOCATION:MD
CATEGORIES:CTR
ORGANIZER;CN="Linda Jack":MAILTO:daffyjoe52@gmail.com
END:VEVENT
BEGIN:VEVENT
DTSTART;VALUE=DATE:20201003
DTEND;VALUE=DATE:20201004
DTSTAMP:20260422T102319
CREATED:20200203T204824Z
LAST-MODIFIED:20200818T131140Z
UID:5385-1601683200-1601769599@www.ectra.org
SUMMARY:Mustang Memorial - CANCELLED!
DESCRIPTION:Offering a 50\, 75 and 100 mile endurance ride and a 30 mile LD. More information available HERE!
URL:https://www.ectra.org/event/mustang-memorial/
LOCATION:Indian Mills Gun Club\, Atsion Rd\, Atsion\, NJ\, United States
CATEGORIES:Endurance
ORGANIZER;CN="Holly MacDonald":MAILTO:HMAC34@yahoo.com
END:VEVENT
BEGIN:VEVENT
DTSTART;TZID=UTC:20200919T080000
DTEND;TZID=UTC:20200919T170000
DTSTAMP:20260422T102319
CREATED:20200203T220850Z
LAST-MODIFIED:20200731T142819Z
UID:5406-1600502400-1600534800@www.ectra.org
SUMMARY:VERDA 25/15 & CTR
DESCRIPTION:Offering a 25 mile CTR and a 15 mile CDR.  More information available HERE!
URL:https://www.ectra.org/event/5406/
LOCATION:Smoke Rise Farm\, 1851 Silver Hill Road\, West Windsor\, VT\, United States
CATEGORIES:CTR
ORGANIZER;CN="Elizabeth Gibbons":MAILTO:gibbonsem@gmail.com
END:VEVENT
BEGIN:VEVENT
DTSTART;VALUE=DATE:20200918
DTEND;VALUE=DATE:20200921
DTSTAMP:20260422T102319
CREATED:20191112T211730Z
LAST-MODIFIED:20200731T145455Z
UID:4675-1600387200-1600646399@www.ectra.org
SUMMARY:Chesapeake Fall
DESCRIPTION:Offering three days of 25 mile CTRs and a choice of a 10 mile or 15 mile CDR each day.  Info and Entry available HERE!
URL:https://www.ectra.org/event/chesapeake-fall/
LOCATION:Fair Hill NRMA\, 300 Tawes Dr.\, Elkton\, MD\, 21921\, United States
CATEGORIES:CTR
ORGANIZER;CN="Cate Peloquin":MAILTO:cpenguin57@aol.com
END:VEVENT
BEGIN:VEVENT
DTSTART;VALUE=DATE:20200912
DTEND;VALUE=DATE:20200913
DTSTAMP:20260422T102319
CREATED:20191112T203822Z
LAST-MODIFIED:20200812T024809Z
UID:4666-1599868800-1599955199@www.ectra.org
SUMMARY:Hector Half Hundred
DESCRIPTION:Offering a 50 mile endurance ride\, a 30 mile LD and a 15 mile Intro ride. Ride flyer and entry available HERE!
URL:https://www.ectra.org/event/hector-half-hundred/
LOCATION:MD
CATEGORIES:Endurance
ORGANIZER;CN="Eva Norris":MAILTO:eva83919@aol.com
END:VEVENT
BEGIN:VEVENT
DTSTART;VALUE=DATE:20200904
DTEND;VALUE=DATE:20200907
DTSTAMP:20260422T102319
CREATED:20191114T220608Z
LAST-MODIFIED:20200203T221649Z
UID:4697-1599177600-1599436799@www.ectra.org
SUMMARY:GMHA Distance Days
DESCRIPTION:Distance Days is a 3-day celebration of equestrian trail riding. Competitive and pleasure riding are offered all 3 days with an incredible variety of distances. The weekend is built around the historic 3-Day 100-Mile Ride – the oldest and first in the U.S.\, now in its 84th year. For more information click HERE!
URL:https://www.ectra.org/event/gmha-distance-days/
LOCATION:GMHA\, 5491 South Rd\,\, South Woodstock\, VT\, 05071\, United States
CATEGORIES:CTR
ORGANIZER;CN="Ally LaFlair":MAILTO:ally@gmhainc.org
END:VEVENT
BEGIN:VEVENT
DTSTART;VALUE=DATE:20200822
DTEND;VALUE=DATE:20200823
DTSTAMP:20260422T102319
CREATED:20200203T220035Z
LAST-MODIFIED:20200721T221606Z
UID:5396-1598054400-1598140799@www.ectra.org
SUMMARY:Seven Mountain CTR - RESCHEDULED!
DESCRIPTION:Offering a 30 mile CTR and a 15 mile CDR.  Entry form and info available HERE!
URL:https://www.ectra.org/event/seven-mountain-ctr/
LOCATION:Seven Mountains Boy Scout Camp\, 227 Sand Mountain Rd.\, Spring Mills\, PA\, 16875\, United States
CATEGORIES:CTR
ORGANIZER;CN="Jessica Hermann":MAILTO:contemplatedrisk@gmail.com
END:VEVENT
BEGIN:VEVENT
DTSTART;VALUE=DATE:20200815
DTEND;VALUE=DATE:20200816
DTSTAMP:20260422T102319
CREATED:20200229T023253Z
LAST-MODIFIED:20200804T185146Z
UID:5612-1597449600-1597535999@www.ectra.org
SUMMARY:Wellwood Orchard 30/15 PF - CANCELLED!
DESCRIPTION:Offering a 30 mile CTR and a 15 mile CDR
URL:https://www.ectra.org/event/wellwood-orchard-30-15-pf/
LOCATION:MD
CATEGORIES:CTR
ORGANIZER;CN="Karin Lewis":MAILTO:lovemyhorsetaz@aol.com
END:VEVENT
BEGIN:VEVENT
DTSTART;VALUE=DATE:20200811
DTEND;VALUE=DATE:20200816
DTSTAMP:20260422T102319
CREATED:20200203T222524Z
LAST-MODIFIED:20200709T194912Z
UID:5420-1597104000-1597535999@www.ectra.org
SUMMARY:Pine Tree Endurance - CANCELLED!
DESCRIPTION:Offering daily 50 or 55 mile endurance rides as well as daily LDs and the only pioneer ride in the NE. More information coming soon!
URL:https://www.ectra.org/event/pine-tree-endurance/
LOCATION:Fryeburg Fairgrounds\, Fryeburg\, ME\, United States
CATEGORIES:Endurance
ORGANIZER;CN="Lucha Malato":MAILTO:Luchamalato@gmail.com
END:VEVENT
BEGIN:VEVENT
DTSTART;VALUE=DATE:20200801
DTEND;VALUE=DATE:20200803
DTSTAMP:20260422T102319
CREATED:20191114T220242Z
LAST-MODIFIED:20200203T221540Z
UID:4693-1596240000-1596412799@www.ectra.org
SUMMARY:GMHA CTR & Drive
DESCRIPTION:Test your horse’s conditioning over a 2-Day\, 50-Mile ECTRA sanctioned competitive trail ride and drive\, or do a single-day 25-mile ride. More information HERE!
URL:https://www.ectra.org/event/gmha-ctrd/
LOCATION:GMHA\, 5491 South Rd\,\, South Woodstock\, VT\, 05071\, United States
CATEGORIES:CTR
ORGANIZER;CN="Ally LaFlair":MAILTO:ally@gmhainc.org
END:VEVENT
BEGIN:VEVENT
DTSTART;VALUE=DATE:20200724
DTEND;VALUE=DATE:20200726
DTSTAMP:20260422T102319
CREATED:20200203T223018Z
LAST-MODIFIED:20200624T140114Z
UID:5422-1595548800-1595721599@www.ectra.org
SUMMARY:Old Dominion No Frills
DESCRIPTION:Offering a 55 mile endurance ride and 30 mile LD both days.  More information available HERE! \nNo Frills has been TENTATIVELY APPROVED and rescheduled for July 24th and 25th (Depending on the COVID-19 Status)\nWe will observe the following precautions: Entries will be paid in full (by PayPal or credit card) before arriving at the ride (to reduce the personal hand to hand contact)\nNO GATHERING for MEETINGS or MEALS… Instead…\nRide Briefing will be handed out in written form\nNO MEALS will be served (bring your own food)\nNo Awards Ceremony (Awards will be handed out by ride manager on a table) \nFt Valley is still ON for October 23rd and 24th (Pending the Covid-19 status) \nOD Triple Crown: To Complete the OD Triple Crown\, The Iron Horse Ride scheduled for September 18th & 19th will be the 3rd leg of the OD Triple Crown. So you must do: No Frills\, IRON HORSE\, and Ft. Valley.
URL:https://www.ectra.org/event/old-dominion-no-frills/
LOCATION:OD Base Camp\, 1794 Happy Valley Road\, Orkney Springs\, VA\, 22845\, United States
CATEGORIES:Endurance
ORGANIZER;CN="Diane Connolly":MAILTO:DCConnolly24@gmail.com
END:VEVENT
BEGIN:VEVENT
DTSTART;VALUE=DATE:20200718
DTEND;VALUE=DATE:20200719
DTSTAMP:20260422T102319
CREATED:20191112T203729Z
LAST-MODIFIED:20200416T234947Z
UID:4664-1595030400-1595116799@www.ectra.org
SUMMARY:Moonlight in Vermont - CANCELLED!
DESCRIPTION:Offering a 50\, 75 and 100 mile endurance ride.
URL:https://www.ectra.org/event/moonlight-in-vermont/
LOCATION:MD
CATEGORIES:Endurance
ORGANIZER;CN="Jo Steele":MAILTO:snowgoosevt@gmail.com
END:VEVENT
BEGIN:VEVENT
DTSTART;VALUE=DATE:20200711
DTEND;VALUE=DATE:20200712
DTSTAMP:20260422T102319
CREATED:20200203T220614Z
LAST-MODIFIED:20200621T215118Z
UID:5403-1594425600-1594511999@www.ectra.org
SUMMARY:VERDA Ride and Drive Along CANCELLED
DESCRIPTION:Offering a 30 mile CTR and a 15 mile CDR. More information available HERE!
URL:https://www.ectra.org/event/verda-ride-and-drive-along/
LOCATION:Balla Machree Farm\, Broad Brook Road\, South Royalton\, VT\, 05068\, United States
CATEGORIES:CTR
ORGANIZER;CN="Carrie Maynard":MAILTO:Carriemaynard3472@gmail.com
END:VEVENT
BEGIN:VEVENT
DTSTART;VALUE=DATE:20200704
DTEND;VALUE=DATE:20200706
DTSTAMP:20260422T102319
CREATED:20200229T023403Z
LAST-MODIFIED:20200614T220441Z
UID:5614-1593820800-1593993599@www.ectra.org
SUMMARY:Rock and Roll at Muckleratz
DESCRIPTION:Offering a 50 mile endurance ride and 30 mile LD on July 4 and a 30 mile LD on July 5. Entry form available HERE!
URL:https://www.ectra.org/event/rock-and-roll-at-muckleratz/
LOCATION:Weiser State Forest\, White Oak Road\, Halifax\, PA\, 17032\, United States
CATEGORIES:Endurance
ORGANIZER;CN="Lucha Malato":MAILTO:Luchamalato@gmail.com
END:VEVENT
BEGIN:VEVENT
DTSTART;VALUE=DATE:20200704
DTEND;VALUE=DATE:20200705
DTSTAMP:20260422T102319
CREATED:20191112T203642Z
LAST-MODIFIED:20200505T000450Z
UID:4662-1593820800-1593907199@www.ectra.org
SUMMARY:Horses Across Maine - CANCELLED!
DESCRIPTION:Offering a 50 mile endurance ride and a 30 mile LD.
URL:https://www.ectra.org/event/horses-across-maine-2/
LOCATION:MD
CATEGORIES:Endurance
ORGANIZER;CN="Linda Jack":MAILTO:daffyjoe52@gmail.com
END:VEVENT
BEGIN:VEVENT
DTSTART;VALUE=DATE:20200620
DTEND;VALUE=DATE:20200622
DTSTAMP:20260422T102319
CREATED:20191112T193452Z
LAST-MODIFIED:20200505T000347Z
UID:4650-1592611200-1592783999@www.ectra.org
SUMMARY:Brookfield Ride PF - CANCELLED!
DESCRIPTION:Offering a 25 mile CTR both days as well as a 2 day 50 mile CTR.  Also offering a 25 mile drive on Saturday\, a 15 mile CDD on Saturday and 15 mile CDRs both days.  Information and entry available HERE!
URL:https://www.ectra.org/event/brookfield-ride-pf/
LOCATION:Pure Country Campground\, 176 Kelly Road\, New Berlin\, NY\, 13411\, United States
CATEGORIES:CTR
ORGANIZER;CN="Bill Lasher":MAILTO:duniry@aol.com
END:VEVENT
BEGIN:VEVENT
DTSTART;VALUE=DATE:20200612
DTEND;VALUE=DATE:20200614
DTSTAMP:20260422T102319
CREATED:20200203T223204Z
LAST-MODIFIED:20200402T165712Z
UID:5425-1591920000-1592092799@www.ectra.org
SUMMARY:Old Dominion - CANCELLED!
DESCRIPTION:Offering a 55 mile endurance ride on Friday and a 100 mile endurance ride on Saturday as well as a 25 mile LD both days.  More information available HERE!
URL:https://www.ectra.org/event/old-dominion/
LOCATION:OD Base Camp\, 1794 Happy Valley Road\, Orkney Springs\, VA\, 22845\, United States
CATEGORIES:Endurance
ORGANIZER;CN="Diane Connolly":MAILTO:DCConnolly24@gmail.com
END:VEVENT
BEGIN:VEVENT
DTSTART;VALUE=DATE:20200607
DTEND;VALUE=DATE:20200608
DTSTAMP:20260422T102319
CREATED:20191114T220015Z
LAST-MODIFIED:20200422T000109Z
UID:4690-1591488000-1591574399@www.ectra.org
SUMMARY:GMHA Spring Endurance - CANCELLED!
DESCRIPTION:Offering a 50 mile endurance ride as well as a 25 mile LD \n  \n 
URL:https://www.ectra.org/event/gmha-spring-endurance/
LOCATION:GMHA\, 5491 South Rd\,\, South Woodstock\, VT\, 05071\, United States
ORGANIZER;CN="Ally LaFlair":MAILTO:ally@gmhainc.org
END:VEVENT
BEGIN:VEVENT
DTSTART;VALUE=DATE:20200606
DTEND;VALUE=DATE:20200607
DTSTAMP:20260422T102319
CREATED:20191114T215806Z
LAST-MODIFIED:20200422T000058Z
UID:4688-1591401600-1591487999@www.ectra.org
SUMMARY:GMHA Spring CTR & Drive - CANCELLED!
DESCRIPTION:Offering a 25 mile CTR and a 15 mile CDR
URL:https://www.ectra.org/event/gmha-spring-ctr-drive/
LOCATION:GMHA\, 5491 South Rd\,\, South Woodstock\, VT\, 05071\, United States
CATEGORIES:CTR
ORGANIZER;CN="Ally LaFlair":MAILTO:ally@gmhainc.org
END:VEVENT
BEGIN:VEVENT
DTSTART;TZID=UTC:20200528T190000
DTEND;TZID=UTC:20200528T210000
DTSTAMP:20260422T102319
CREATED:20200228T020602Z
LAST-MODIFIED:20200228T020621Z
UID:5603-1590692400-1590699600@www.ectra.org
SUMMARY:Board Meeting
DESCRIPTION:
URL:https://www.ectra.org/event/board-meeting-3/
LOCATION:MD
CATEGORIES:Meeting
ORGANIZER;CN="Rebecca Wachtel":MAILTO:rebeccawachtel370@gmail.com
END:VEVENT
BEGIN:VEVENT
DTSTART;VALUE=DATE:20200524
DTEND;VALUE=DATE:20200525
DTSTAMP:20260422T102319
CREATED:20191112T211849Z
LAST-MODIFIED:20200420T162717Z
UID:4678-1590278400-1590364799@www.ectra.org
SUMMARY:NY Adventure - CANCELLED!
DESCRIPTION:Offering four/five rides. \n\n30 mile LD\n50 mile END\n75 mile END\n75 mile elevator\n100 mile END\n\nFor more information and entry form click HERE!
URL:https://www.ectra.org/event/ny-adventure/
LOCATION:Pure Country Campground\, 176 Kelly Road\, New Berlin\, NY\, 13411\, United States
CATEGORIES:Endurance
ORGANIZER;CN="Dodie Sable":MAILTO:dodie@newpromisefarms.com
END:VEVENT
BEGIN:VEVENT
DTSTART;VALUE=DATE:20200523
DTEND;VALUE=DATE:20200526
DTSTAMP:20260422T102319
CREATED:20191112T193219Z
LAST-MODIFIED:20200422T000137Z
UID:4648-1590192000-1590451199@www.ectra.org
SUMMARY:2020 Maine 80/60/30/30 Mile and CDR - CANCELLED!
DESCRIPTION:Offering a 30 mile CTR both days as well as a 2 day 60 mile CTR and 3 day 80 mile CTR and a 10 mile CDR on May 25th.  Information and entry form can be found HERE!
URL:https://www.ectra.org/event/maine-80-pf/
LOCATION:Waterford Fairgrounds\, 36 Irving Green Road\, North Waterford\, ME\, United States
CATEGORIES:CTR
ORGANIZER;CN="Louise Lester":MAILTO:louise1@maine.rr.com
END:VEVENT
BEGIN:VEVENT
DTSTART;VALUE=DATE:20200510
DTEND;VALUE=DATE:20200511
DTSTAMP:20260422T102319
CREATED:20200203T220342Z
LAST-MODIFIED:20200401T222514Z
UID:5400-1589068800-1589155199@www.ectra.org
SUMMARY:VERDA Bare Bones Endurance - CANCELLED
DESCRIPTION:Offering a 50 mile endurance ride and a 30 mile LD.  More information HERE!
URL:https://www.ectra.org/event/verda-bare-bones-endurance/
LOCATION:Cornish NH Fairgrounds\, 294 Town House Rd\, Cornish\, NH\, 03745\, United States
CATEGORIES:Endurance
ORGANIZER;CN="Laurie Farrell":MAILTO:JLFarrell0@gmail.com
END:VEVENT
BEGIN:VEVENT
DTSTART;VALUE=DATE:20200509
DTEND;VALUE=DATE:20200510
DTSTAMP:20260422T102319
CREATED:20200203T215755Z
LAST-MODIFIED:20200401T222500Z
UID:5393-1588982400-1589068799@www.ectra.org
SUMMARY:VERDA Brown Bag - CANCELLED
DESCRIPTION:Offering a 25 mile CDR as well as a 15 mile CDR.  More information available HERE!
URL:https://www.ectra.org/event/verda-brown-bag/
LOCATION:Cornish NH Fairgrounds\, 294 Town House Rd\, Cornish\, NH\, 03745\, United States
CATEGORIES:CTR
ORGANIZER;CN="Kathy Callen-Rondeau":MAILTO:kcrvt@icloud.com
END:VEVENT
BEGIN:VEVENT
DTSTART;VALUE=DATE:20200508
DTEND;VALUE=DATE:20200511
DTSTAMP:20260422T102319
CREATED:20200203T215532Z
LAST-MODIFIED:20200326T174410Z
UID:5391-1588896000-1589155199@www.ectra.org
SUMMARY:NJ 100+ PF - CANCELLED
DESCRIPTION:Offering a 3 day 100 CTR and drive\, a 2 day 75\, a 2 day 40 and a 2 day 60 mile CTR and drive as well as a variety of limited distance CTRs and drives and CDRs each day.  Full information available HERE!
URL:https://www.ectra.org/event/nj-100-pf/
LOCATION:Indian Mills Gun Club\, Atsion Rd\, Atsion\, NJ\, United States
CATEGORIES:CTR
ORGANIZER;CN="Rebecca Wachtel":MAILTO:rebeccawachtel370@gmail.com
END:VEVENT
BEGIN:VEVENT
DTSTART;VALUE=DATE:20200503
DTEND;VALUE=DATE:20200504
DTSTAMP:20260422T102319
CREATED:20191112T210821Z
LAST-MODIFIED:20200329T222745Z
UID:4672-1588464000-1588550399@www.ectra.org
SUMMARY:Cheshire - CANCELLED!
DESCRIPTION:Offering a 26 mile CTR and a 13 mile CDR.  Entry form for the CTR available HERE.  Entry for the CDR available HERE.
URL:https://www.ectra.org/event/cheshire/
LOCATION:MD
CATEGORIES:CTR
ORGANIZER;CN="Cate Peloquin":MAILTO:cpenguin57@aol.com
END:VEVENT
END:VCALENDAR