BEGIN:VCALENDAR
VERSION:2.0
PRODID:-//Eastern Competitive Trail Ride Association - ECPv6.15.20//NONSGML v1.0//EN
CALSCALE:GREGORIAN
METHOD:PUBLISH
X-WR-CALNAME:Eastern Competitive Trail Ride Association
X-ORIGINAL-URL:https://www.ectra.org
X-WR-CALDESC:Events for Eastern Competitive Trail Ride Association
REFRESH-INTERVAL;VALUE=DURATION:PT1H
X-Robots-Tag:noindex
X-PUBLISHED-TTL:PT1H
BEGIN:VTIMEZONE
TZID:UTC
BEGIN:STANDARD
TZOFFSETFROM:+0000
TZOFFSETTO:+0000
TZNAME:UTC
DTSTART:20180101T000000
END:STANDARD
END:VTIMEZONE
BEGIN:VEVENT
DTSTART;VALUE=DATE:20190428
DTEND;VALUE=DATE:20190429
DTSTAMP:20260425T080253
CREATED:20190220T030837Z
LAST-MODIFIED:20190722T233545Z
UID:2773-1556409600-1556495999@www.ectra.org
SUMMARY:PA: Cheshire
DESCRIPTION:Offering a 27 mile CTR and a 13 mile CDR. To run concurrently with AHA Region 15 Championship CTR. \nAll ride entries and information can be found on the Cheshire website HERE!
URL:https://www.ectra.org/event/pa-cheshire/
LOCATION:Kennett Square\, PA\, 1851 Newark Rd.\, Kennett Square\, PA\, 19348\, United States
CATEGORIES:CTR
ORGANIZER;CN="Cate Peloquin":MAILTO:cpenguin57@aol.com
END:VEVENT
BEGIN:VEVENT
DTSTART;VALUE=DATE:20190427
DTEND;VALUE=DATE:20190428
DTSTAMP:20260425T080253
CREATED:20190213T012721Z
LAST-MODIFIED:20190722T233626Z
UID:2675-1556323200-1556409599@www.ectra.org
SUMMARY:NY: Brookfield CTR Clinic
DESCRIPTION:Offering a 5 mile clinic
URL:https://www.ectra.org/event/maine-30b/
CATEGORIES:CTR Clinic
ORGANIZER;CN="Joanna Lasher":MAILTO:jolasher65@gmail.com
END:VEVENT
BEGIN:VEVENT
DTSTART;VALUE=DATE:20190419
DTEND;VALUE=DATE:20190421
DTSTAMP:20260425T080253
CREATED:20190213T053848Z
LAST-MODIFIED:20190722T233532Z
UID:2715-1555632000-1555804799@www.ectra.org
SUMMARY:VA: No Frills
DESCRIPTION:Offering a 55 mile endurance ride and 30 mile LD each day. \nRide information and entry available HERE
URL:https://www.ectra.org/event/va-no-frills/
CATEGORIES:Endurance
END:VEVENT
END:VCALENDAR