BEGIN:VCALENDAR
VERSION:2.0
PRODID:-//Eastern Competitive Trail Ride Association - ECPv6.15.20//NONSGML v1.0//EN
CALSCALE:GREGORIAN
METHOD:PUBLISH
X-WR-CALNAME:Eastern Competitive Trail Ride Association
X-ORIGINAL-URL:https://www.ectra.org
X-WR-CALDESC:Events for Eastern Competitive Trail Ride Association
REFRESH-INTERVAL;VALUE=DURATION:PT1H
X-Robots-Tag:noindex
X-PUBLISHED-TTL:PT1H
BEGIN:VTIMEZONE
TZID:UTC
BEGIN:STANDARD
TZOFFSETFROM:+0000
TZOFFSETTO:+0000
TZNAME:UTC
DTSTART:20180101T000000
END:STANDARD
END:VTIMEZONE
BEGIN:VEVENT
DTSTART;TZID=UTC:20200319T190000
DTEND;TZID=UTC:20200319T210000
DTSTAMP:20260422T202001
CREATED:20200228T020445Z
LAST-MODIFIED:20200228T020659Z
UID:5599-1584644400-1584651600@www.ectra.org
SUMMARY:Board Meeting
DESCRIPTION:
URL:https://www.ectra.org/event/board-meeting/
CATEGORIES:Meeting
ORGANIZER;CN="Rebecca Wachtel":MAILTO:rebeccawachtel370@gmail.com
END:VEVENT
BEGIN:VEVENT
DTSTART;VALUE=DATE:20200221
DTEND;VALUE=DATE:20200224
DTSTAMP:20260422T202001
CREATED:20191126T222941Z
LAST-MODIFIED:20200111T075810Z
UID:4756-1582243200-1582502399@www.ectra.org
SUMMARY:ECTRA Winter Getaway
DESCRIPTION:See December 2019 Newsletter for information and registration form or click HERE!
URL:https://www.ectra.org/event/ectra-winter-getaway/
LOCATION:Holiday Inn Harrisburg-Grantville\, 604 Station Road\, Grantville\, PA\, 17028\, United States
CATEGORIES:Meeting
ORGANIZER;CN="Char Jewell":MAILTO:ban_zus@yahoo.com
END:VEVENT
BEGIN:VEVENT
DTSTART;TZID=UTC:20200120T190000
DTEND;TZID=UTC:20200120T210000
DTSTAMP:20260422T202001
CREATED:20191207T203906Z
LAST-MODIFIED:20191207T203906Z
UID:4824-1579546800-1579554000@www.ectra.org
SUMMARY:BOD Skype Meeting
DESCRIPTION:Upcoming Meeting- January 13th\, 2020 at 7pm via Skype. Members are encouraged and welcome to join. Contact Rebecca Wachtel for information on how to do so.
URL:https://www.ectra.org/event/bod-skype-meeting/
CATEGORIES:Meeting
ORGANIZER;CN="Rebecca Wachtel":MAILTO:rebeccawachtel370@gmail.com
END:VEVENT
BEGIN:VEVENT
DTSTART;VALUE=DATE:20191102
DTEND;VALUE=DATE:20191104
DTSTAMP:20260422T202001
CREATED:20190213T051806Z
LAST-MODIFIED:20190829T225429Z
UID:2697-1572652800-1572825599@www.ectra.org
SUMMARY:NJ: NJ Devil
DESCRIPTION:Offering a 25 mile CTR/Drive each day\, a 2 day 50 mile CTR/Drive and 15 mile CDRs both days. Entry form available on the NJTRA website HERE
URL:https://www.ectra.org/event/nj-nj-devil/
LOCATION:BBB Gun Club\, 180 City Line Rd.\, Browns Mills\, NJ\, 08015\, United States
CATEGORIES:CTR
END:VEVENT
BEGIN:VEVENT
DTSTART;VALUE=DATE:20191026
DTEND;VALUE=DATE:20191027
DTSTAMP:20260422T202001
CREATED:20190618T203606Z
LAST-MODIFIED:20190905T000803Z
UID:3567-1572048000-1572134399@www.ectra.org
SUMMARY:VT: VERDA Kedron Fall PF
DESCRIPTION:Offering a 30 mile CTR and a 15 mile CDR.  More information and entry available HERE!
URL:https://www.ectra.org/event/verda-kedron-fall-pf/
LOCATION:Kedron Valley Stables\, 4342 South Rd.\, South Woodstock\, VT\, 05071\, United States
CATEGORIES:CTR
ORGANIZER;CN="Jenny Kimberly":MAILTO:jennykimberly@comcast.net
END:VEVENT
BEGIN:VEVENT
DTSTART;VALUE=DATE:20191025
DTEND;VALUE=DATE:20191027
DTSTAMP:20260422T202001
CREATED:20190213T053352Z
LAST-MODIFIED:20190905T175827Z
UID:2708-1571961600-1572134399@www.ectra.org
SUMMARY:VA: Fort Valley
DESCRIPTION:Offering a 50 mile endurance ride\, a 30 mile LD and an intro ride each day. Ride information and Entry available HERE!
URL:https://www.ectra.org/event/va-fort-valley/
LOCATION:Fort Valley\, Fort Valley\, VA\, United States
CATEGORIES:Endurance
END:VEVENT
BEGIN:VEVENT
DTSTART;VALUE=DATE:20191013
DTEND;VALUE=DATE:20191014
DTSTAMP:20260422T202001
CREATED:20190110T210451Z
LAST-MODIFIED:20190302T004930Z
UID:2322-1570924800-1571011199@www.ectra.org
SUMMARY:VA: Blackwater Swamp Stomp
DESCRIPTION:Offering a 50 mile endurance ride and a 25 mile LD
URL:https://www.ectra.org/event/va-blackwater-swamp-stomp/
LOCATION:Tidewater Horse Trails\, 37093 Warrique Rd\, Ivor\, VA\, 23866\, United States
CATEGORIES:Endurance
ORGANIZER;CN="Sarah Schick":MAILTO:schicksa5184@gmail.com
END:VEVENT
BEGIN:VEVENT
DTSTART;VALUE=DATE:20191012
DTEND;VALUE=DATE:20191013
DTSTAMP:20260422T202001
CREATED:20190110T210939Z
LAST-MODIFIED:20190416T183014Z
UID:2334-1570838400-1570924799@www.ectra.org
SUMMARY:VT: GMHA Fall Endurance
DESCRIPTION:Offering a 50 mile endurance ride and a 30 mile LD. \nEntry available HERE!
URL:https://www.ectra.org/event/vt-gmha-fall-endurance/
LOCATION:GMHA\, 5491 South Rd\,\, South Woodstock\, VT\, 05071\, United States
CATEGORIES:Endurance
ORGANIZER;CN="Ally LaFlair":MAILTO:ally@gmhainc.org
END:VEVENT
BEGIN:VEVENT
DTSTART;VALUE=DATE:20191005
DTEND;VALUE=DATE:20191008
DTSTAMP:20260422T202001
CREATED:20190416T182217Z
LAST-MODIFIED:20190925T044846Z
UID:3176-1570233600-1570492799@www.ectra.org
SUMMARY:ME: Horses Across Maine CTR
DESCRIPTION:Offering a 30 mile CTR on October 5 and a 25 mile CTR on October 6th and 7th as well as a 2 day 50 mile CTR (October 6 – 7) and a 3 day 80 mile CTR (October 5 – 7) and a 10 mile CDR on October 5th. \nInformation on Horses Across Maine Membership HERE. Ride entry and information HERE.
URL:https://www.ectra.org/event/me-horses-across-maine-ctr/
LOCATION:Waterford Fairgrounds\, 36 Irving Green Road\, North Waterford\, ME\, United States
CATEGORIES:CTR
ORGANIZER;CN="Linda Jack":MAILTO:daffyjoe52@gmail.com
END:VEVENT
BEGIN:VEVENT
DTSTART;VALUE=DATE:20191004
DTEND;VALUE=DATE:20191006
DTSTAMP:20260422T202001
CREATED:20190213T051925Z
LAST-MODIFIED:20190905T180226Z
UID:2699-1570147200-1570319999@www.ectra.org
SUMMARY:NJ: Mustang Memorial
DESCRIPTION:Friday\, 10/4/2019\nAERC 30/50\nFEI CEI1*80/CEIJY1*80 \nSaturday\, 10/5/2019\nAERC 30/50/75/100\nFEI CEI1*80/CEI1*80\, CEI2*120/CEIJY2*120\, CEI3*160/CEIJY3*160 \nEntry form is posted on the NJTRA website
URL:https://www.ectra.org/event/nj-mustang-memorial/
LOCATION:Indian Mills Gun Club\, Atsion Rd\, Atsion\, NJ\, United States
CATEGORIES:Endurance
ORGANIZER;CN="Holly MacDonald":MAILTO:HMAC34@yahoo.com
END:VEVENT
BEGIN:VEVENT
DTSTART;VALUE=DATE:20190920
DTEND;VALUE=DATE:20190923
DTSTAMP:20260422T202001
CREATED:20190213T013138Z
LAST-MODIFIED:20190905T002352Z
UID:2680-1568937600-1569196799@www.ectra.org
SUMMARY:MD: Chesapeake Fall PF
DESCRIPTION:Offering a variety of different distances over 3 days. \nEntry and information available HERE
URL:https://www.ectra.org/event/md-chesapeake-fall-pf/
LOCATION:Fair Hill NRMA\, 300 Tawes Dr.\, Elkton\, MD\, 21921\, United States
CATEGORIES:CTR
ORGANIZER;CN="Cate Peloquin":MAILTO:cpenguin57@aol.com
END:VEVENT
BEGIN:VEVENT
DTSTART;VALUE=DATE:20190915
DTEND;VALUE=DATE:20190916
DTSTAMP:20260422T202001
CREATED:20190828T175500Z
LAST-MODIFIED:20190905T000820Z
UID:4003-1568505600-1568591999@www.ectra.org
SUMMARY:VT: VERDA Silver Hill 25 Mile CTR
DESCRIPTION:Offering a 25 mile CTR and a 15 mile CDR.  Ride information and entry form HERE
URL:https://www.ectra.org/event/verda-25-15-ctr/
LOCATION:Silver Hill Field\, 1851 Silver Hill Road\, West Windsor\, VT\, 05089\, United States
CATEGORIES:CTR
ORGANIZER;CN="Steve Rojek":MAILTO:STEVER@Vermontel.net
END:VEVENT
BEGIN:VEVENT
DTSTART;VALUE=DATE:20190907
DTEND;VALUE=DATE:20190908
DTSTAMP:20260422T202001
CREATED:20190110T210900Z
LAST-MODIFIED:20190905T181609Z
UID:2331-1567814400-1567900799@www.ectra.org
SUMMARY:NY: Hector Half Hundred
DESCRIPTION:Offering a 50 mile endurance and a 30 mile LD as well as a 15 mile intro ride. Information available HERE!
URL:https://www.ectra.org/event/ny-hector-half-hundred/
LOCATION:Logan Valois Hector Volunteer Fire Dept.\, 5736 NY-414\, Hector\, NY\, 14841\, United States
CATEGORIES:Endurance
ORGANIZER;CN="Eva Norris":MAILTO:eva83919@aol.com
END:VEVENT
BEGIN:VEVENT
DTSTART;VALUE=DATE:20190830
DTEND;VALUE=DATE:20190902
DTSTAMP:20260422T202001
CREATED:20190110T001311Z
LAST-MODIFIED:20190618T202928Z
UID:2280-1567123200-1567382399@www.ectra.org
SUMMARY:VT: GMHA Distance Days PF
DESCRIPTION:8/30 – 40 mile CTR and 15 mile CDR \n8/31 – 35 mile CTR \n9/1 – 25 mile CTR \n8/30 – 31 – 60 or 75 mile CTR \n8/30 – 9/1  – 100 mile CTR \nEntry available HERE!
URL:https://www.ectra.org/event/vt-gmha-distance-days-pf-35/
LOCATION:GMHA\, 5491 South Rd\,\, South Woodstock\, VT\, 05071\, United States
CATEGORIES:CTR
ORGANIZER;CN="Ally LaFlair":MAILTO:ally@gmhainc.org
END:VEVENT
BEGIN:VEVENT
DTSTART;VALUE=DATE:20190823
DTEND;VALUE=DATE:20190825
DTSTAMP:20260422T202001
CREATED:20190213T054558Z
LAST-MODIFIED:20190723T194749Z
UID:2723-1566518400-1566691199@www.ectra.org
SUMMARY:VA: Iron Mountain Jubilee
DESCRIPTION:August 23- 25/55 mile rides & 24\, 2019. 25/50. \nEntry form available HERE!
URL:https://www.ectra.org/event/va-iron-mountain-jubilee/
CATEGORIES:Endurance
END:VEVENT
BEGIN:VEVENT
DTSTART;VALUE=DATE:20190817
DTEND;VALUE=DATE:20190818
DTSTAMP:20260422T202001
CREATED:20190314T033209Z
LAST-MODIFIED:20190314T033815Z
UID:2886-1566000000-1566086399@www.ectra.org
SUMMARY:NH: Warren Tessier PF
DESCRIPTION:Offering a 30 mile CTR and a 15 mile CDR.
URL:https://www.ectra.org/event/warren-tessier-pf/
CATEGORIES:CTR
ORGANIZER;CN="Karin Lewis":MAILTO:lovemyhorsetaz@aol.com
END:VEVENT
BEGIN:VEVENT
DTSTART;VALUE=DATE:20190806
DTEND;VALUE=DATE:20190811
DTSTAMP:20260422T202001
CREATED:20190110T210804Z
LAST-MODIFIED:20190708T165202Z
UID:2329-1565049600-1565481599@www.ectra.org
SUMMARY:ME: Pine Tree
DESCRIPTION:Offering a 50 mile endurance ride and 25 mile LD each day as well as a 3 day pioneer the 7th – 9th. \nEntry form available HERE!
URL:https://www.ectra.org/event/me-pine-tree/
LOCATION:Fryeburg Fairgrounds\, Fryeburg\, ME\, United States
CATEGORIES:Endurance
ORGANIZER;CN="Lucha Malato":MAILTO:Luchamalato@gmail.com
END:VEVENT
BEGIN:VEVENT
DTSTART;VALUE=DATE:20190803
DTEND;VALUE=DATE:20190805
DTSTAMP:20260422T202001
CREATED:20190110T000928Z
LAST-MODIFIED:20190416T183129Z
UID:2273-1564790400-1564963199@www.ectra.org
SUMMARY:VT: GMHA CTR PF
DESCRIPTION:Mileage: 25\, 50 \nEntry available HERE!
URL:https://www.ectra.org/event/vt-gmha-25-ctr-pf/
LOCATION:GMHA\, 5491 South Rd\,\, South Woodstock\, VT\, 05071\, United States
CATEGORIES:CTR
ORGANIZER;CN="Ally LaFlair":MAILTO:ally@gmhainc.org
END:VEVENT
BEGIN:VEVENT
DTSTART;VALUE=DATE:20190727
DTEND;VALUE=DATE:20190728
DTSTAMP:20260422T202001
CREATED:20190213T223124Z
LAST-MODIFIED:20190522T223347Z
UID:2729-1564185600-1564271999@www.ectra.org
SUMMARY:PA: Muckleratz Run CTR
DESCRIPTION:Offering a 25 mile CTR each day as well as a 2 day 50 mile CTR and CDRs both days. \nEntry now available HERE!
URL:https://www.ectra.org/event/pa-muckleratz-run-ctr/
LOCATION:Weiser State Forest\, White Oak Road\, Halifax\, PA\, 17032\, United States
CATEGORIES:CTR
ORGANIZER;CN="Laura T Bomgardner":MAILTO:muckride@gmail.com
END:VEVENT
BEGIN:VEVENT
DTSTART;VALUE=DATE:20190720
DTEND;VALUE=DATE:20190721
DTSTAMP:20260422T202001
CREATED:20190110T211529Z
LAST-MODIFIED:20190503T202555Z
UID:2336-1563580800-1563667199@www.ectra.org
SUMMARY:VT: Moonlight in Vermont
DESCRIPTION:Offering a 50\, 75 and 100 mile endurance ride.
URL:https://www.ectra.org/event/vt-endurance/
LOCATION:West Windsor\, Vermont\, 1302 Silver Hill Rd.\, West Windsor\, VT\, 05089\, United States
CATEGORIES:Endurance
ORGANIZER;CN="Jo Steele":MAILTO:snowgoosevt@gmail.com
END:VEVENT
BEGIN:VEVENT
DTSTART;VALUE=DATE:20190713
DTEND;VALUE=DATE:20190714
DTSTAMP:20260422T202001
CREATED:20190606T032943Z
LAST-MODIFIED:20190905T000845Z
UID:3474-1562976000-1563062399@www.ectra.org
SUMMARY:VT: Balla Machree 30 Mile Ride-a-long and Drive
DESCRIPTION:Offering a 30 mile CTR and a 15 mile CDR/Drive. \nEntry form available HERE!
URL:https://www.ectra.org/event/balla-machree-30-mile-ride-a-long-and-drive/
LOCATION:Balla Machree Farm\, Broad Brook Road\, South Royalton\, VT\, 05068\, United States
CATEGORIES:CTR
END:VEVENT
BEGIN:VEVENT
DTSTART;VALUE=DATE:20190707
DTEND;VALUE=DATE:20190708
DTSTAMP:20260422T202001
CREATED:20190213T223028Z
LAST-MODIFIED:20190722T233703Z
UID:2727-1562457600-1562543999@www.ectra.org
SUMMARY:PA: Muckleratz Run Endurance
DESCRIPTION:Offering a 50 mile endurance ride and a 25 mile LD. \nEntry form now available HERE!
URL:https://www.ectra.org/event/pa-muckleratz-run-endurance/
LOCATION:Weiser State Forest\, White Oak Road\, Halifax\, PA\, 17032\, United States
CATEGORIES:Endurance
ORGANIZER;CN="Laura T Bomgardner":MAILTO:muckride@gmail.com
END:VEVENT
BEGIN:VEVENT
DTSTART;VALUE=DATE:20190706
DTEND;VALUE=DATE:20190707
DTSTAMP:20260422T202001
CREATED:20190213T054421Z
LAST-MODIFIED:20190722T233713Z
UID:2721-1562371200-1562457599@www.ectra.org
SUMMARY:ME: Horses Across Mane
DESCRIPTION:Offering a 50 mile endurance ride and a 25 mile LD
URL:https://www.ectra.org/event/me-horses-across-mane/
LOCATION:Waterford Fairgrounds\, 36 Irving Green Road\, North Waterford\, ME\, United States
CATEGORIES:Endurance
END:VEVENT
BEGIN:VEVENT
DTSTART;VALUE=DATE:20190629
DTEND;VALUE=DATE:20190630
DTSTAMP:20260422T202001
CREATED:20190213T054336Z
LAST-MODIFIED:20190722T233657Z
UID:2719-1561766400-1561852799@www.ectra.org
SUMMARY:PA: Rock N Roll
DESCRIPTION:Offering a 50 mile endurance ride and a 25 mile LD. \n\n\n\n    \n        \n            \n            \n                Rock N Roll 2019 Entry\n                 1 file(s)  287.75 KB\n            \n            \n                Download\n            \n        \n    \n\n\n\n 
URL:https://www.ectra.org/event/pa-rock-and-roll/
LOCATION:Two Mile Run County Park – Franklin\, Pa\, 471 Beach Rd\, Franklin\, PA\, 16323\, United States
CATEGORIES:Endurance
ORGANIZER;CN="Amie Ealy":MAILTO:jeep4x4grl72@yahoo.com
END:VEVENT
BEGIN:VEVENT
DTSTART;VALUE=DATE:20190622
DTEND;VALUE=DATE:20190624
DTSTAMP:20260422T202001
CREATED:20190110T000658Z
LAST-MODIFIED:20190722T233731Z
UID:2268-1561161600-1561334399@www.ectra.org
SUMMARY:NY: Brookfield CTR PF (R&D)
DESCRIPTION:Offering a 2 day 50 mile CTR\, a 25 mile CTR on the 22nd\, a 25 mile CTR/Drive on the 23rd\, a 15 mile CDR/drive on the 22nd and a 15 mile CDR on the 23rd. \nEntry form available HERE
URL:https://www.ectra.org/event/ny-brookfield-ctr-pf/
LOCATION:Pure Country Campground\, 176 Kelly Road\, New Berlin\, NY\, 13411\, United States
CATEGORIES:CTR
ORGANIZER;CN="Joanna Lasher":MAILTO:jolasher65@gmail.com
END:VEVENT
BEGIN:VEVENT
DTSTART;VALUE=DATE:20190622
DTEND;VALUE=DATE:20190623
DTSTAMP:20260422T202001
CREATED:20190213T054239Z
LAST-MODIFIED:20190722T233726Z
UID:2717-1561161600-1561247999@www.ectra.org
SUMMARY:RI: NEATO Escoheag
DESCRIPTION:Offering a 50 mile endurance ride and 25 mile LD. Entry available HERE!
URL:https://www.ectra.org/event/ri-neato-escoheag/
LOCATION:Legrande Reynold’s Horseman’s Area\, Eschoeag Hill Rd.\, Exeter\, RI\, 02822\, United States
CATEGORIES:Endurance
ORGANIZER;CN="Lucha Malato":MAILTO:Luchamalato@gmail.com
END:VEVENT
BEGIN:VEVENT
DTSTART;VALUE=DATE:20190615
DTEND;VALUE=DATE:20190616
DTSTAMP:20260422T202001
CREATED:20190213T223219Z
LAST-MODIFIED:20190722T233719Z
UID:2731-1560556800-1560643199@www.ectra.org
SUMMARY:PA: Seven Mountain CTR
DESCRIPTION:Offering a 25 mile CTR and CDR. \nEntry form now available HERE!
URL:https://www.ectra.org/event/pa-seven-mountain-ctr/
LOCATION:Seven Mountains Boy Scout Camp\, 227 Sand Mountain Rd.\, Spring Mills\, PA\, 16875\, United States
CATEGORIES:CTR
END:VEVENT
BEGIN:VEVENT
DTSTART;VALUE=DATE:20190609
DTEND;VALUE=DATE:20190610
DTSTAMP:20260422T202001
CREATED:20190110T210711Z
LAST-MODIFIED:20190722T233643Z
UID:2327-1560038400-1560124799@www.ectra.org
SUMMARY:VT: GMHA Spring Endurance
DESCRIPTION:Offering a 50 mile endurance ride and a 25 mile LD as well as a 10 mile intro ride. \nEntry form HERE!
URL:https://www.ectra.org/event/vt-gmha-spring-endurance/
LOCATION:GMHA\, 5491 South Rd\,\, South Woodstock\, VT\, 05071\, United States
CATEGORIES:Endurance
ORGANIZER;CN="Ally LaFlair":MAILTO:ally@gmhainc.org
END:VEVENT
BEGIN:VEVENT
DTSTART;VALUE=DATE:20190608
DTEND;VALUE=DATE:20190609
DTSTAMP:20260422T202001
CREATED:20190110T000529Z
LAST-MODIFIED:20190722T233555Z
UID:2265-1559952000-1560038399@www.ectra.org
SUMMARY:VT: GMHA Spring CTR PF (R&D)
DESCRIPTION:Offering a 25 mile CTR/Drive and 15 mile CDR \nEntry and information available on the GMHA site. Click HERE to access.
URL:https://www.ectra.org/event/vt-gmha-spring-ctr-pf/
LOCATION:GMHA\, 5491 South Rd\,\, South Woodstock\, VT\, 05071\, United States
CATEGORIES:CTR
ORGANIZER;CN="Ally LaFlair":MAILTO:ally@gmhainc.org
END:VEVENT
BEGIN:VEVENT
DTSTART;VALUE=DATE:20190607
DTEND;VALUE=DATE:20190609
DTSTAMP:20260422T202001
CREATED:20190213T053548Z
LAST-MODIFIED:20190722T233607Z
UID:2710-1559865600-1560038399@www.ectra.org
SUMMARY:VA: OD
DESCRIPTION:Offering a 50 mile endurance and 25 mile LD on June 7th and a 100 mile endurance ride on June 8th
URL:https://www.ectra.org/event/2710/
LOCATION:OD Base Camp\, 1794 Happy Valley Road\, Orkney Springs\, VA\, 22845\, United States
CATEGORIES:Endurance
END:VEVENT
END:VCALENDAR