BEGIN:VCALENDAR
VERSION:2.0
PRODID:-//Eastern Competitive Trail Ride Association - ECPv6.15.20//NONSGML v1.0//EN
CALSCALE:GREGORIAN
METHOD:PUBLISH
X-WR-CALNAME:Eastern Competitive Trail Ride Association
X-ORIGINAL-URL:https://www.ectra.org
X-WR-CALDESC:Events for Eastern Competitive Trail Ride Association
REFRESH-INTERVAL;VALUE=DURATION:PT1H
X-Robots-Tag:noindex
X-PUBLISHED-TTL:PT1H
BEGIN:VTIMEZONE
TZID:America/New_York
BEGIN:DAYLIGHT
TZOFFSETFROM:-0500
TZOFFSETTO:-0400
TZNAME:EDT
DTSTART:20210314T070000
END:DAYLIGHT
BEGIN:STANDARD
TZOFFSETFROM:-0400
TZOFFSETTO:-0500
TZNAME:EST
DTSTART:20211107T060000
END:STANDARD
BEGIN:DAYLIGHT
TZOFFSETFROM:-0500
TZOFFSETTO:-0400
TZNAME:EDT
DTSTART:20220313T070000
END:DAYLIGHT
BEGIN:STANDARD
TZOFFSETFROM:-0400
TZOFFSETTO:-0500
TZNAME:EST
DTSTART:20221106T060000
END:STANDARD
BEGIN:DAYLIGHT
TZOFFSETFROM:-0500
TZOFFSETTO:-0400
TZNAME:EDT
DTSTART:20230312T070000
END:DAYLIGHT
BEGIN:STANDARD
TZOFFSETFROM:-0400
TZOFFSETTO:-0500
TZNAME:EST
DTSTART:20231105T060000
END:STANDARD
END:VTIMEZONE
BEGIN:VEVENT
DTSTART;TZID=America/New_York:20220503T190000
DTEND;TZID=America/New_York:20220503T210000
DTSTAMP:20260425T201016
CREATED:20220426T175121Z
LAST-MODIFIED:20220426T175136Z
UID:9241-1651604400-1651611600@www.ectra.org
SUMMARY:Competitive Trail Riding 101 Virtual Clinic
DESCRIPTION:Presenters include Sonja Knecht-Hoshi\, Andrea Bishop Maas\, Mary Coleman\, and Joan Hiltz\, DVM.\n\n\nEveryone welcome! Please spread the word\, especially to anyone who may be interested in competitive trail riding but has never been to one.\n\n\nFor more information and the link\, please email Carolyn Blocker.
URL:https://www.ectra.org/event/competitive-trail-riding-101-virtual-clinic/
CATEGORIES:Meeting
ORGANIZER;CN="Carolyn Blocker":MAILTO:Eagleonvineyard@msn.com
END:VEVENT
BEGIN:VEVENT
DTSTART;VALUE=DATE:20220506
DTEND;VALUE=DATE:20220509
DTSTAMP:20260425T201016
CREATED:20220119T173121Z
LAST-MODIFIED:20220405T205049Z
UID:8629-1651795200-1652054399@www.ectra.org
SUMMARY:NJ 100+
DESCRIPTION:Offering a variety of distances over several days including a 3 day 100 mile CTR. Will also offer conditioning distance rides and have a Pass/Fail option.  More information and entry HERE!
URL:https://www.ectra.org/event/nj-100-2/
LOCATION:BBB Gun Club\, 180 City Line Rd.\, Browns Mills\, NJ\, 08015\, United States
CATEGORIES:CTR
ORGANIZER;CN="Lucha Malato":MAILTO:Luchamalato@gmail.com
END:VEVENT
BEGIN:VEVENT
DTSTART;VALUE=DATE:20220507
DTEND;VALUE=DATE:20220508
DTSTAMP:20260425T201016
CREATED:20220328T143511Z
LAST-MODIFIED:20220912T180511Z
UID:8818-1651881600-1651967999@www.ectra.org
SUMMARY:VERDA Brown Bag CTR - Cancelled
DESCRIPTION:Offering a 25 mile CTR and 15 mile CDR. More information and entry available HERE!
URL:https://www.ectra.org/event/verda-brown-bag-ctr/
LOCATION:Cornish NH Fairgrounds\, 294 Town House Rd\, Cornish\, NH\, 03745\, United States
CATEGORIES:CTR
ORGANIZER;CN="Kathy Callen-Rondeau":MAILTO:kcrvt@icloud.com
END:VEVENT
BEGIN:VEVENT
DTSTART;TZID=America/New_York:20220508T080000
DTEND;TZID=America/New_York:20220508T170000
DTSTAMP:20260425T201016
CREATED:20220328T144446Z
LAST-MODIFIED:20220425T155041Z
UID:8821-1651996800-1652029200@www.ectra.org
SUMMARY:Bare Bones Endurance
DESCRIPTION:Offering a 50 mile endurance ride and a 30 mile LD.  More information available HERE!
URL:https://www.ectra.org/event/bare-bones-endurance-2/
LOCATION:Cornish NH Fairgrounds\, 294 Town House Rd\, Cornish\, NH\, 03745\, United States
CATEGORIES:Endurance
ORGANIZER;CN="Kyle Querrey":MAILTO:querreykyle@gmail.com
END:VEVENT
BEGIN:VEVENT
DTSTART;VALUE=DATE:20220514
DTEND;VALUE=DATE:20220516
DTSTAMP:20260425T201016
CREATED:20220119T204938Z
LAST-MODIFIED:20220317T010813Z
UID:8683-1652486400-1652659199@www.ectra.org
SUMMARY:Seven Mountains CTR
DESCRIPTION:Offering a 30 mile CTR each day as well as a 60 mile 2 day CTR.  Will also offer a 15 mile CDR each day.  Will offer a Pass/Fail division. More information and entry available HERE!
URL:https://www.ectra.org/event/7-mountain/
CATEGORIES:CTR
ORGANIZER;CN="Jessica Hermann":MAILTO:contemplatedrisk@gmail.com
END:VEVENT
BEGIN:VEVENT
DTSTART;VALUE=DATE:20220515
DTEND;VALUE=DATE:20220516
DTSTAMP:20260425T201016
CREATED:20220128T193428Z
LAST-MODIFIED:20220225T223806Z
UID:8733-1652572800-1652659199@www.ectra.org
SUMMARY:Maine Ride Clinic
DESCRIPTION:Entry form and info available HERE!
URL:https://www.ectra.org/event/maine-ride-clinic/
CATEGORIES:CTR Clinic
ORGANIZER;CN="Louise Lester":MAILTO:louise1@maine.rr.com
END:VEVENT
BEGIN:VEVENT
DTSTART;VALUE=DATE:20220521
DTEND;VALUE=DATE:20220522
DTSTAMP:20260425T201016
CREATED:20220304T171025Z
LAST-MODIFIED:20220328T143546Z
UID:8926-1653091200-1653177599@www.ectra.org
SUMMARY:VA Wine Ride - Spring CANCELLED
DESCRIPTION:Offering a 25 mile CTR as well as a 10 and 15 mile CDR.  Will have a pass/fail option.  More information coming soon.
URL:https://www.ectra.org/event/va-wine-ride-spring/
CATEGORIES:CTR
ORGANIZER;CN="Kim Abel":MAILTO:VaWineRide@gmail.com
END:VEVENT
BEGIN:VEVENT
DTSTART;VALUE=DATE:20220521
DTEND;VALUE=DATE:20220522
DTSTAMP:20260425T201016
CREATED:20220328T144415Z
LAST-MODIFIED:20220328T144415Z
UID:9076-1653091200-1653177599@www.ectra.org
SUMMARY:Intro to CTR and Endurance
DESCRIPTION:More information and entry available HERE!
URL:https://www.ectra.org/event/intro-to-ctr-and-endurance/
LOCATION:Balla Machree Farm\, Broad Brook Road\, South Royalton\, VT\, 05068\, United States
CATEGORIES:CTR Clinic
ORGANIZER;CN="Carrie Maynard":MAILTO:Carriemaynard3472@gmail.com
END:VEVENT
BEGIN:VEVENT
DTSTART;VALUE=DATE:20220528
DTEND;VALUE=DATE:20220530
DTSTAMP:20260425T201016
CREATED:20210912T132416Z
LAST-MODIFIED:20220329T174322Z
UID:7743-1653696000-1653868799@www.ectra.org
SUMMARY:Maine Rides CTR
DESCRIPTION:Offering: \n25 Mile CTR May 28 and 29 \n2 day 50 CTR. May 28 and 29 \n12.5 mile CDR May 28 and 29\n\nWill have pass/fail option.  More information and entry available HERE!
URL:https://www.ectra.org/event/maine-rides-ctr/
LOCATION:Waterford Fairgrounds\, 36 Irving Green Road\, North Waterford\, ME\, United States
CATEGORIES:CTR
ORGANIZER;CN="Ruth Konecki Niles":MAILTO:mainerideswaterford@gmail.com
END:VEVENT
BEGIN:VEVENT
DTSTART;VALUE=DATE:20220529
DTEND;VALUE=DATE:20220530
DTSTAMP:20260425T201016
CREATED:20220119T182637Z
LAST-MODIFIED:20220425T154914Z
UID:8659-1653782400-1653868799@www.ectra.org
SUMMARY:New York Adventure Elevator
DESCRIPTION:Offering a 50\, 75 and 100 mile endurance ride and a 30 mile LD.  More information and entry available HERE!
URL:https://www.ectra.org/event/new-york-adventure-elevator/
LOCATION:Pure Country Campground\, 176 Kelly Road\, New Berlin\, NY\, 13411\, United States
CATEGORIES:Endurance
ORGANIZER;CN="Dodie Sable":MAILTO:dodie@newpromisefarms.com
END:VEVENT
END:VCALENDAR