BEGIN:VCALENDAR
VERSION:2.0
PRODID:-//Eastern Competitive Trail Ride Association - ECPv6.15.20//NONSGML v1.0//EN
CALSCALE:GREGORIAN
METHOD:PUBLISH
X-WR-CALNAME:Eastern Competitive Trail Ride Association
X-ORIGINAL-URL:https://www.ectra.org
X-WR-CALDESC:Events for Eastern Competitive Trail Ride Association
REFRESH-INTERVAL;VALUE=DURATION:PT1H
X-Robots-Tag:noindex
X-PUBLISHED-TTL:PT1H
BEGIN:VTIMEZONE
TZID:America/New_York
BEGIN:DAYLIGHT
TZOFFSETFROM:-0500
TZOFFSETTO:-0400
TZNAME:EDT
DTSTART:20210314T070000
END:DAYLIGHT
BEGIN:STANDARD
TZOFFSETFROM:-0400
TZOFFSETTO:-0500
TZNAME:EST
DTSTART:20211107T060000
END:STANDARD
BEGIN:DAYLIGHT
TZOFFSETFROM:-0500
TZOFFSETTO:-0400
TZNAME:EDT
DTSTART:20220313T070000
END:DAYLIGHT
BEGIN:STANDARD
TZOFFSETFROM:-0400
TZOFFSETTO:-0500
TZNAME:EST
DTSTART:20221106T060000
END:STANDARD
BEGIN:DAYLIGHT
TZOFFSETFROM:-0500
TZOFFSETTO:-0400
TZNAME:EDT
DTSTART:20230312T070000
END:DAYLIGHT
BEGIN:STANDARD
TZOFFSETFROM:-0400
TZOFFSETTO:-0500
TZNAME:EST
DTSTART:20231105T060000
END:STANDARD
END:VTIMEZONE
BEGIN:VEVENT
DTSTART;VALUE=DATE:20220806
DTEND;VALUE=DATE:20220807
DTSTAMP:20260425T154405
CREATED:20220712T143243Z
LAST-MODIFIED:20220712T191857Z
UID:9498-1659744000-1659830399@www.ectra.org
SUMMARY:Ride Between the Rivers
DESCRIPTION:Offering a 50 mile endurance ride and a 30 mile LD.  More information available HERE!
URL:https://www.ectra.org/event/ride-between-the-rivers-2/
LOCATION:Ellamore WV\, Ellamore\, West Viriginia\, United States
CATEGORIES:Endurance
ORGANIZER;CN="Kelsie Lewis":MAILTO:kelsielewis963@gmail.com
END:VEVENT
BEGIN:VEVENT
DTSTART;TZID=America/New_York:20220806T080000
DTEND;TZID=America/New_York:20220807T170000
DTSTAMP:20260425T154405
CREATED:20211129T210143Z
LAST-MODIFIED:20220712T142735Z
UID:8200-1659772800-1659891600@www.ectra.org
SUMMARY:GMHA Aug 25/25/50 PF
DESCRIPTION:Choose a single day 25-mile or a 2-day 50-mile. You may also do 25-miles each day with 2 different horses. Also offering a 15 mile CDR/Drive each day. Will offer a pass/fail option. More information available HERE!
URL:https://www.ectra.org/event/gmha-aug/
LOCATION:GMHA\, 5491 South Rd\,\, South Woodstock\, VT\, 05071\, United States
CATEGORIES:CTR
ORGANIZER;CN="Ally LaFlair":MAILTO:ally@gmhainc.org
END:VEVENT
BEGIN:VEVENT
DTSTART;VALUE=DATE:20220810
DTEND;VALUE=DATE:20220814
DTSTAMP:20260425T154405
CREATED:20211129T211638Z
LAST-MODIFIED:20220607T165836Z
UID:8213-1660089600-1660435199@www.ectra.org
SUMMARY:Pine Tree Pioneer
DESCRIPTION:Offering a 50 mile endurance ride (except for Aug 11th which will be a 55 mile endurance ride) and 25 mile LD each day as well as a 3 day pioneer ride.  More information available HERE! Information and Entry Form HERE!
URL:https://www.ectra.org/event/pine-tree-pioneer/
CATEGORIES:Endurance
ORGANIZER;CN="Susan Niedoroda":MAILTO:sniedoroda@yahoo.com
END:VEVENT
BEGIN:VEVENT
DTSTART;VALUE=DATE:20220821
DTEND;VALUE=DATE:20220822
DTSTAMP:20260425T154405
CREATED:20220328T143632Z
LAST-MODIFIED:20220328T143632Z
UID:8823-1661040000-1661126399@www.ectra.org
SUMMARY:Wellwood Orchards Ride
DESCRIPTION:Offering a 30 mile CTR and a 15 mile CDR.  More information available HERE!
URL:https://www.ectra.org/event/wellwood-orchards-ride/
LOCATION:Wellwood orchards\, 529 Wellwood Orchard Rd\,\, Springfield\, VT\, 05156\, United States
CATEGORIES:CTR
ORGANIZER;CN="Karin Lewis":MAILTO:lovemyhorsetaz@aol.com
END:VEVENT
BEGIN:VEVENT
DTSTART;VALUE=DATE:20220826
DTEND;VALUE=DATE:20220828
DTSTAMP:20260425T154405
CREATED:20220211T213823Z
LAST-MODIFIED:20220211T213823Z
UID:8834-1661472000-1661644799@www.ectra.org
SUMMARY:Iron Mountain Jubilee
DESCRIPTION:Offering a 55 mile endurance ride on the 26th and a 50 mile endurance ride on the 27th with 25 mile LDs offered both days.  More information and entry HERE!
URL:https://www.ectra.org/event/iron-mountain-jubilee-2/
LOCATION:Triple C Horse Camp\, 4104 Cripple Creek Road\, Cripple Creek\, VA\, 24322\, United States
CATEGORIES:Endurance
ORGANIZER;CN="Eric Rueter":MAILTO:eric@fleetfootfarm.com
END:VEVENT
END:VCALENDAR