BEGIN:VCALENDAR
VERSION:2.0
PRODID:-//Eastern Competitive Trail Ride Association - ECPv6.15.20//NONSGML v1.0//EN
CALSCALE:GREGORIAN
METHOD:PUBLISH
X-ORIGINAL-URL:https://www.ectra.org
X-WR-CALDESC:Events for Eastern Competitive Trail Ride Association
REFRESH-INTERVAL;VALUE=DURATION:PT1H
X-Robots-Tag:noindex
X-PUBLISHED-TTL:PT1H
BEGIN:VTIMEZONE
TZID:America/New_York
BEGIN:DAYLIGHT
TZOFFSETFROM:-0500
TZOFFSETTO:-0400
TZNAME:EDT
DTSTART:20220313T070000
END:DAYLIGHT
BEGIN:STANDARD
TZOFFSETFROM:-0400
TZOFFSETTO:-0500
TZNAME:EST
DTSTART:20221106T060000
END:STANDARD
BEGIN:DAYLIGHT
TZOFFSETFROM:-0500
TZOFFSETTO:-0400
TZNAME:EDT
DTSTART:20230312T070000
END:DAYLIGHT
BEGIN:STANDARD
TZOFFSETFROM:-0400
TZOFFSETTO:-0500
TZNAME:EST
DTSTART:20231105T060000
END:STANDARD
BEGIN:DAYLIGHT
TZOFFSETFROM:-0500
TZOFFSETTO:-0400
TZNAME:EDT
DTSTART:20240310T070000
END:DAYLIGHT
BEGIN:STANDARD
TZOFFSETFROM:-0400
TZOFFSETTO:-0500
TZNAME:EST
DTSTART:20241103T060000
END:STANDARD
END:VTIMEZONE
BEGIN:VEVENT
DTSTART;VALUE=DATE:20230805
DTEND;VALUE=DATE:20230807
DTSTAMP:20260424T214133
CREATED:20230201T210608Z
LAST-MODIFIED:20230724T170413Z
UID:9888-1691193600-1691366399@www.ectra.org
SUMMARY:GMHA August - CANCELLED!
DESCRIPTION:Offering a 25 mile CTR each day as well as a 15 mile CDR/CDD each day. More information and entry available HERE! 
URL:https://www.ectra.org/event/gmha-august/
LOCATION:GMHA\, 5491 South Rd\,\, South Woodstock\, VT\, 05071\, United States
CATEGORIES:CTR
ORGANIZER;CN="Ally LaFlair":MAILTO:ally@gmhainc.org
END:VEVENT
BEGIN:VEVENT
DTSTART;VALUE=DATE:20230808
DTEND;VALUE=DATE:20230812
DTSTAMP:20260424T214133
CREATED:20230312T135449Z
LAST-MODIFIED:20230520T021657Z
UID:9739-1691452800-1691798399@www.ectra.org
SUMMARY:Pine Tree Pioneer Endurance Ride & Tie
DESCRIPTION:Offering a one day 50 mile endurance\, a 3 day Pioneer ride and LDs each day as well as a Ride and Tie.  More information available HERE!
URL:https://www.ectra.org/event/pine-tree-pioneer-endurance-ride-tie/
LOCATION:Fryeburg Fairgrounds\, Fryeburg\, ME\, United States
CATEGORIES:Endurance
ORGANIZER;CN="Louise Lester":MAILTO:louise1@maine.rr.com
END:VEVENT
BEGIN:VEVENT
DTSTART;VALUE=DATE:20230819
DTEND;VALUE=DATE:20230820
DTSTAMP:20260424T214133
CREATED:20230713T161201Z
LAST-MODIFIED:20230713T161223Z
UID:10612-1692403200-1692489599@www.ectra.org
SUMMARY:Horseshoe Bend Boogie
DESCRIPTION:Offering a 50 mile endurance ride and a 25 mile LD.  More information available HERE!
URL:https://www.ectra.org/event/horseshoe-bend-boogie/
LOCATION:Horseshoe Bend Park\, 178 Horseshoe Bend Road\, Frenchtown\, NJ\, 08825\, United States
CATEGORIES:Endurance
ORGANIZER;CN="Meg Sleeper":MAILTO:margaretmsleeper@ufl.edu
END:VEVENT
BEGIN:VEVENT
DTSTART;VALUE=DATE:20230820
DTEND;VALUE=DATE:20230821
DTSTAMP:20260424T214133
CREATED:20230131T162408Z
LAST-MODIFIED:20230714T141448Z
UID:9860-1692489600-1692575999@www.ectra.org
SUMMARY:Wellwood Orchard Ride - CANCELLED!
DESCRIPTION:Offering a 30 CTR + 30 P/F + 15 CDR + 15 P/F. Information and entry available HERE!
URL:https://www.ectra.org/event/wellwood-orchard-ride/
LOCATION:Wellwood orchards\, 529 Wellwood Orchard Rd\,\, Springfield\, VT\, 05156\, United States
CATEGORIES:CTR
ORGANIZER;CN="Sara Lareau":MAILTO:smlareau99@gmail.com
END:VEVENT
BEGIN:VEVENT
DTSTART;VALUE=DATE:20230825
DTEND;VALUE=DATE:20230827
DTSTAMP:20260424T214133
CREATED:20230201T211656Z
LAST-MODIFIED:20230201T211656Z
UID:9900-1692921600-1693094399@www.ectra.org
SUMMARY:Iron Mountain Jubilee
DESCRIPTION:Offering a 50 mile endurance ride both days\, a 100 mile endurance ride and 2 days of 25 mile LDs.  More information and entry available HERE!
URL:https://www.ectra.org/event/iron-mountain-jubilee-3/
CATEGORIES:Endurance
ORGANIZER;CN="Eric Rueter":MAILTO:eric@fleetfootfarm.com
END:VEVENT
END:VCALENDAR