BEGIN:VCALENDAR
VERSION:2.0
PRODID:-//Eastern Competitive Trail Ride Association - ECPv6.15.20//NONSGML v1.0//EN
CALSCALE:GREGORIAN
METHOD:PUBLISH
X-WR-CALNAME:Eastern Competitive Trail Ride Association
X-ORIGINAL-URL:https://www.ectra.org
X-WR-CALDESC:Events for Eastern Competitive Trail Ride Association
REFRESH-INTERVAL;VALUE=DURATION:PT1H
X-Robots-Tag:noindex
X-PUBLISHED-TTL:PT1H
BEGIN:VTIMEZONE
TZID:America/New_York
BEGIN:DAYLIGHT
TZOFFSETFROM:-0500
TZOFFSETTO:-0400
TZNAME:EDT
DTSTART:20220313T070000
END:DAYLIGHT
BEGIN:STANDARD
TZOFFSETFROM:-0400
TZOFFSETTO:-0500
TZNAME:EST
DTSTART:20221106T060000
END:STANDARD
BEGIN:DAYLIGHT
TZOFFSETFROM:-0500
TZOFFSETTO:-0400
TZNAME:EDT
DTSTART:20230312T070000
END:DAYLIGHT
BEGIN:STANDARD
TZOFFSETFROM:-0400
TZOFFSETTO:-0500
TZNAME:EST
DTSTART:20231105T060000
END:STANDARD
BEGIN:DAYLIGHT
TZOFFSETFROM:-0500
TZOFFSETTO:-0400
TZNAME:EDT
DTSTART:20240310T070000
END:DAYLIGHT
BEGIN:STANDARD
TZOFFSETFROM:-0400
TZOFFSETTO:-0500
TZNAME:EST
DTSTART:20241103T060000
END:STANDARD
END:VTIMEZONE
BEGIN:VEVENT
DTSTART;VALUE=DATE:20230901
DTEND;VALUE=DATE:20230904
DTSTAMP:20260424T200906
CREATED:20230201T210842Z
LAST-MODIFIED:20230807T174024Z
UID:9891-1693526400-1693785599@www.ectra.org
SUMMARY:GMHA Distance Days
DESCRIPTION:Updated distances are as follows: 100 mile CTR 9/1 – 9/3.  60 mile CTR 9/2 – 9/3.  25 mile CTRs 9/1 & 9/2.  15 mile CDRs also available on 9/1 & 9/2.  More information and entry HERE!
URL:https://www.ectra.org/event/gmha-distance-days-2/
LOCATION:GMHA\, 5491 South Rd\,\, South Woodstock\, VT\, 05071\, United States
CATEGORIES:CTR
ORGANIZER;CN="Ally LaFlair":MAILTO:ally@gmhainc.org
END:VEVENT
BEGIN:VEVENT
DTSTART;VALUE=DATE:20230909
DTEND;VALUE=DATE:20230910
DTSTAMP:20260424T200906
CREATED:20221211T001041Z
LAST-MODIFIED:20230822T012947Z
UID:9710-1694217600-1694303999@www.ectra.org
SUMMARY:Hector Half Hundred
DESCRIPTION:Offering a 50 mile endurance ride and a 30 mile LD.  More information available HERE! Entry available HERE!
URL:https://www.ectra.org/event/hector-half-hundred-4/
CATEGORIES:Endurance
END:VEVENT
BEGIN:VEVENT
DTSTART;VALUE=DATE:20230916
DTEND;VALUE=DATE:20230918
DTSTAMP:20260424T200906
CREATED:20230201T211012Z
LAST-MODIFIED:20230703T150810Z
UID:9893-1694822400-1694995199@www.ectra.org
SUMMARY:Chesapeake Fall
DESCRIPTION:Offering 2 days of 25 mile CTRs\, a 2 day 50 mile CTR and 10 and 15 mile CDRs each day.  Will have pass/fail option.  More information and entry available HERE!
URL:https://www.ectra.org/event/chesapeake-fall-3/
LOCATION:Fair Hill NRMA\, 300 Tawes Dr.\, Elkton\, MD\, 21921\, United States
CATEGORIES:CTR
ORGANIZER;CN="Cate Peloquin":MAILTO:cpenguin57@aol.com
END:VEVENT
BEGIN:VEVENT
DTSTART;VALUE=DATE:20230923
DTEND;VALUE=DATE:20230924
DTSTAMP:20260424T200906
CREATED:20230404T140534Z
LAST-MODIFIED:20230404T140534Z
UID:10046-1695427200-1695513599@www.ectra.org
SUMMARY:VERDA Ride at Silver Hill
DESCRIPTION:Offering a 25 mile CTR with a pass/fail option and a 15 mile CDR.  More information available HERE!
URL:https://www.ectra.org/event/verda-ride-at-silver-hill/
LOCATION:Silver Hill Field\, 1851 Silver Hill Road\, West Windsor\, VT\, 05089\, United States
CATEGORIES:CTR
ORGANIZER;CN="Kathy Hall":MAILTO:kathy.stormybrook@gmail.com
END:VEVENT
END:VCALENDAR