BEGIN:VCALENDAR
VERSION:2.0
PRODID:-//Eastern Competitive Trail Ride Association - ECPv6.15.20//NONSGML v1.0//EN
CALSCALE:GREGORIAN
METHOD:PUBLISH
X-ORIGINAL-URL:https://www.ectra.org
X-WR-CALDESC:Events for Eastern Competitive Trail Ride Association
REFRESH-INTERVAL;VALUE=DURATION:PT1H
X-Robots-Tag:noindex
X-PUBLISHED-TTL:PT1H
BEGIN:VTIMEZONE
TZID:America/New_York
BEGIN:DAYLIGHT
TZOFFSETFROM:-0500
TZOFFSETTO:-0400
TZNAME:EDT
DTSTART:20220313T070000
END:DAYLIGHT
BEGIN:STANDARD
TZOFFSETFROM:-0400
TZOFFSETTO:-0500
TZNAME:EST
DTSTART:20221106T060000
END:STANDARD
BEGIN:DAYLIGHT
TZOFFSETFROM:-0500
TZOFFSETTO:-0400
TZNAME:EDT
DTSTART:20230312T070000
END:DAYLIGHT
BEGIN:STANDARD
TZOFFSETFROM:-0400
TZOFFSETTO:-0500
TZNAME:EST
DTSTART:20231105T060000
END:STANDARD
BEGIN:DAYLIGHT
TZOFFSETFROM:-0500
TZOFFSETTO:-0400
TZNAME:EDT
DTSTART:20240310T070000
END:DAYLIGHT
BEGIN:STANDARD
TZOFFSETFROM:-0400
TZOFFSETTO:-0500
TZNAME:EST
DTSTART:20241103T060000
END:STANDARD
END:VTIMEZONE
BEGIN:VEVENT
DTSTART;VALUE=DATE:20231007
DTEND;VALUE=DATE:20231008
DTSTAMP:20260424T184236
CREATED:20230405T125037Z
LAST-MODIFIED:20230405T125037Z
UID:10052-1696636800-1696723199@www.ectra.org
SUMMARY:Mustang Memorial
DESCRIPTION:Offering a 100 mile\, 75 mile\, 60 mile and 50 mile endurance ride as well as a 30 mile LD.  More information and entry will be posted HERE!
URL:https://www.ectra.org/event/mustang-memorial-4/
CATEGORIES:Endurance
ORGANIZER;CN="Maile Irion":MAILTO:endurancenj@gmail.com
END:VEVENT
BEGIN:VEVENT
DTSTART;VALUE=DATE:20231014
DTEND;VALUE=DATE:20231015
DTSTAMP:20260424T184236
CREATED:20230201T211514Z
LAST-MODIFIED:20230201T211529Z
UID:9898-1697241600-1697327999@www.ectra.org
SUMMARY:GMHA Fall Endurance
DESCRIPTION:Offering a 50 mile endurance ride and a 30 mile LD.  More information and entry available HERE!
URL:https://www.ectra.org/event/gmha-fall-endurance-4/
LOCATION:GMHA\, 5491 South Rd\,\, South Woodstock\, VT\, 05071\, United States
CATEGORIES:Endurance
ORGANIZER;CN="Ally LaFlair":MAILTO:ally@gmhainc.org
END:VEVENT
BEGIN:VEVENT
DTSTART;VALUE=DATE:20231020
DTEND;VALUE=DATE:20231022
DTSTAMP:20260424T184236
CREATED:20221211T000923Z
LAST-MODIFIED:20230312T135550Z
UID:9708-1697760000-1697932799@www.ectra.org
SUMMARY:Fort Valley
DESCRIPTION:Offering a 30 mile LD and 50 mile endurance ride each day.  More information available HERE!
URL:https://www.ectra.org/event/fort-valley-4/
CATEGORIES:Endurance
ORGANIZER;CN="Diane Connolly":MAILTO:DCConnolly24@gmail.com
END:VEVENT
BEGIN:VEVENT
DTSTART;VALUE=DATE:20231029
DTEND;VALUE=DATE:20231030
DTSTAMP:20260424T184236
CREATED:20230201T211240Z
LAST-MODIFIED:20230920T132423Z
UID:9895-1698537600-1698623999@www.ectra.org
SUMMARY:Kedron Fall Foliage Ride
DESCRIPTION:Offering a 25 mile CTR and drive as well as a 15 mile CDR & CDD and 10 mile CDR & CDD. More information and entry HERE!
URL:https://www.ectra.org/event/kedron-fall-foliage-ride/
CATEGORIES:CTR
ORGANIZER;CN="Jenny Kimberly":MAILTO:jennykimberly@comcast.net
END:VEVENT
END:VCALENDAR