BEGIN:VCALENDAR
VERSION:2.0
PRODID:-//Eastern Competitive Trail Ride Association - ECPv6.15.20//NONSGML v1.0//EN
CALSCALE:GREGORIAN
METHOD:PUBLISH
X-WR-CALNAME:Eastern Competitive Trail Ride Association
X-ORIGINAL-URL:https://www.ectra.org
X-WR-CALDESC:Events for Eastern Competitive Trail Ride Association
REFRESH-INTERVAL;VALUE=DURATION:PT1H
X-Robots-Tag:noindex
X-PUBLISHED-TTL:PT1H
BEGIN:VTIMEZONE
TZID:America/New_York
BEGIN:DAYLIGHT
TZOFFSETFROM:-0500
TZOFFSETTO:-0400
TZNAME:EDT
DTSTART:20230312T070000
END:DAYLIGHT
BEGIN:STANDARD
TZOFFSETFROM:-0400
TZOFFSETTO:-0500
TZNAME:EST
DTSTART:20231105T060000
END:STANDARD
BEGIN:DAYLIGHT
TZOFFSETFROM:-0500
TZOFFSETTO:-0400
TZNAME:EDT
DTSTART:20240310T070000
END:DAYLIGHT
BEGIN:STANDARD
TZOFFSETFROM:-0400
TZOFFSETTO:-0500
TZNAME:EST
DTSTART:20241103T060000
END:STANDARD
BEGIN:DAYLIGHT
TZOFFSETFROM:-0500
TZOFFSETTO:-0400
TZNAME:EDT
DTSTART:20250309T070000
END:DAYLIGHT
BEGIN:STANDARD
TZOFFSETFROM:-0400
TZOFFSETTO:-0500
TZNAME:EST
DTSTART:20251102T060000
END:STANDARD
END:VTIMEZONE
BEGIN:VEVENT
DTSTART;VALUE=DATE:20240406
DTEND;VALUE=DATE:20240407
DTSTAMP:20260424T093042
CREATED:20240201T194839Z
LAST-MODIFIED:20240227T135613Z
UID:11449-1712361600-1712447999@www.ectra.org
SUMMARY:Foxcatcher
DESCRIPTION:Offering a 50 mile endurance ride and a 25 mile LD.  More information and entry available HERE!
URL:https://www.ectra.org/event/foxcatcher-3/
LOCATION:Fair Hill NRMA\, 300 Tawes Dr.\, Elkton\, MD\, 21921\, United States
CATEGORIES:Endurance
ORGANIZER;CN="Maile Irion":MAILTO:endurancenj@gmail.com
END:VEVENT
BEGIN:VEVENT
DTSTART;VALUE=DATE:20240413
DTEND;VALUE=DATE:20240414
DTSTAMP:20260424T093042
CREATED:20240217T141719Z
LAST-MODIFIED:20240321T132553Z
UID:11473-1712966400-1713052799@www.ectra.org
SUMMARY:VERDA Mud Ride
DESCRIPTION:Offering a 25 mile pass fail CTR and a 10 and 15 mile CDR. More information and entry will be available HERE!
URL:https://www.ectra.org/event/verda-mud-ride-2/
CATEGORIES:CTR
ORGANIZER;CN="Sara Lareau":MAILTO:smlareau99@gmail.com
END:VEVENT
BEGIN:VEVENT
DTSTART;VALUE=DATE:20240414
DTEND;VALUE=DATE:20240415
DTSTAMP:20260424T093042
CREATED:20240201T191903Z
LAST-MODIFIED:20240402T194116Z
UID:11471-1713052800-1713139199@www.ectra.org
SUMMARY:Spring Chesapeake
DESCRIPTION:Offering a 25 mile CTR and 12.5 mile CDR.  Pass/fail option offered.  More information and entry available HERE!
URL:https://www.ectra.org/event/spring-chesapeake-3/
LOCATION:Fair Hill NRMA\, 300 Tawes Dr.\, Elkton\, MD\, 21921\, United States
CATEGORIES:CTR
ORGANIZER;CN="Cate Peloquin":MAILTO:cpenguin57@aol.com
END:VEVENT
BEGIN:VEVENT
DTSTART;VALUE=DATE:20240419
DTEND;VALUE=DATE:20240421
DTSTAMP:20260424T093042
CREATED:20231207T183837Z
LAST-MODIFIED:20240331T003217Z
UID:11436-1713484800-1713657599@www.ectra.org
SUMMARY:Old Dominion No Frills - CANCELLED AS OF 3/30/2024
DESCRIPTION:Offering a 30 mile LD and 55 mile endurance ride both days.  More information available HERE!
URL:https://www.ectra.org/event/old-dominion-no-frills-3/
LOCATION:324 and 160 Capon Springs Grade\, 324 and 160 Capon Springs Grade\, Star Tannery\, VA\, 22654\, United States
CATEGORIES:Endurance
ORGANIZER;CN="Carolyn Blocker":MAILTO:Eagleonvineyard@msn.com
END:VEVENT
END:VCALENDAR