BEGIN:VCALENDAR
VERSION:2.0
PRODID:-//Eastern Competitive Trail Ride Association - ECPv6.15.20//NONSGML v1.0//EN
CALSCALE:GREGORIAN
METHOD:PUBLISH
X-WR-CALNAME:Eastern Competitive Trail Ride Association
X-ORIGINAL-URL:https://www.ectra.org
X-WR-CALDESC:Events for Eastern Competitive Trail Ride Association
REFRESH-INTERVAL;VALUE=DURATION:PT1H
X-Robots-Tag:noindex
X-PUBLISHED-TTL:PT1H
BEGIN:VTIMEZONE
TZID:America/New_York
BEGIN:DAYLIGHT
TZOFFSETFROM:-0500
TZOFFSETTO:-0400
TZNAME:EDT
DTSTART:20230312T070000
END:DAYLIGHT
BEGIN:STANDARD
TZOFFSETFROM:-0400
TZOFFSETTO:-0500
TZNAME:EST
DTSTART:20231105T060000
END:STANDARD
BEGIN:DAYLIGHT
TZOFFSETFROM:-0500
TZOFFSETTO:-0400
TZNAME:EDT
DTSTART:20240310T070000
END:DAYLIGHT
BEGIN:STANDARD
TZOFFSETFROM:-0400
TZOFFSETTO:-0500
TZNAME:EST
DTSTART:20241103T060000
END:STANDARD
BEGIN:DAYLIGHT
TZOFFSETFROM:-0500
TZOFFSETTO:-0400
TZNAME:EDT
DTSTART:20250309T070000
END:DAYLIGHT
BEGIN:STANDARD
TZOFFSETFROM:-0400
TZOFFSETTO:-0500
TZNAME:EST
DTSTART:20251102T060000
END:STANDARD
END:VTIMEZONE
BEGIN:VEVENT
DTSTART;VALUE=DATE:20240503
DTEND;VALUE=DATE:20240506
DTSTAMP:20260424T075847
CREATED:20231207T182551Z
LAST-MODIFIED:20240403T185121Z
UID:11422-1714694400-1714953599@www.ectra.org
SUMMARY:NJTRA 100+
DESCRIPTION:Offering a 100 mile 3 day CTR\, a 60 and 75 mile 2 day CTR and 40\, 35 and 25 mile one day CTRs as well as 10 mile CDRs daily.  Drives available at all distances as well.  Pass Fail Option available. More information and entry HERE!!
URL:https://www.ectra.org/event/njtra-100/
LOCATION:Kowboy Korral\, 2884 County Route 563\, Egg Harbor\, NJ\, 08215\, United States
CATEGORIES:CTR
ORGANIZER;CN="Lucha Malato":MAILTO:Luchamalato@gmail.com
END:VEVENT
BEGIN:VEVENT
DTSTART;VALUE=DATE:20240511
DTEND;VALUE=DATE:20240513
DTSTAMP:20260424T075847
CREATED:20231207T182733Z
LAST-MODIFIED:20240223T165928Z
UID:11425-1715385600-1715558399@www.ectra.org
SUMMARY:Seven Mountains Trail Ride
DESCRIPTION:Offering a 30 mile CTR each day as well as a 60 mile 2 day CTR.  Will also offer a 15 mile CDR each day.  Will offer a Pass/Fail division. More information and entry available HERE!  Or enter online HERE!
URL:https://www.ectra.org/event/seven-mountains-trail-ride-2/
CATEGORIES:CTR
ORGANIZER;CN="Diana Murphy":MAILTO:hawkmeadow@gmail.com
END:VEVENT
BEGIN:VEVENT
DTSTART;VALUE=DATE:20240518
DTEND;VALUE=DATE:20240519
DTSTAMP:20260424T075847
CREATED:20240313T141529Z
LAST-MODIFIED:20240313T141536Z
UID:12449-1715990400-1716076799@www.ectra.org
SUMMARY:Brown Bag
DESCRIPTION:Offering a 25 mile CTR and 15 mile CDR.  Will have a pass/fail option.  More information and entry HERE!
URL:https://www.ectra.org/event/brown-bag/
LOCATION:Cornish NH Fairgrounds\, 294 Town House Rd\, Cornish\, NH\, 03745\, United States
CATEGORIES:CTR
ORGANIZER;CN="Debbie Keenan":MAILTO:dbkeenan96@gmail.com
END:VEVENT
BEGIN:VEVENT
DTSTART;VALUE=DATE:20240519
DTEND;VALUE=DATE:20240520
DTSTAMP:20260424T075847
CREATED:20240313T141232Z
LAST-MODIFIED:20240313T141232Z
UID:12447-1716076800-1716163199@www.ectra.org
SUMMARY:VERDA Bare Bones
DESCRIPTION:Offering a 50 mile endurance ride and a 30 mile LD.  More information and entry HERE!
URL:https://www.ectra.org/event/verda-bare-bones-3/
LOCATION:Cornish NH Fairgrounds\, 294 Town House Rd\, Cornish\, NH\, 03745\, United States
CATEGORIES:Endurance
ORGANIZER;CN="Erin Grogan":MAILTO:erinlgrogan@gmail.com
END:VEVENT
BEGIN:VEVENT
DTSTART;VALUE=DATE:20240525
DTEND;VALUE=DATE:20240526
DTSTAMP:20260424T075847
CREATED:20240131T180957Z
LAST-MODIFIED:20240205T171426Z
UID:11922-1716595200-1716681599@www.ectra.org
SUMMARY:Buffoonery CTR 2024
DESCRIPTION:Offering a 25 mile CTR and drive and a 12 mile CDR and CDD.  Information and Entry HERE!
URL:https://www.ectra.org/event/buffoonery-ctr-2024/
LOCATION:Pure Country Campground\, 176 Kelly Road\, New Berlin\, NY\, 13411\, United States
CATEGORIES:CTR
ORGANIZER;CN="Eva Norris":MAILTO:eva83919@aol.com
END:VEVENT
BEGIN:VEVENT
DTSTART;VALUE=DATE:20240526
DTEND;VALUE=DATE:20240527
DTSTAMP:20260424T075847
CREATED:20231207T184239Z
LAST-MODIFIED:20231207T184239Z
UID:11441-1716681600-1716767999@www.ectra.org
SUMMARY:New York Adventure
DESCRIPTION:Offering a 30/50/75 mile ride.  More info HERE!
URL:https://www.ectra.org/event/new-york-adventure-3/
LOCATION:Pure Country Campground\, 176 Kelly Road\, New Berlin\, NY\, 13411\, United States
CATEGORIES:Endurance
ORGANIZER;CN="Eva Norris":MAILTO:eva83919@aol.com
END:VEVENT
END:VCALENDAR