BEGIN:VCALENDAR
VERSION:2.0
PRODID:-//Eastern Competitive Trail Ride Association - ECPv6.15.20//NONSGML v1.0//EN
CALSCALE:GREGORIAN
METHOD:PUBLISH
X-WR-CALNAME:Eastern Competitive Trail Ride Association
X-ORIGINAL-URL:https://www.ectra.org
X-WR-CALDESC:Events for Eastern Competitive Trail Ride Association
REFRESH-INTERVAL;VALUE=DURATION:PT1H
X-Robots-Tag:noindex
X-PUBLISHED-TTL:PT1H
BEGIN:VTIMEZONE
TZID:America/New_York
BEGIN:DAYLIGHT
TZOFFSETFROM:-0500
TZOFFSETTO:-0400
TZNAME:EDT
DTSTART:20230312T070000
END:DAYLIGHT
BEGIN:STANDARD
TZOFFSETFROM:-0400
TZOFFSETTO:-0500
TZNAME:EST
DTSTART:20231105T060000
END:STANDARD
BEGIN:DAYLIGHT
TZOFFSETFROM:-0500
TZOFFSETTO:-0400
TZNAME:EDT
DTSTART:20240310T070000
END:DAYLIGHT
BEGIN:STANDARD
TZOFFSETFROM:-0400
TZOFFSETTO:-0500
TZNAME:EST
DTSTART:20241103T060000
END:STANDARD
BEGIN:DAYLIGHT
TZOFFSETFROM:-0500
TZOFFSETTO:-0400
TZNAME:EDT
DTSTART:20250309T070000
END:DAYLIGHT
BEGIN:STANDARD
TZOFFSETFROM:-0400
TZOFFSETTO:-0500
TZNAME:EST
DTSTART:20251102T060000
END:STANDARD
END:VTIMEZONE
BEGIN:VEVENT
DTSTART;VALUE=DATE:20240803
DTEND;VALUE=DATE:20240805
DTSTAMP:20260424T032526
CREATED:20240109T221722Z
LAST-MODIFIED:20240614T162501Z
UID:11745-1722643200-1722815999@www.ectra.org
SUMMARY:GMHA August CTR - CANCELLED
DESCRIPTION:Offering a 25 mile CTR and drive each day as well as a 2 day 50 mile CTR and drive.  Will also offer a 15 mile CDR each day.  Will offer a pass fail option as well.
URL:https://www.ectra.org/event/gmha-august-ctr/
LOCATION:GMHA\, 5491 South Rd\,\, South Woodstock\, VT\, 05071\, United States
CATEGORIES:CTR
ORGANIZER;CN="Mickey Perry":MAILTO:mperry@GMHAinc.org
END:VEVENT
BEGIN:VEVENT
DTSTART;VALUE=DATE:20240806
DTEND;VALUE=DATE:20240810
DTSTAMP:20260424T032526
CREATED:20240313T141035Z
LAST-MODIFIED:20240708T140324Z
UID:11475-1722902400-1723247999@www.ectra.org
SUMMARY:Pine Tree
DESCRIPTION:Offering 4 days of 50 mile endurance rides and 25 mile LD rides. Information and entry available HERE!
URL:https://www.ectra.org/event/pine-tree/
LOCATION:Fryeburg Fairgrounds\, Fryeburg\, ME\, United States
CATEGORIES:Endurance
ORGANIZER;CN="Susan Niedoroda":MAILTO:sniedoroda@yahoo.com
END:VEVENT
BEGIN:VEVENT
DTSTART;VALUE=DATE:20240817
DTEND;VALUE=DATE:20240818
DTSTAMP:20260424T032526
CREATED:20240508T124523Z
LAST-MODIFIED:20240508T124714Z
UID:11477-1723852800-1723939199@www.ectra.org
SUMMARY:Horseshoe Bend Boogie Endurance
DESCRIPTION:Offering a 50 mile endurance ride and a 30 mile LD. More information available HERE!
URL:https://www.ectra.org/event/horseshoe-bend-boogie-endurance/
CATEGORIES:Endurance
END:VEVENT
BEGIN:VEVENT
DTSTART;VALUE=DATE:20240818
DTEND;VALUE=DATE:20240819
DTSTAMP:20260424T032526
CREATED:20240201T194212Z
LAST-MODIFIED:20240422T134526Z
UID:11930-1723939200-1724025599@www.ectra.org
SUMMARY:Wellwood Orchard
DESCRIPTION:Offering a 30 mile CTR with a pass/fail option and a 15 mile CDR.  Information and entry can be found HERE!
URL:https://www.ectra.org/event/wellwood-orchard/
LOCATION:Wellwood orchards\, 529 Wellwood Orchard Rd\,\, Springfield\, VT\, 05156\, United States
CATEGORIES:CTR
ORGANIZER;CN="Sara Lareau":MAILTO:smlareau99@gmail.com
END:VEVENT
BEGIN:VEVENT
DTSTART;VALUE=DATE:20240823
DTEND;VALUE=DATE:20240826
DTSTAMP:20260424T032526
CREATED:20240508T124516Z
LAST-MODIFIED:20240508T124846Z
UID:11483-1724371200-1724630399@www.ectra.org
SUMMARY:Iron Mountain Jubilee/Breed Distance Nationals
DESCRIPTION:Offering a 50 mile endurance ride and 25 mile LD each day as well as a 100 mile endurance ride on the 24th.  More information available HERE!
URL:https://www.ectra.org/event/iron-mountain-jubilee-breed-distance-nationals/
CATEGORIES:Endurance
END:VEVENT
BEGIN:VEVENT
DTSTART;VALUE=DATE:20240830
DTEND;VALUE=DATE:20240902
DTSTAMP:20260424T032526
CREATED:20240109T220419Z
LAST-MODIFIED:20240225T164828Z
UID:11479-1724976000-1725235199@www.ectra.org
SUMMARY:GMHA Distance Days
DESCRIPTION:Offering a 40 mile CTR on August 30 and August 31 along with a 2 day 80 starting on the 30th and a 2 day 60 mile CTR starting on the 31t and a 3 day 100 starting on the 30th.  There will be a 25 mile CTR on the 1st of September as well.  Will also have 10 and 15 mile CDRs on the 30th and 31st. Pass fail options will be available.  More information can be found on GMHA’s website HERE!
URL:https://www.ectra.org/event/gmha-100/
LOCATION:GMHA\, 5491 South Rd\,\, South Woodstock\, VT\, 05071\, United States
CATEGORIES:CTR
ORGANIZER;CN="Mickey Perry":MAILTO:mperry@GMHAinc.org
END:VEVENT
END:VCALENDAR