BEGIN:VCALENDAR
VERSION:2.0
PRODID:-//Eastern Competitive Trail Ride Association - ECPv6.15.20//NONSGML v1.0//EN
CALSCALE:GREGORIAN
METHOD:PUBLISH
X-ORIGINAL-URL:https://www.ectra.org
X-WR-CALDESC:Events for Eastern Competitive Trail Ride Association
REFRESH-INTERVAL;VALUE=DURATION:PT1H
X-Robots-Tag:noindex
X-PUBLISHED-TTL:PT1H
BEGIN:VTIMEZONE
TZID:America/New_York
BEGIN:DAYLIGHT
TZOFFSETFROM:-0500
TZOFFSETTO:-0400
TZNAME:EDT
DTSTART:20230312T070000
END:DAYLIGHT
BEGIN:STANDARD
TZOFFSETFROM:-0400
TZOFFSETTO:-0500
TZNAME:EST
DTSTART:20231105T060000
END:STANDARD
BEGIN:DAYLIGHT
TZOFFSETFROM:-0500
TZOFFSETTO:-0400
TZNAME:EDT
DTSTART:20240310T070000
END:DAYLIGHT
BEGIN:STANDARD
TZOFFSETFROM:-0400
TZOFFSETTO:-0500
TZNAME:EST
DTSTART:20241103T060000
END:STANDARD
BEGIN:DAYLIGHT
TZOFFSETFROM:-0500
TZOFFSETTO:-0400
TZNAME:EDT
DTSTART:20250309T070000
END:DAYLIGHT
BEGIN:STANDARD
TZOFFSETFROM:-0400
TZOFFSETTO:-0500
TZNAME:EST
DTSTART:20251102T060000
END:STANDARD
END:VTIMEZONE
BEGIN:VEVENT
DTSTART;VALUE=DATE:20241005
DTEND;VALUE=DATE:20241006
DTSTAMP:20260424T002901
CREATED:20231207T184945Z
LAST-MODIFIED:20240225T164244Z
UID:11445-1728086400-1728172799@www.ectra.org
SUMMARY:NJTRA Mustang Memorial
DESCRIPTION:Offering 100 mile\, 75 mile\, 65 mile and 50 mile endurance rides as well as a 30 mile LD.  More information and entry will be posted HERE!
URL:https://www.ectra.org/event/njtra-mustang-memorial/
CATEGORIES:Endurance
ORGANIZER;CN="Maile Irion":MAILTO:endurancenj@gmail.com
END:VEVENT
BEGIN:VEVENT
DTSTART;VALUE=DATE:20241018
DTEND;VALUE=DATE:20241020
DTSTAMP:20260424T002901
CREATED:20231207T192034Z
LAST-MODIFIED:20240225T164230Z
UID:11469-1729209600-1729382399@www.ectra.org
SUMMARY:FT Valley Endurance Ride
DESCRIPTION:Offering a 50 mile endurance ride and 30 mile LD both days. More information HERE! \n 
URL:https://www.ectra.org/event/ft-valley-endurance-ride/
CATEGORIES:Endurance
ORGANIZER;CN="Carolyn Blocker":MAILTO:Eagleonvineyard@msn.com
END:VEVENT
BEGIN:VEVENT
DTSTART;VALUE=DATE:20241027
DTEND;VALUE=DATE:20241028
DTSTAMP:20260424T002901
CREATED:20240403T182321Z
LAST-MODIFIED:20240408T012130Z
UID:12767-1729987200-1730073599@www.ectra.org
SUMMARY:Kedron Fall Foliage 25 Mile Ride and Drive
DESCRIPTION:Offering a 25 mile ride and drive as well as a 15 and 10 mile CDR/CDD.  More information and entry HERE!
URL:https://www.ectra.org/event/kedron-fall-foliage-25-mile-ride-and-drive/
LOCATION:Kedron Valley Stables\, 4342 South Rd.\, South Woodstock\, VT\, 05071\, United States
CATEGORIES:CTR
ORGANIZER;CN="Jenny Kimberly":MAILTO:jennykimberly@comcast.net
END:VEVENT
END:VCALENDAR