BEGIN:VCALENDAR
VERSION:2.0
PRODID:-//Eastern Competitive Trail Ride Association - ECPv6.15.20//NONSGML v1.0//EN
CALSCALE:GREGORIAN
METHOD:PUBLISH
X-ORIGINAL-URL:https://www.ectra.org
X-WR-CALDESC:Events for Eastern Competitive Trail Ride Association
REFRESH-INTERVAL;VALUE=DURATION:PT1H
X-Robots-Tag:noindex
X-PUBLISHED-TTL:PT1H
BEGIN:VTIMEZONE
TZID:America/New_York
BEGIN:DAYLIGHT
TZOFFSETFROM:-0500
TZOFFSETTO:-0400
TZNAME:EDT
DTSTART:20240310T070000
END:DAYLIGHT
BEGIN:STANDARD
TZOFFSETFROM:-0400
TZOFFSETTO:-0500
TZNAME:EST
DTSTART:20241103T060000
END:STANDARD
BEGIN:DAYLIGHT
TZOFFSETFROM:-0500
TZOFFSETTO:-0400
TZNAME:EDT
DTSTART:20250309T070000
END:DAYLIGHT
BEGIN:STANDARD
TZOFFSETFROM:-0400
TZOFFSETTO:-0500
TZNAME:EST
DTSTART:20251102T060000
END:STANDARD
BEGIN:DAYLIGHT
TZOFFSETFROM:-0500
TZOFFSETTO:-0400
TZNAME:EDT
DTSTART:20260308T070000
END:DAYLIGHT
BEGIN:STANDARD
TZOFFSETFROM:-0400
TZOFFSETTO:-0500
TZNAME:EST
DTSTART:20261101T060000
END:STANDARD
END:VTIMEZONE
BEGIN:VEVENT
DTSTART;VALUE=DATE:20250228
DTEND;VALUE=DATE:20250303
DTSTAMP:20260423T165855
CREATED:20250127T211415Z
LAST-MODIFIED:20250226T202458Z
UID:19112-1740700800-1740959999@www.ectra.org
SUMMARY:ECTRA Winter Getaway - CANCELLED!
DESCRIPTION:Register online HERE!
URL:https://www.ectra.org/event/ectra-winter-getaway-2/
LOCATION:Holiday Inn Newark International Airport\, 160 Frontage Rd\, Newark\, NJ\, 07114\, United States
CATEGORIES:Meeting
ORGANIZER;CN="Char Jewell":MAILTO:ban_zus@yahoo.com
END:VEVENT
BEGIN:VEVENT
DTSTART;VALUE=DATE:20250308
DTEND;VALUE=DATE:20250309
DTSTAMP:20260423T165856
CREATED:20250226T201829Z
LAST-MODIFIED:20250226T201829Z
UID:19860-1741392000-1741478399@www.ectra.org
SUMMARY:CTR Clinic
DESCRIPTION:
URL:https://www.ectra.org/event/ctr-clinic/
CATEGORIES:CTR Clinic
ORGANIZER;CN="Hanna Weightman-Roach":MAILTO:hlweightman@gmail.com
END:VEVENT
BEGIN:VEVENT
DTSTART;VALUE=DATE:20250315
DTEND;VALUE=DATE:20250316
DTSTAMP:20260423T165856
CREATED:20241229T165043Z
LAST-MODIFIED:20250131T191206Z
UID:18482-1741996800-1742083199@www.ectra.org
SUMMARY:Rabbit Run
DESCRIPTION:Offering a 50 mile endurance ride and a 30 mile LD. Entry form available HERE!
URL:https://www.ectra.org/event/rabbit-run-3/
LOCATION:BBB Gun Club\, 180 City Line Rd.\, Browns Mills\, NJ\, 08015\, United States
CATEGORIES:Endurance
ORGANIZER;CN="Lucha Malato":MAILTO:Luchamalato@gmail.com
END:VEVENT
BEGIN:VEVENT
DTSTART;VALUE=DATE:20250316
DTEND;VALUE=DATE:20250317
DTSTAMP:20260423T165856
CREATED:20241229T162026Z
LAST-MODIFIED:20250131T190547Z
UID:18456-1742083200-1742169599@www.ectra.org
SUMMARY:Bunny Hop CTR PF
DESCRIPTION:Offering a 25 mile CTR and competitive drive as well as a 10 and 15 mile CDR/CDD. Information and entry available HERE!
URL:https://www.ectra.org/event/bunny-hop-ctr-pf/
LOCATION:BBB Gun Club\, 180 City Line Rd.\, Browns Mills\, NJ\, 08015\, United States
CATEGORIES:CTR
ORGANIZER;CN="Lucha Malato":MAILTO:Luchamalato@gmail.com
END:VEVENT
END:VCALENDAR