BEGIN:VCALENDAR
VERSION:2.0
PRODID:-//Eastern Competitive Trail Ride Association - ECPv6.15.20//NONSGML v1.0//EN
CALSCALE:GREGORIAN
METHOD:PUBLISH
X-ORIGINAL-URL:https://www.ectra.org
X-WR-CALDESC:Events for Eastern Competitive Trail Ride Association
REFRESH-INTERVAL;VALUE=DURATION:PT1H
X-Robots-Tag:noindex
X-PUBLISHED-TTL:PT1H
BEGIN:VTIMEZONE
TZID:America/New_York
BEGIN:DAYLIGHT
TZOFFSETFROM:-0500
TZOFFSETTO:-0400
TZNAME:EDT
DTSTART:20240310T070000
END:DAYLIGHT
BEGIN:STANDARD
TZOFFSETFROM:-0400
TZOFFSETTO:-0500
TZNAME:EST
DTSTART:20241103T060000
END:STANDARD
BEGIN:DAYLIGHT
TZOFFSETFROM:-0500
TZOFFSETTO:-0400
TZNAME:EDT
DTSTART:20250309T070000
END:DAYLIGHT
BEGIN:STANDARD
TZOFFSETFROM:-0400
TZOFFSETTO:-0500
TZNAME:EST
DTSTART:20251102T060000
END:STANDARD
BEGIN:DAYLIGHT
TZOFFSETFROM:-0500
TZOFFSETTO:-0400
TZNAME:EDT
DTSTART:20260308T070000
END:DAYLIGHT
BEGIN:STANDARD
TZOFFSETFROM:-0400
TZOFFSETTO:-0500
TZNAME:EST
DTSTART:20261101T060000
END:STANDARD
END:VTIMEZONE
BEGIN:VEVENT
DTSTART;VALUE=DATE:20250405
DTEND;VALUE=DATE:20250406
DTSTAMP:20260423T154420
CREATED:20250303T162938Z
LAST-MODIFIED:20250303T162938Z
UID:18552-1743811200-1743897599@www.ectra.org
SUMMARY:Foxcatcher
DESCRIPTION:Offering a 50 mile endurance ride and 25 mile LD. More information and entry available HERE!
URL:https://www.ectra.org/event/foxcatcher-4/
LOCATION:Fair Hill NRMA\, 300 Tawes Dr.\, Elkton\, MD\, 21921\, United States
CATEGORIES:Endurance
ORGANIZER;CN="Maile Irion":MAILTO:endurancenj@gmail.com
END:VEVENT
BEGIN:VEVENT
DTSTART;VALUE=DATE:20250412
DTEND;VALUE=DATE:20250413
DTSTAMP:20260423T154420
CREATED:20250203T162341Z
LAST-MODIFIED:20250307T164802Z
UID:19282-1744416000-1744502399@www.ectra.org
SUMMARY:VERDA Spring Mud Ride & Drive
DESCRIPTION:Offering a 25 mile ride and drive as well as 15 and 10 mile CDD and CDR. More information and entry HERE!
URL:https://www.ectra.org/event/verda-spring-mud-ride-drive/
LOCATION:Heyday Morgans\, 1065 Eureka Road \, VT\, Springfield\, VT\, 05156
CATEGORIES:CTR
ORGANIZER;CN="Jenny Kimberly":MAILTO:jennykimberly@comcast.net
END:VEVENT
BEGIN:VEVENT
DTSTART;VALUE=DATE:20250418
DTEND;VALUE=DATE:20250420
DTSTAMP:20260423T154420
CREATED:20250131T202515Z
LAST-MODIFIED:20250203T171328Z
UID:18554-1744934400-1745107199@www.ectra.org
SUMMARY:No Frills Endurance
DESCRIPTION:Offering a 55 mile endurance ride and 30 mile LD both days.
URL:https://www.ectra.org/event/no-frills-endurance/
CATEGORIES:Endurance
ORGANIZER;CN="Carolyn Blocker":MAILTO:Eagleonvineyard@msn.com
END:VEVENT
BEGIN:VEVENT
DTSTART;VALUE=DATE:20250427
DTEND;VALUE=DATE:20250428
DTSTAMP:20260423T154420
CREATED:20250208T223359Z
LAST-MODIFIED:20250210T184432Z
UID:18561-1745712000-1745798399@www.ectra.org
SUMMARY:Chesapeake Spring
DESCRIPTION:Offering a 25 mile CTR and 10/15 mile CDRs .Information and entry available HERE!
URL:https://www.ectra.org/event/chesapeake-spring-3/
LOCATION:Fair Hill NRMA\, 300 Tawes Dr.\, Elkton\, MD\, 21921\, United States
CATEGORIES:CTR
ORGANIZER;CN="Cate Peloquin":MAILTO:cpenguin57@aol.com
END:VEVENT
END:VCALENDAR