BEGIN:VCALENDAR
VERSION:2.0
PRODID:-//Eastern Competitive Trail Ride Association - ECPv6.15.20//NONSGML v1.0//EN
CALSCALE:GREGORIAN
METHOD:PUBLISH
X-ORIGINAL-URL:https://www.ectra.org
X-WR-CALDESC:Events for Eastern Competitive Trail Ride Association
REFRESH-INTERVAL;VALUE=DURATION:PT1H
X-Robots-Tag:noindex
X-PUBLISHED-TTL:PT1H
BEGIN:VTIMEZONE
TZID:America/New_York
BEGIN:DAYLIGHT
TZOFFSETFROM:-0500
TZOFFSETTO:-0400
TZNAME:EDT
DTSTART:20240310T070000
END:DAYLIGHT
BEGIN:STANDARD
TZOFFSETFROM:-0400
TZOFFSETTO:-0500
TZNAME:EST
DTSTART:20241103T060000
END:STANDARD
BEGIN:DAYLIGHT
TZOFFSETFROM:-0500
TZOFFSETTO:-0400
TZNAME:EDT
DTSTART:20250309T070000
END:DAYLIGHT
BEGIN:STANDARD
TZOFFSETFROM:-0400
TZOFFSETTO:-0500
TZNAME:EST
DTSTART:20251102T060000
END:STANDARD
BEGIN:DAYLIGHT
TZOFFSETFROM:-0500
TZOFFSETTO:-0400
TZNAME:EDT
DTSTART:20260308T070000
END:DAYLIGHT
BEGIN:STANDARD
TZOFFSETFROM:-0400
TZOFFSETTO:-0500
TZNAME:EST
DTSTART:20261101T060000
END:STANDARD
END:VTIMEZONE
BEGIN:VEVENT
DTSTART;VALUE=DATE:20250531
DTEND;VALUE=DATE:20250602
DTSTAMP:20260423T122916
CREATED:20241229T163148Z
LAST-MODIFIED:20250320T130005Z
UID:18465-1748649600-1748822399@www.ectra.org
SUMMARY:Crooked Creek CTR PF
DESCRIPTION:Offering a 25 mile CTR each day and a 12.5 mile CDR each day. Entry and info HERE or you may enter online HERE!
URL:https://www.ectra.org/event/crooked-creek-ctr-pf/
LOCATION:467 Crooked Creek Dam Rd\, Ford City\, PA\, United States\, Pennsylvania 16226\, 467 Crooked Creek Dam Rd\, Ford City\, PA\, 16226\, United States
CATEGORIES:CTR
ORGANIZER;CN="Kat Procyk":MAILTO:psukat18@gmail.com
END:VEVENT
BEGIN:VEVENT
DTSTART;VALUE=DATE:20250607
DTEND;VALUE=DATE:20250608
DTSTAMP:20260423T122916
CREATED:20241229T163419Z
LAST-MODIFIED:20250114T185556Z
UID:18464-1749254400-1749340799@www.ectra.org
SUMMARY:GMHA Spring Ride & Drive PF
DESCRIPTION:Offering a 25 mile CTR and drive as well as a 20\, 15 and 10 mile CTR and CDD
URL:https://www.ectra.org/event/gmha-spring-ride-drive-pf/
LOCATION:GMHA\, 5491 South Rd\,\, South Woodstock\, VT\, 05071\, United States
CATEGORIES:CTR
ORGANIZER;CN="Mickey Perry":MAILTO:mperry@GMHAinc.org
END:VEVENT
BEGIN:VEVENT
DTSTART;VALUE=DATE:20250608
DTEND;VALUE=DATE:20250609
DTSTAMP:20260423T122916
CREATED:20241229T165144Z
LAST-MODIFIED:20250114T185540Z
UID:18484-1749340800-1749427199@www.ectra.org
SUMMARY:GMHA Spring Endurance
DESCRIPTION:Offering a 50 mile endurance ride and a 25 mile LD
URL:https://www.ectra.org/event/gmha-spring-endurance-5/
LOCATION:GMHA\, 5491 South Rd\,\, South Woodstock\, VT\, 05071\, United States
CATEGORIES:Endurance
ORGANIZER;CN="Mickey Perry":MAILTO:mperry@GMHAinc.org
END:VEVENT
BEGIN:VEVENT
DTSTART;VALUE=DATE:20250613
DTEND;VALUE=DATE:20250615
DTSTAMP:20260423T122916
CREATED:20250131T202506Z
LAST-MODIFIED:20250203T171303Z
UID:18556-1749772800-1749945599@www.ectra.org
SUMMARY:Old Dominion
DESCRIPTION:Offering a 55 mile endurance ride and 25 mile LD on Friday.  Saturday will be the 100 mile “Beast of the East”
URL:https://www.ectra.org/event/old-dominion-5/
CATEGORIES:Endurance
ORGANIZER;CN="Christine Roberts":MAILTO:ceroberts11@gmail.com
END:VEVENT
BEGIN:VEVENT
DTSTART;VALUE=DATE:20250621
DTEND;VALUE=DATE:20250623
DTSTAMP:20260423T122916
CREATED:20250131T202442Z
LAST-MODIFIED:20250213T211019Z
UID:18563-1750464000-1750636799@www.ectra.org
SUMMARY:Brookfield Bonanza CTR
DESCRIPTION:Offering a 30 mile CTR each day as well as a 15 mile CDR and a 2 day 60 mile CTR. Flyer and entry form are HERE!
URL:https://www.ectra.org/event/brookfield-bonanza-ctr/
CATEGORIES:CTR
ORGANIZER;CN="Karen Poltynski":MAILTO:sra.poltynski@gmail.com
END:VEVENT
END:VCALENDAR