BEGIN:VCALENDAR
VERSION:2.0
PRODID:-//Eastern Competitive Trail Ride Association - ECPv6.15.20//NONSGML v1.0//EN
CALSCALE:GREGORIAN
METHOD:PUBLISH
X-WR-CALNAME:Eastern Competitive Trail Ride Association
X-ORIGINAL-URL:https://www.ectra.org
X-WR-CALDESC:Events for Eastern Competitive Trail Ride Association
REFRESH-INTERVAL;VALUE=DURATION:PT1H
X-Robots-Tag:noindex
X-PUBLISHED-TTL:PT1H
BEGIN:VTIMEZONE
TZID:America/New_York
BEGIN:DAYLIGHT
TZOFFSETFROM:-0500
TZOFFSETTO:-0400
TZNAME:EDT
DTSTART:20240310T070000
END:DAYLIGHT
BEGIN:STANDARD
TZOFFSETFROM:-0400
TZOFFSETTO:-0500
TZNAME:EST
DTSTART:20241103T060000
END:STANDARD
BEGIN:DAYLIGHT
TZOFFSETFROM:-0500
TZOFFSETTO:-0400
TZNAME:EDT
DTSTART:20250309T070000
END:DAYLIGHT
BEGIN:STANDARD
TZOFFSETFROM:-0400
TZOFFSETTO:-0500
TZNAME:EST
DTSTART:20251102T060000
END:STANDARD
BEGIN:DAYLIGHT
TZOFFSETFROM:-0500
TZOFFSETTO:-0400
TZNAME:EDT
DTSTART:20260308T070000
END:DAYLIGHT
BEGIN:STANDARD
TZOFFSETFROM:-0400
TZOFFSETTO:-0500
TZNAME:EST
DTSTART:20261101T060000
END:STANDARD
END:VTIMEZONE
BEGIN:VEVENT
DTSTART;VALUE=DATE:20250906
DTEND;VALUE=DATE:20250907
DTSTAMP:20260423T073423
CREATED:20241229T165506Z
LAST-MODIFIED:20250818T161504Z
UID:18488-1757116800-1757203199@www.ectra.org
SUMMARY:Hector Half Hundred
DESCRIPTION:Offering a 50 mile endurance ride and 25 mile LD. Ride info HERE!  Entry form HERE!
URL:https://www.ectra.org/event/hector-half-hundred-6/
LOCATION:Logan Valois Hector Volunteer Fire Dept.\, 5736 NY-414\, Hector\, NY\, 14841\, United States
CATEGORIES:Endurance
ORGANIZER;CN="Pamela Karner":MAILTO:drpamkarner@gmail.com
END:VEVENT
BEGIN:VEVENT
DTSTART;VALUE=DATE:20250913
DTEND;VALUE=DATE:20250914
DTSTAMP:20260423T073423
CREATED:20250710T003419Z
LAST-MODIFIED:20250710T003419Z
UID:20403-1757721600-1757807999@www.ectra.org
SUMMARY:USA Northeast Fundraiser Ride
DESCRIPTION:Featuring a 50 mile endurance ride and a 30 mile LD.
URL:https://www.ectra.org/event/usa-northeast-fundraiser-ride/
CATEGORIES:Endurance
ORGANIZER;CN="John  Wert":MAILTO:mwert123@gmail.com
END:VEVENT
BEGIN:VEVENT
DTSTART;VALUE=DATE:20250920
DTEND;VALUE=DATE:20250921
DTSTAMP:20260423T073423
CREATED:20250409T134809Z
LAST-MODIFIED:20250409T134809Z
UID:20284-1758326400-1758412799@www.ectra.org
SUMMARY:VERDA Silver Hill
DESCRIPTION:Offering a 25 mile CTR and 15 mile CDR.  More information and entry available HERE!
URL:https://www.ectra.org/event/verda-silver-hill-2/
LOCATION:Smoke Rise Farm\, 1851 Silver Hill Road\, West Windsor\, VT\, United States
CATEGORIES:CTR
ORGANIZER;CN="Kathy Hall":MAILTO:kathy.stormybrook@gmail.com
END:VEVENT
BEGIN:VEVENT
DTSTART;VALUE=DATE:20250920
DTEND;VALUE=DATE:20250922
DTSTAMP:20260423T073423
CREATED:20250208T223332Z
LAST-MODIFIED:20250923T145636Z
UID:18577-1758326400-1758499199@www.ectra.org
SUMMARY:Fall Chesapeake - CANCELLED
DESCRIPTION:Offering a 2 day 50 mile CTR\, 2 days of 25 mile CTRs and CDRs. NEW this year – DRIVING options – 25 mile CTD both days and a 2 day 50 mile CTD.  A 10 mile CDD will also be offered both days!  More information and entry HERE!
URL:https://www.ectra.org/event/fall-chesapeake-3/
LOCATION:Fair Hill NRMA\, 300 Tawes Dr.\, Elkton\, MD\, 21921\, United States
CATEGORIES:CTR
ORGANIZER;CN="Cate Peloquin":MAILTO:cpenguin57@aol.com
END:VEVENT
BEGIN:VEVENT
DTSTART;VALUE=DATE:20250927
DTEND;VALUE=DATE:20250929
DTSTAMP:20260423T073423
CREATED:20250811T122814Z
LAST-MODIFIED:20250811T123047Z
UID:18579-1758931200-1759103999@www.ectra.org
SUMMARY:Chautauqua Challenge
DESCRIPTION:Offering a 50 mile endurance ride and 30 mile LD on the 27th and a 30 mile LD on the 28th.
URL:https://www.ectra.org/event/chautauqua-challenge-2/
CATEGORIES:Endurance
ORGANIZER;CN="Helen Lynn":MAILTO:hrlynn5@gmail.com
END:VEVENT
END:VCALENDAR