BEGIN:VCALENDAR
VERSION:2.0
PRODID:-//Eastern Competitive Trail Ride Association - ECPv6.15.20//NONSGML v1.0//EN
CALSCALE:GREGORIAN
METHOD:PUBLISH
X-WR-CALNAME:Eastern Competitive Trail Ride Association
X-ORIGINAL-URL:https://www.ectra.org
X-WR-CALDESC:Events for Eastern Competitive Trail Ride Association
REFRESH-INTERVAL;VALUE=DURATION:PT1H
X-Robots-Tag:noindex
X-PUBLISHED-TTL:PT1H
BEGIN:VTIMEZONE
TZID:America/New_York
BEGIN:DAYLIGHT
TZOFFSETFROM:-0500
TZOFFSETTO:-0400
TZNAME:EDT
DTSTART:20240310T070000
END:DAYLIGHT
BEGIN:STANDARD
TZOFFSETFROM:-0400
TZOFFSETTO:-0500
TZNAME:EST
DTSTART:20241103T060000
END:STANDARD
BEGIN:DAYLIGHT
TZOFFSETFROM:-0500
TZOFFSETTO:-0400
TZNAME:EDT
DTSTART:20250309T070000
END:DAYLIGHT
BEGIN:STANDARD
TZOFFSETFROM:-0400
TZOFFSETTO:-0500
TZNAME:EST
DTSTART:20251102T060000
END:STANDARD
BEGIN:DAYLIGHT
TZOFFSETFROM:-0500
TZOFFSETTO:-0400
TZNAME:EDT
DTSTART:20260308T070000
END:DAYLIGHT
BEGIN:STANDARD
TZOFFSETFROM:-0400
TZOFFSETTO:-0500
TZNAME:EST
DTSTART:20261101T060000
END:STANDARD
END:VTIMEZONE
BEGIN:VEVENT
DTSTART;VALUE=DATE:20251004
DTEND;VALUE=DATE:20251005
DTSTAMP:20260423T054936
CREATED:20241229T165632Z
LAST-MODIFIED:20250323T233502Z
UID:18490-1759536000-1759622399@www.ectra.org
SUMMARY:Mustang Memorial
DESCRIPTION:Offering a 75 and 50 mile endurance ride and a 30 mile LD.
URL:https://www.ectra.org/event/mustang-memorial-5/
CATEGORIES:Endurance
ORGANIZER;CN="Maile Irion":MAILTO:endurancenj@gmail.com
END:VEVENT
BEGIN:VEVENT
DTSTART;VALUE=DATE:20251011
DTEND;VALUE=DATE:20251012
DTSTAMP:20260423T054936
CREATED:20241229T165726Z
LAST-MODIFIED:20250114T185419Z
UID:18492-1760140800-1760227199@www.ectra.org
SUMMARY:GMHA Fall Endurance
DESCRIPTION:Offering a 50 mile endurance ride and a 30 mile LD
URL:https://www.ectra.org/event/gmha-fall-endurance-5/
LOCATION:GMHA\, 5491 South Rd\,\, South Woodstock\, VT\, 05071\, United States
CATEGORIES:Endurance
ORGANIZER;CN="Mickey Perry":MAILTO:mperry@GMHAinc.org
END:VEVENT
BEGIN:VEVENT
DTSTART;VALUE=DATE:20251017
DTEND;VALUE=DATE:20251019
DTSTAMP:20260423T054936
CREATED:20250131T202310Z
LAST-MODIFIED:20250203T171506Z
UID:18559-1760659200-1760831999@www.ectra.org
SUMMARY:Fort Valley
DESCRIPTION:Offering a 50 mile endurance ride and 30 mile LD each day.
URL:https://www.ectra.org/event/fort-valley-5/
CATEGORIES:Endurance
ORGANIZER;CN="Carolyn Blocker":MAILTO:Eagleonvineyard@msn.com
END:VEVENT
BEGIN:VEVENT
DTSTART;VALUE=DATE:20251026
DTEND;VALUE=DATE:20251027
DTSTAMP:20260423T054936
CREATED:20250203T171036Z
LAST-MODIFIED:20250923T145740Z
UID:19290-1761436800-1761523199@www.ectra.org
SUMMARY:VERDA Fall Finale - CANCELLED
DESCRIPTION:Offering a 25 mile CTR and competitive drive as well as a 10 and 15 mile CDR/CDD.  Pass file option available. More information and entry HERE!
URL:https://www.ectra.org/event/verda-fall-finale/
LOCATION:Smoke Rise Farm\, 1851 Silver Hill Road\, West Windsor\, VT\, United States
CATEGORIES:CTR
ORGANIZER;CN="Jenny Kimberly":MAILTO:jennykimberly@comcast.net
END:VEVENT
END:VCALENDAR