BEGIN:VCALENDAR
VERSION:2.0
PRODID:-//Eastern Competitive Trail Ride Association - ECPv6.15.20//NONSGML v1.0//EN
CALSCALE:GREGORIAN
METHOD:PUBLISH
X-ORIGINAL-URL:https://www.ectra.org
X-WR-CALDESC:Events for Eastern Competitive Trail Ride Association
REFRESH-INTERVAL;VALUE=DURATION:PT1H
X-Robots-Tag:noindex
X-PUBLISHED-TTL:PT1H
BEGIN:VTIMEZONE
TZID:America/New_York
BEGIN:DAYLIGHT
TZOFFSETFROM:-0500
TZOFFSETTO:-0400
TZNAME:EDT
DTSTART:20250309T070000
END:DAYLIGHT
BEGIN:STANDARD
TZOFFSETFROM:-0400
TZOFFSETTO:-0500
TZNAME:EST
DTSTART:20251102T060000
END:STANDARD
BEGIN:DAYLIGHT
TZOFFSETFROM:-0500
TZOFFSETTO:-0400
TZNAME:EDT
DTSTART:20260308T070000
END:DAYLIGHT
BEGIN:STANDARD
TZOFFSETFROM:-0400
TZOFFSETTO:-0500
TZNAME:EST
DTSTART:20261101T060000
END:STANDARD
BEGIN:DAYLIGHT
TZOFFSETFROM:-0500
TZOFFSETTO:-0400
TZNAME:EDT
DTSTART:20270314T070000
END:DAYLIGHT
BEGIN:STANDARD
TZOFFSETFROM:-0400
TZOFFSETTO:-0500
TZNAME:EST
DTSTART:20271107T060000
END:STANDARD
END:VTIMEZONE
BEGIN:VEVENT
DTSTART;VALUE=DATE:20260904
DTEND;VALUE=DATE:20260907
DTSTAMP:20260423T043312
CREATED:20260112T164632Z
LAST-MODIFIED:20260112T164717Z
UID:20540-1788480000-1788739199@www.ectra.org
SUMMARY:GMHA Distance Days & GMHA 100
DESCRIPTION:Offering 2 days of 40 mile CTRs and 1 100 mile 3 day CTR as well as various CDRs each day
URL:https://www.ectra.org/event/gmha-distance-days-gmha-100/
LOCATION:GMHA\, 5491 South Rd\,\, South Woodstock\, VT\, 05071\, United States
CATEGORIES:CTR
ORGANIZER;CN="Jeannette Cole":MAILTO:trails@gmhainc.org
END:VEVENT
BEGIN:VEVENT
DTSTART;VALUE=DATE:20260912
DTEND;VALUE=DATE:20260913
DTSTAMP:20260423T043312
CREATED:20260205T132605Z
LAST-MODIFIED:20260205T132605Z
UID:20542-1789171200-1789257599@www.ectra.org
SUMMARY:Hector Half Hundred Endurance
DESCRIPTION:Offering a 50 mile endurance ride and a 25 mile LD
URL:https://www.ectra.org/event/hector-half-hundred-endurance/
CATEGORIES:Endurance
ORGANIZER;CN="Pamela Karner":MAILTO:drpamkarner@gmail.com
END:VEVENT
BEGIN:VEVENT
DTSTART;VALUE=DATE:20260919
DTEND;VALUE=DATE:20260921
DTSTAMP:20260423T043312
CREATED:20260301T140704Z
LAST-MODIFIED:20260303T162216Z
UID:20544-1789776000-1789948799@www.ectra.org
SUMMARY:Chesapeake Fall
DESCRIPTION:Offering a 25 mile CTR each day and a 50 mile 2 day CTR as well as 10 and 15 mile CDRs both days. Also offering a 25 mile competitive drive each day as well as a 50 mile 2 day drive and 10 and 15 mile conditioning drives.
URL:https://www.ectra.org/event/chesapeake-fall-4/
LOCATION:Fair Hill NRMA\, 300 Tawes Dr.\, Elkton\, MD\, 21921\, United States
CATEGORIES:CTR
ORGANIZER;CN="Cate Peloquin":MAILTO:cpenguin57@aol.com
END:VEVENT
BEGIN:VEVENT
DTSTART;VALUE=DATE:20260926
DTEND;VALUE=DATE:20260927
DTSTAMP:20260423T043312
CREATED:20251231T003448Z
LAST-MODIFIED:20251231T003448Z
UID:20546-1790380800-1790467199@www.ectra.org
SUMMARY:VERDA Silver Hill
DESCRIPTION:Offering a 25 mile CTR and 15 mile CDR.
URL:https://www.ectra.org/event/verda-silver-hill-3/
CATEGORIES:CTR
ORGANIZER;CN="Kathy Hall":MAILTO:kathy.stormybrook@gmail.com
END:VEVENT
END:VCALENDAR